{"text_format":"1","workbook":"xlsx","n_sheets":7,"sheets":["Instructions","TD-2R-DETAIL","TD-2R-EC","LEAVE RATES","SUMMARY","DPI Use - LEA Info ","Module1"],"not_rendered":{"charts":0,"images":0,"macros":1,"external_links":1,"defined_names":7,"comments":0,"pivot_tables":0},"unopened":[{"sheet":"Module1","index":6,"reason":"part_missing"}],"bounds":{"document_bytes":16777216,"sheet_cells":100000,"rows_first":2000,"rows_last":500,"rows_between":2000,"halvings":0,"cell_chars":16384,"cell_head_chars":4096},"cells_cut":0,"cells_raw":0,"read":"whole","date_system":"1900"}

{"sheet":"Instructions","index":0,"n_rows":83,"n_cols":2,"rows_kept":83,"cut":false,"hidden":false,"merged":[]}
["INSTRUCTIONS FOR FORM TD-2R"]
["DUE October 16, 2023"]
[]
["Enter the Unit Name and Number using drop down arrow on the Summary Tab"]
[]
["Col. A   Leave Rate  - Enter Leave Rate (Determine years of state service for eligible driver and enter leave rate from \"Leave Rate Chart.\")"]
[]
["Col. 1   Bus Number - Enter the number of the bus assigned to the route."]
[]
["Col. 2    School Number - Enter the number of the school at which the bus is assigned."]
[]
["Col. 3    Driver Name - Enter name of the driver assigned to the bus route."]
[]
["Col. 4    Employment Status - Enter one of the following codes that applies to the driver:"]
[]
[null,"FP - Full Time Permanent - Employee who drives a school bus 30 or more hours per"]
[null,"week and receives benefits normally associated with permanent employment"]
[null,"(retirement, social security, hospitalization, and leave time)."]
[]
[null,"FS - Full Time Permanent (split-funded) - Employee who drives a school bus and works"]
[null,"in another capacity for the school system, whereby all combined work equals 30 or more"]
[null,"hours per week and receives benefits for the driving duties (retirement, social security,"]
[null,"hospitalization, and leave time)."]
[]
[null,"FO - Full Time Other - Employee who drives a school bus or works a split-funded job 30"]
[null,"or more hours per week but does not contribute to retirement for the driving duties. The"]
[null,"employee may or may not receive leave benefits."]
[]
[null,"PP - Part Time Permanent - Employee who drives a school bus 20 but less than 30"]
[null,"hours per week and receives leave benefits."]
[]
[null,"PS - Part Time Permanent (split-funded) - Employee who drives a school bus and works"]
[null,"in another capacity for the school system whereby all combined work equals 20 but less"]
[null,"than 30 hours per week and receives leave benefits for the driving duties."]
[]
[null,"PO - Part Time Other - Employee who drives a school bus or works a split-funded job"]
[null,"20 hours but less than 30 hours per week and does not receive leave benefits for bus"]
[null,"driving."]
[]
[null,"PT - Part Time Temporary - Employee who drives a school bus less than 20 hours per"]
[null,"week."]
[]
[null,"ST - Student - All high school students who drive a school bus regardless of age or if"]
[null,"earning any leave benefits."]
[]
["Col.  5  Total Route Mileage Per Day - Enter the round-trip mileage (to nearest tenth)."]
[]
["Col. 6    Total Route Time Per Day - Enter in this column the total time (hours & tenths) "]
[null,"for the bus driver for this route. Include all route time incurred"]
[null,"by buses operated from approved staging areas, time between driver's home and route"]
[null,"before first a.m. trip and after last p.m. trip, necessary layover and travel between routes"]
[null,"when buses are assigned to two or more routes and time pupils are assigned to bus. Do"]
[null,"not include other non-pupil contact driver time, e.g. waiting for buses to be serviced, trips"]
[null,"authorized to private residences or businesses for parking during the school day and"]
[null,"other trips not directly related to transporting pupils."]
[]
["Col. 7  Minutes Per Mile - Divide Column 8 (convert to minutes) by column 7 (to nearest tenth)"]
[null,"(This is a calculated field)"]
[]
["Col. 8    Hourly Rate Of Pay - Enter the hourly rate of pay. Include only State supplied funds"]
[null,"Do not include local supplements."]
[]
["Col. 9    Daily Rate of Pay - Column 8 (in hours/tenths) X Column 10."]
[null,"(This is a calculated field)"]
[]
["Col. 10 Holidays - Enter the hours the driver will be paid for holidays this school year (Column"]
[null,"8 x 10 or 11 days)."]
[null,"(This is a calculated field)"]
[]
["Col. 11   Annual Leave - Enter the hours the driver will earn for annual leave vacation this"]
[null,"school year. (Do not include any prior year's accumulated leave.)"]
[null,"(This is a calculated field)"]
[]
["Col. 12   Miscellaneous Leave - For this column, enter one-half the hours the driver will earn"]
[null,"for sick leave this school year (1/2 column 8 x 10 months) and any other authorized"]
[null,"leave such as military duty. (Do not include any prior year's accumulated leave)."]
[null,"(This is a calculated field)"]
[]
["Col. 13   Total Leave - Column 12 + Column 13 + Column 14."]
[null,"(This is a calculated field)"]
[]
["Col. 14   Leave Compensation - Column 10 x Column 15."]
[null,"(This is a calculated field)"]

{"sheet":"TD-2R-DETAIL","index":1,"n_rows":2092,"n_cols":18,"rows_kept":2092,"cut":false,"hidden":false,"merged":[[0,0,0,14],[1,0,1,14],[2,0,2,14],[3,0,3,14],[4,0,4,14]]}
["PUBLIC SCHOOLS OF NORTH CAROLINA"]
["STATE BOARD OF EDUCATION - DEPARTMENT OF PUBLIC INSTRUCTION"]
["OFFICE OF DISTRICT OPERATIONS/TRANSPORTATION SERVICES"]
[" DRIVER SALARY AND ROUTE TIMES REPORT"]
["2023-2024 - REGULAR BUS DRIVER ROUTE DETAILS"]
[]
["LEAVE",1,2,3,4,5,6,7,8,9,10,11,12,13,14]
["RATE","BUS","SCH.","DRIVER","EMP.","RT. MI.","ROUTE","MIN/","HOURLY","DAILY","Holiday","Ann. Lv.","Misc. Lv.","Totl Lv","LEAVE"]
["(not printed)","NO.","NO.","NAME","ST","DAILY","HOURS","MILE","RATE","RATE","Hours","Hours","Hours","Hours","COMPENSATION","Person ID","Unique Check","Subtract"]
[null,{"$f":"SUM(IF(FREQUENCY(IF(LEN(B11:B2087)>0,MATCH(B11:B2087,B11:B2087,0),\"\"),IF(LEN(B11:B2087)>0,MATCH(B11:B2087,B11:B2087,0),\"\"))>0,1))","v":0},"<-------","# Unique Buses","xxxxxxxx",{"$f":"SUM(F11:F2077)","v":0},{"$f":"SUM(G11:G2077)","v":0},{"$f":"IF(ISERR(AVERAGE(H11:H2077)),\"\",(AVERAGE(H11:H2076)))","v":""},{"$f":"IF(ISERR(AVERAGE(I11:I2077)),\"\",(AVERAGE(I11:I2076)))","v":""},{"$f":"SUM(J11:J2077)","v":0},0,0,0,0,0]
[null,null,null,null,null,null,null,{"$f":"IF(ISBLANK(F11),\"\",SUM(G11*60)/F11)","v":""},null,{"$f":"IF(NOT(ISBLANK(G11)),G11*I11,\"\")","v":""},{"$f":"IF(NOT(ISBLANK(G11)),IF(A11>0,10*G11,\"\"),\"\")","v":""},{"$f":"IF(NOT(ISBLANK(G11)),IF(A11> 0,10*SUM(A11*G11),\"\"),\"\")","v":""},{"$f":"IF(NOT(ISBLANK(H11)),IF(A11> 0,G11/2*10,\"\"),\"\")","v":""},{"$f":"IF(NOT(ISBLANK(G11)),SUM(K11:M11),\"\")","v":""},{"$f":"IF(NOT(ISBLANK(I11)),I11*N11,\"\")","v":""},{"$f":"A11&D11&E11","v":""},{"$f":"IF(P11=\"\",\"\",COUNTIF(P12:$P$2087,P11)+COUNTIF('TD-2R-EC'!$P$11:$P$612,P11))","v":""},{"$f":"IF(Q11>0,RIGHT(P11,2),\"\")","v":""}]
[null,null,null,null,null,null,null,"",null,"","","","","","","",{"$f":"IF(P12=\"\",\"\",COUNTIF(P13:$P$2087,P12)+COUNTIF('TD-2R-EC'!$P$11:$P$612,P12))","v":""},{"$f":"IF(Q12>0,RIGHT(P12,2),\"\")","v":""}]
[null,null,null,null,null,null,null,"",null,"","","","","","","",{"$f":"IF(P13=\"\",\"\",COUNTIF(P14:$P$2087,P13)+COUNTIF('TD-2R-EC'!$P$11:$P$612,P13))","v":""},""]
[null,null,null,null,null,null,null,"",null,"","","","","","","",{"$f":"IF(P14=\"\",\"\",COUNTIF(P15:$P$2087,P14)+COUNTIF('TD-2R-EC'!$P$11:$P$612,P14))","v":""},""]
[null,null,null,null,null,null,null,"",null,"","","","","","","",{"$f":"IF(P15=\"\",\"\",COUNTIF(P16:$P$2087,P15)+COUNTIF('TD-2R-EC'!$P$11:$P$612,P15))","v":""},""]
[null,null,null,null,null,null,null,"",null,"","","","","","","",{"$f":"IF(P16=\"\",\"\",COUNTIF(P17:$P$2087,P16)+COUNTIF('TD-2R-EC'!$P$11:$P$612,P16))","v":""},""]
[null,null,null,null,null,null,null,"",null,"","","","","","","",{"$f":"IF(P17=\"\",\"\",COUNTIF(P18:$P$2087,P17)+COUNTIF('TD-2R-EC'!$P$11:$P$612,P17))","v":""},""]
[null,null,null,null,null,null,null,"",null,"","","","","","","",{"$f":"IF(P18=\"\",\"\",COUNTIF(P19:$P$2087,P18)+COUNTIF('TD-2R-EC'!$P$11:$P$612,P18))","v":""},""]
[null,null,null,null,null,null,null,"",null,"","","","","","","",{"$f":"IF(P19=\"\",\"\",COUNTIF(P20:$P$2087,P19)+COUNTIF('TD-2R-EC'!$P$11:$P$612,P19))","v":""},""]
[null,null,null,null,null,null,null,"",null,"","","","","","","",{"$f":"IF(P20=\"\",\"\",COUNTIF(P21:$P$2087,P20)+COUNTIF('TD-2R-EC'!$P$11:$P$612,P20))","v":""},""]
[null,null,null,null,null,null,null,"",null,"","","","","","","",{"$f":"IF(P21=\"\",\"\",COUNTIF(P22:$P$2087,P21)+COUNTIF('TD-2R-EC'!$P$11:$P$612,P21))","v":""},""]
[null,null,null,null,null,null,null,"",null,"","","","","","","",{"$f":"IF(P22=\"\",\"\",COUNTIF(P23:$P$2087,P22)+COUNTIF('TD-2R-EC'!$P$11:$P$612,P22))","v":""},""]
[null,null,null,null,null,null,null,"",null,"","","","","","","",{"$f":"IF(P23=\"\",\"\",COUNTIF(P24:$P$2087,P23)+COUNTIF('TD-2R-EC'!$P$11:$P$612,P23))","v":""},""]
[null,null,null,null,null,null,null,"",null,"","","","","","","",{"$f":"IF(P24=\"\",\"\",COUNTIF(P25:$P$2087,P24)+COUNTIF('TD-2R-EC'!$P$11:$P$612,P24))","v":""},""]
[null,null,null,null,null,null,null,"",null,"","","","","","","",{"$f":"IF(P25=\"\",\"\",COUNTIF(P26:$P$2087,P25)+COUNTIF('TD-2R-EC'!$P$11:$P$612,P25))","v":""},""]
[null,null,null,null,null,null,null,"",null,"","","","","","","",{"$f":"IF(P26=\"\",\"\",COUNTIF(P27:$P$2087,P26)+COUNTIF('TD-2R-EC'!$P$11:$P$612,P26))","v":""},""]
[null,null,null,null,null,null,null,"",null,"","","","","","","",{"$f":"IF(P27=\"\",\"\",COUNTIF(P28:$P$2087,P27)+COUNTIF('TD-2R-EC'!$P$11:$P$612,P27))","v":""},""]
[null,null,null,null,null,null,null,"",null,"","","","","","","",{"$f":"IF(P28=\"\",\"\",COUNTIF(P29:$P$2087,P28)+COUNTIF('TD-2R-EC'!$P$11:$P$612,P28))","v":""},""]
[null,null,null,null,null,null,null,"",null,"","","","","","","",{"$f":"IF(P29=\"\",\"\",COUNTIF(P30:$P$2087,P29)+COUNTIF('TD-2R-EC'!$P$11:$P$612,P29))","v":""},""]
[null,null,null,null,null,null,null,"",null,"","","","","","","",{"$f":"IF(P30=\"\",\"\",COUNTIF(P31:$P$2087,P30)+COUNTIF('TD-2R-EC'!$P$11:$P$612,P30))","v":""},""]
[null,null,null,null,null,null,null,"",null,"","","","","","","",{"$f":"IF(P31=\"\",\"\",COUNTIF(P32:$P$2087,P31)+COUNTIF('TD-2R-EC'!$P$11:$P$612,P31))","v":""},""]
[null,null,null,null,null,null,null,"",null,"","","","","","","",{"$f":"IF(P32=\"\",\"\",COUNTIF(P33:$P$2087,P32)+COUNTIF('TD-2R-EC'!$P$11:$P$612,P32))","v":""},""]
[null,null,null,null,null,null,null,"",null,"","","","","","","",{"$f":"IF(P33=\"\",\"\",COUNTIF(P34:$P$2087,P33)+COUNTIF('TD-2R-EC'!$P$11:$P$612,P33))","v":""},""]
[null,null,null,null,null,null,null,"",null,"","","","","","","",{"$f":"IF(P34=\"\",\"\",COUNTIF(P35:$P$2087,P34)+COUNTIF('TD-2R-EC'!$P$11:$P$612,P34))","v":""},""]
[null,null,null,null,null,null,null,"",null,"","","","","","","",{"$f":"IF(P35=\"\",\"\",COUNTIF(P36:$P$2087,P35)+COUNTIF('TD-2R-EC'!$P$11:$P$612,P35))","v":""},""]
[null,null,null,null,null,null,null,"",null,"","","","","","","",{"$f":"IF(P36=\"\",\"\",COUNTIF(P37:$P$2087,P36)+COUNTIF('TD-2R-EC'!$P$11:$P$612,P36))","v":""},""]
[null,null,null,null,null,null,null,"",null,"","","","","","","",{"$f":"IF(P37=\"\",\"\",COUNTIF(P38:$P$2087,P37)+COUNTIF('TD-2R-EC'!$P$11:$P$612,P37))","v":""},""]
[null,null,null,null,null,null,null,"",null,"","","","","","","",{"$f":"IF(P38=\"\",\"\",COUNTIF(P39:$P$2087,P38)+COUNTIF('TD-2R-EC'!$P$11:$P$612,P38))","v":""},""]
[null,null,null,null,null,null,null,"",null,"","","","","","","",{"$f":"IF(P39=\"\",\"\",COUNTIF(P40:$P$2087,P39)+COUNTIF('TD-2R-EC'!$P$11:$P$612,P39))","v":""},""]
[null,null,null,null,null,null,null,"",null,"","","","","","","",{"$f":"IF(P40=\"\",\"\",COUNTIF(P41:$P$2087,P40)+COUNTIF('TD-2R-EC'!$P$11:$P$612,P40))","v":""},""]
[null,null,null,null,null,null,null,"",null,"","","","","","","",{"$f":"IF(P41=\"\",\"\",COUNTIF(P42:$P$2087,P41)+COUNTIF('TD-2R-EC'!$P$11:$P$612,P41))","v":""},""]
[null,null,null,null,null,null,null,"",null,"","","","","","","",{"$f":"IF(P42=\"\",\"\",COUNTIF(P43:$P$2087,P42)+COUNTIF('TD-2R-EC'!$P$11:$P$612,P42))","v":""},""]
[null,null,null,null,null,null,null,"",null,"","","","","","","",{"$f":"IF(P43=\"\",\"\",COUNTIF(P44:$P$2087,P43)+COUNTIF('TD-2R-EC'!$P$11:$P$612,P43))","v":""},""]
[null,null,null,null,null,null,null,"",null,"","","","","","","",{"$f":"IF(P44=\"\",\"\",COUNTIF(P45:$P$2087,P44)+COUNTIF('TD-2R-EC'!$P$11:$P$612,P44))","v":""},""]
[null,null,null,null,null,null,null,"",null,"","","","","","","",{"$f":"IF(P45=\"\",\"\",COUNTIF(P46:$P$2087,P45)+COUNTIF('TD-2R-EC'!$P$11:$P$612,P45))","v":""},""]
[null,null,null,null,null,null,null,"",null,"","","","","","","",{"$f":"IF(P46=\"\",\"\",COUNTIF(P47:$P$2087,P46)+COUNTIF('TD-2R-EC'!$P$11:$P$612,P46))","v":""},""]
[null,null,null,null,null,null,null,"",null,"","","","","","","",{"$f":"IF(P47=\"\",\"\",COUNTIF(P48:$P$2087,P47)+COUNTIF('TD-2R-EC'!$P$11:$P$612,P47))","v":""},""]
[null,null,null,null,null,null,null,"",null,"","","","","","","",{"$f":"IF(P48=\"\",\"\",COUNTIF(P49:$P$2087,P48)+COUNTIF('TD-2R-EC'!$P$11:$P$612,P48))","v":""},""]
[null,null,null,null,null,null,null,"",null,"","","","","","","",{"$f":"IF(P49=\"\",\"\",COUNTIF(P50:$P$2087,P49)+COUNTIF('TD-2R-EC'!$P$11:$P$612,P49))","v":""},""]
[null,null,null,null,null,null,null,"",null,"","","","","","","",{"$f":"IF(P50=\"\",\"\",COUNTIF(P51:$P$2087,P50)+COUNTIF('TD-2R-EC'!$P$11:$P$612,P50))","v":""},""]
[null,null,null,null,null,null,null,"",null,"","","","","","","",{"$f":"IF(P51=\"\",\"\",COUNTIF(P52:$P$2087,P51)+COUNTIF('TD-2R-EC'!$P$11:$P$612,P51))","v":""},""]
[null,null,null,null,null,null,null,"",null,"","","","","","","",{"$f":"IF(P52=\"\",\"\",COUNTIF(P53:$P$2087,P52)+COUNTIF('TD-2R-EC'!$P$11:$P$612,P52))","v":""},""]
[null,null,null,null,null,null,null,"",null,"","","","","","","",{"$f":"IF(P53=\"\",\"\",COUNTIF(P54:$P$2087,P53)+COUNTIF('TD-2R-EC'!$P$11:$P$612,P53))","v":""},""]
[null,null,null,null,null,null,null,"",null,"","","","","","","",{"$f":"IF(P54=\"\",\"\",COUNTIF(P55:$P$2087,P54)+COUNTIF('TD-2R-EC'!$P$11:$P$612,P54))","v":""},""]
[null,null,null,null,null,null,null,"",null,"","","","","","","",{"$f":"IF(P55=\"\",\"\",COUNTIF(P56:$P$2087,P55)+COUNTIF('TD-2R-EC'!$P$11:$P$612,P55))","v":""},""]
[null,null,null,null,null,null,null,"",null,"","","","","","","",{"$f":"IF(P56=\"\",\"\",COUNTIF(P57:$P$2087,P56)+COUNTIF('TD-2R-EC'!$P$11:$P$612,P56))","v":""},""]
[null,null,null,null,null,null,null,"",null,"","","","","","","",{"$f":"IF(P57=\"\",\"\",COUNTIF(P58:$P$2087,P57)+COUNTIF('TD-2R-EC'!$P$11:$P$612,P57))","v":""},""]
[null,null,null,null,null,null,null,"",null,"","","","","","","",{"$f":"IF(P58=\"\",\"\",COUNTIF(P59:$P$2087,P58)+COUNTIF('TD-2R-EC'!$P$11:$P$612,P58))","v":""},""]
[null,null,null,null,null,null,null,"",null,"","","","","","","",{"$f":"IF(P59=\"\",\"\",COUNTIF(P60:$P$2087,P59)+COUNTIF('TD-2R-EC'!$P$11:$P$612,P59))","v":""},""]
[null,null,null,null,null,null,null,"",null,"","","","","","","",{"$f":"IF(P60=\"\",\"\",COUNTIF(P61:$P$2087,P60)+COUNTIF('TD-2R-EC'!$P$11:$P$612,P60))","v":""},""]
[null,null,null,null,null,null,null,"",null,"","","","","","","",{"$f":"IF(P61=\"\",\"\",COUNTIF(P62:$P$2087,P61)+COUNTIF('TD-2R-EC'!$P$11:$P$612,P61))","v":""},""]
[null,null,null,null,null,null,null,"",null,"","","","","","","",{"$f":"IF(P62=\"\",\"\",COUNTIF(P63:$P$2087,P62)+COUNTIF('TD-2R-EC'!$P$11:$P$612,P62))","v":""},""]
[null,null,null,null,null,null,null,"",null,"","","","","","","",{"$f":"IF(P63=\"\",\"\",COUNTIF(P64:$P$2087,P63)+COUNTIF('TD-2R-EC'!$P$11:$P$612,P63))","v":""},""]
[null,null,null,null,null,null,null,"",null,"","","","","","","",{"$f":"IF(P64=\"\",\"\",COUNTIF(P65:$P$2087,P64)+COUNTIF('TD-2R-EC'!$P$11:$P$612,P64))","v":""},""]
[null,null,null,null,null,null,null,"",null,"","","","","","","",{"$f":"IF(P65=\"\",\"\",COUNTIF(P66:$P$2087,P65)+COUNTIF('TD-2R-EC'!$P$11:$P$612,P65))","v":""},""]
[null,null,null,null,null,null,null,"",null,"","","","","","","",{"$f":"IF(P66=\"\",\"\",COUNTIF(P67:$P$2087,P66)+COUNTIF('TD-2R-EC'!$P$11:$P$612,P66))","v":""},""]
[null,null,null,null,null,null,null,"",null,"","","","","","","",{"$f":"IF(P67=\"\",\"\",COUNTIF(P68:$P$2087,P67)+COUNTIF('TD-2R-EC'!$P$11:$P$612,P67))","v":""},""]
[null,null,null,null,null,null,null,"",null,"","","","","","","",{"$f":"IF(P68=\"\",\"\",COUNTIF(P69:$P$2087,P68)+COUNTIF('TD-2R-EC'!$P$11:$P$612,P68))","v":""},""]
[null,null,null,null,null,null,null,"",null,"","","","","","","",{"$f":"IF(P69=\"\",\"\",COUNTIF(P70:$P$2087,P69)+COUNTIF('TD-2R-EC'!$P$11:$P$612,P69))","v":""},""]
[null,null,null,null,null,null,null,"",null,"","","","","","","",{"$f":"IF(P70=\"\",\"\",COUNTIF(P71:$P$2087,P70)+COUNTIF('TD-2R-EC'!$P$11:$P$612,P70))","v":""},""]
[null,null,null,null,null,null,null,"",null,"","","","","","","",{"$f":"IF(P71=\"\",\"\",COUNTIF(P72:$P$2087,P71)+COUNTIF('TD-2R-EC'!$P$11:$P$612,P71))","v":""},""]
[null,null,null,null,null,null,null,"",null,"","","","","","","",{"$f":"IF(P72=\"\",\"\",COUNTIF(P73:$P$2087,P72)+COUNTIF('TD-2R-EC'!$P$11:$P$612,P72))","v":""},""]
[null,null,null,null,null,null,null,"",null,"","","","","","","",{"$f":"IF(P73=\"\",\"\",COUNTIF(P74:$P$2087,P73)+COUNTIF('TD-2R-EC'!$P$11:$P$612,P73))","v":""},""]
[null,null,null,null,null,null,null,"",null,"","","","","","","",{"$f":"IF(P74=\"\",\"\",COUNTIF(P75:$P$2087,P74)+COUNTIF('TD-2R-EC'!$P$11:$P$612,P74))","v":""},""]
[null,null,null,null,null,null,null,{"$f":"IF(ISBLANK(F75),\"\",SUM(G75*60)/F75)","v":""},null,{"$f":"IF(NOT(ISBLANK(G75)),G75*I75,\"\")","v":""},{"$f":"IF(NOT(ISBLANK(G75)),IF(A75>0,10*G75,\"\"),\"\")","v":""},{"$f":"IF(NOT(ISBLANK(G75)),IF(A75> 0,10*SUM(A75*G75),\"\"),\"\")","v":""},{"$f":"IF(NOT(ISBLANK(H75)),IF(A75> 0,G75/2*10,\"\"),\"\")","v":""},{"$f":"IF(NOT(ISBLANK(G75)),SUM(K75:M75),\"\")","v":""},{"$f":"IF(NOT(ISBLANK(I75)),I75*N75,\"\")","v":""},{"$f":"A75&D75&E75","v":""},{"$f":"IF(P75=\"\",\"\",COUNTIF(P76:$P$2087,P75)+COUNTIF('TD-2R-EC'!$P$11:$P$612,P75))","v":""},""]
[null,null,null,null,null,null,null,"",null,"","","","","","","",{"$f":"IF(P76=\"\",\"\",COUNTIF(P77:$P$2087,P76)+COUNTIF('TD-2R-EC'!$P$11:$P$612,P76))","v":""},{"$f":"IF(Q76>0,RIGHT(P76,2),\"\")","v":""}]
[null,null,null,null,null,null,null,"",null,"","","","","","","",{"$f":"IF(P77=\"\",\"\",COUNTIF(P78:$P$2087,P77)+COUNTIF('TD-2R-EC'!$P$11:$P$612,P77))","v":""},""]
[null,null,null,null,null,null,null,"",null,"","","","","","","",{"$f":"IF(P78=\"\",\"\",COUNTIF(P79:$P$2087,P78)+COUNTIF('TD-2R-EC'!$P$11:$P$612,P78))","v":""},""]
[null,null,null,null,null,null,null,"",null,"","","","","","","",{"$f":"IF(P79=\"\",\"\",COUNTIF(P80:$P$2087,P79)+COUNTIF('TD-2R-EC'!$P$11:$P$612,P79))","v":""},""]
[null,null,null,null,null,null,null,"",null,"","","","","","","",{"$f":"IF(P80=\"\",\"\",COUNTIF(P81:$P$2087,P80)+COUNTIF('TD-2R-EC'!$P$11:$P$612,P80))","v":""},""]
[null,null,null,null,null,null,null,"",null,"","","","","","","",{"$f":"IF(P81=\"\",\"\",COUNTIF(P82:$P$2087,P81)+COUNTIF('TD-2R-EC'!$P$11:$P$612,P81))","v":""},""]
[null,null,null,null,null,null,null,"",null,"","","","","","","",{"$f":"IF(P82=\"\",\"\",COUNTIF(P83:$P$2087,P82)+COUNTIF('TD-2R-EC'!$P$11:$P$612,P82))","v":""},""]
[null,null,null,null,null,null,null,"",null,"","","","","","","",{"$f":"IF(P83=\"\",\"\",COUNTIF(P84:$P$2087,P83)+COUNTIF('TD-2R-EC'!$P$11:$P$612,P83))","v":""},""]
[null,null,null,null,null,null,null,"",null,"","","","","","","",{"$f":"IF(P84=\"\",\"\",COUNTIF(P85:$P$2087,P84)+COUNTIF('TD-2R-EC'!$P$11:$P$612,P84))","v":""},""]
[null,null,null,null,null,null,null,"",null,"","","","","","","",{"$f":"IF(P85=\"\",\"\",COUNTIF(P86:$P$2087,P85)+COUNTIF('TD-2R-EC'!$P$11:$P$612,P85))","v":""},""]
[null,null,null,null,null,null,null,"",null,"","","","","","","",{"$f":"IF(P86=\"\",\"\",COUNTIF(P87:$P$2087,P86)+COUNTIF('TD-2R-EC'!$P$11:$P$612,P86))","v":""},""]
[null,null,null,null,null,null,null,"",null,"","","","","","","",{"$f":"IF(P87=\"\",\"\",COUNTIF(P88:$P$2087,P87)+COUNTIF('TD-2R-EC'!$P$11:$P$612,P87))","v":""},""]
[null,null,null,null,null,null,null,"",null,"","","","","","","",{"$f":"IF(P88=\"\",\"\",COUNTIF(P89:$P$2087,P88)+COUNTIF('TD-2R-EC'!$P$11:$P$612,P88))","v":""},""]
[null,null,null,null,null,null,null,"",null,"","","","","","","",{"$f":"IF(P89=\"\",\"\",COUNTIF(P90:$P$2087,P89)+COUNTIF('TD-2R-EC'!$P$11:$P$612,P89))","v":""},""]
[null,null,null,null,null,null,null,"",null,"","","","","","","",{"$f":"IF(P90=\"\",\"\",COUNTIF(P91:$P$2087,P90)+COUNTIF('TD-2R-EC'!$P$11:$P$612,P90))","v":""},""]
[null,null,null,null,null,null,null,"",null,"","","","","","","",{"$f":"IF(P91=\"\",\"\",COUNTIF(P92:$P$2087,P91)+COUNTIF('TD-2R-EC'!$P$11:$P$612,P91))","v":""},""]
[null,null,null,null,null,null,null,"",null,"","","","","","","",{"$f":"IF(P92=\"\",\"\",COUNTIF(P93:$P$2087,P92)+COUNTIF('TD-2R-EC'!$P$11:$P$612,P92))","v":""},""]
[null,null,null,null,null,null,null,"",null,"","","","","","","",{"$f":"IF(P93=\"\",\"\",COUNTIF(P94:$P$2087,P93)+COUNTIF('TD-2R-EC'!$P$11:$P$612,P93))","v":""},""]
[null,null,null,null,null,null,null,"",null,"","","","","","","",{"$f":"IF(P94=\"\",\"\",COUNTIF(P95:$P$2087,P94)+COUNTIF('TD-2R-EC'!$P$11:$P$612,P94))","v":""},""]
[null,null,null,null,null,null,null,"",null,"","","","","","","",{"$f":"IF(P95=\"\",\"\",COUNTIF(P96:$P$2087,P95)+COUNTIF('TD-2R-EC'!$P$11:$P$612,P95))","v":""},""]
[null,null,null,null,null,null,null,"",null,"","","","","","","",{"$f":"IF(P96=\"\",\"\",COUNTIF(P97:$P$2087,P96)+COUNTIF('TD-2R-EC'!$P$11:$P$612,P96))","v":""},""]
[null,null,null,null,null,null,null,"",null,"","","","","","","",{"$f":"IF(P97=\"\",\"\",COUNTIF(P98:$P$2087,P97)+COUNTIF('TD-2R-EC'!$P$11:$P$612,P97))","v":""},""]
[null,null,null,null,null,null,null,"",null,"","","","","","","",{"$f":"IF(P98=\"\",\"\",COUNTIF(P99:$P$2087,P98)+COUNTIF('TD-2R-EC'!$P$11:$P$612,P98))","v":""},""]
[null,null,null,null,null,null,null,"",null,"","","","","","","",{"$f":"IF(P99=\"\",\"\",COUNTIF(P100:$P$2087,P99)+COUNTIF('TD-2R-EC'!$P$11:$P$612,P99))","v":""},""]
[null,null,null,null,null,null,null,"",null,"","","","","","","",{"$f":"IF(P100=\"\",\"\",COUNTIF(P101:$P$2087,P100)+COUNTIF('TD-2R-EC'!$P$11:$P$612,P100))","v":""},""]
[null,null,null,null,null,null,null,"",null,"","","","","","","",{"$f":"IF(P101=\"\",\"\",COUNTIF(P102:$P$2087,P101)+COUNTIF('TD-2R-EC'!$P$11:$P$612,P101))","v":""},""]
[null,null,null,null,null,null,null,"",null,"","","","","","","",{"$f":"IF(P102=\"\",\"\",COUNTIF(P103:$P$2087,P102)+COUNTIF('TD-2R-EC'!$P$11:$P$612,P102))","v":""},""]
[null,null,null,null,null,null,null,"",null,"","","","","","","",{"$f":"IF(P103=\"\",\"\",COUNTIF(P104:$P$2087,P103)+COUNTIF('TD-2R-EC'!$P$11:$P$612,P103))","v":""},""]
[null,null,null,null,null,null,null,"",null,"","","","","","","",{"$f":"IF(P104=\"\",\"\",COUNTIF(P105:$P$2087,P104)+COUNTIF('TD-2R-EC'!$P$11:$P$612,P104))","v":""},""]
[null,null,null,null,null,null,null,"",null,"","","","","","","",{"$f":"IF(P105=\"\",\"\",COUNTIF(P106:$P$2087,P105)+COUNTIF('TD-2R-EC'!$P$11:$P$612,P105))","v":""},""]
[null,null,null,null,null,null,null,"",null,"","","","","","","",{"$f":"IF(P106=\"\",\"\",COUNTIF(P107:$P$2087,P106)+COUNTIF('TD-2R-EC'!$P$11:$P$612,P106))","v":""},""]
[null,null,null,null,null,null,null,"",null,"","","","","","","",{"$f":"IF(P107=\"\",\"\",COUNTIF(P108:$P$2087,P107)+COUNTIF('TD-2R-EC'!$P$11:$P$612,P107))","v":""},""]
[null,null,null,null,null,null,null,"",null,"","","","","","","",{"$f":"IF(P108=\"\",\"\",COUNTIF(P109:$P$2087,P108)+COUNTIF('TD-2R-EC'!$P$11:$P$612,P108))","v":""},""]
[null,null,null,null,null,null,null,"",null,"","","","","","","",{"$f":"IF(P109=\"\",\"\",COUNTIF(P110:$P$2087,P109)+COUNTIF('TD-2R-EC'!$P$11:$P$612,P109))","v":""},""]
[null,null,null,null,null,null,null,"",null,"","","","","","","",{"$f":"IF(P110=\"\",\"\",COUNTIF(P111:$P$2087,P110)+COUNTIF('TD-2R-EC'!$P$11:$P$612,P110))","v":""},""]
[null,null,null,null,null,null,null,"",null,"","","","","","","",{"$f":"IF(P111=\"\",\"\",COUNTIF(P112:$P$2087,P111)+COUNTIF('TD-2R-EC'!$P$11:$P$612,P111))","v":""},""]
[null,null,null,null,null,null,null,"",null,"","","","","","","",{"$f":"IF(P112=\"\",\"\",COUNTIF(P113:$P$2087,P112)+COUNTIF('TD-2R-EC'!$P$11:$P$612,P112))","v":""},""]
[null,null,null,null,null,null,null,"",null,"","","","","","","",{"$f":"IF(P113=\"\",\"\",COUNTIF(P114:$P$2087,P113)+COUNTIF('TD-2R-EC'!$P$11:$P$612,P113))","v":""},""]
[null,null,null,null,null,null,null,"",null,"","","","","","","",{"$f":"IF(P114=\"\",\"\",COUNTIF(P115:$P$2087,P114)+COUNTIF('TD-2R-EC'!$P$11:$P$612,P114))","v":""},""]
[null,null,null,null,null,null,null,"",null,"","","","","","","",{"$f":"IF(P115=\"\",\"\",COUNTIF(P116:$P$2087,P115)+COUNTIF('TD-2R-EC'!$P$11:$P$612,P115))","v":""},""]
[null,null,null,null,null,null,null,"",null,"","","","","","","",{"$f":"IF(P116=\"\",\"\",COUNTIF(P117:$P$2087,P116)+COUNTIF('TD-2R-EC'!$P$11:$P$612,P116))","v":""},""]
[null,null,null,null,null,null,null,"",null,"","","","","","","",{"$f":"IF(P117=\"\",\"\",COUNTIF(P118:$P$2087,P117)+COUNTIF('TD-2R-EC'!$P$11:$P$612,P117))","v":""},""]
[null,null,null,null,null,null,null,"",null,"","","","","","","",{"$f":"IF(P118=\"\",\"\",COUNTIF(P119:$P$2087,P118)+COUNTIF('TD-2R-EC'!$P$11:$P$612,P118))","v":""},""]
[null,null,null,null,null,null,null,"",null,"","","","","","","",{"$f":"IF(P119=\"\",\"\",COUNTIF(P120:$P$2087,P119)+COUNTIF('TD-2R-EC'!$P$11:$P$612,P119))","v":""},""]
[null,null,null,null,null,null,null,"",null,"","","","","","","",{"$f":"IF(P120=\"\",\"\",COUNTIF(P121:$P$2087,P120)+COUNTIF('TD-2R-EC'!$P$11:$P$612,P120))","v":""},""]
[null,null,null,null,null,null,null,"",null,"","","","","","","",{"$f":"IF(P121=\"\",\"\",COUNTIF(P122:$P$2087,P121)+COUNTIF('TD-2R-EC'!$P$11:$P$612,P121))","v":""},""]
[null,null,null,null,null,null,null,"",null,"","","","","","","",{"$f":"IF(P122=\"\",\"\",COUNTIF(P123:$P$2087,P122)+COUNTIF('TD-2R-EC'!$P$11:$P$612,P122))","v":""},""]
[null,null,null,null,null,null,null,"",null,"","","","","","","",{"$f":"IF(P123=\"\",\"\",COUNTIF(P124:$P$2087,P123)+COUNTIF('TD-2R-EC'!$P$11:$P$612,P123))","v":""},""]
[null,null,null,null,null,null,null,"",null,"","","","","","","",{"$f":"IF(P124=\"\",\"\",COUNTIF(P125:$P$2087,P124)+COUNTIF('TD-2R-EC'!$P$11:$P$612,P124))","v":""},""]
[null,null,null,null,null,null,null,"",null,"","","","","","","",{"$f":"IF(P125=\"\",\"\",COUNTIF(P126:$P$2087,P125)+COUNTIF('TD-2R-EC'!$P$11:$P$612,P125))","v":""},""]
[null,null,null,null,null,null,null,"",null,"","","","","","","",{"$f":"IF(P126=\"\",\"\",COUNTIF(P127:$P$2087,P126)+COUNTIF('TD-2R-EC'!$P$11:$P$612,P126))","v":""},""]
[null,null,null,null,null,null,null,"",null,"","","","","","","",{"$f":"IF(P127=\"\",\"\",COUNTIF(P128:$P$2087,P127)+COUNTIF('TD-2R-EC'!$P$11:$P$612,P127))","v":""},""]
[null,null,null,null,null,null,null,"",null,"","","","","","","",{"$f":"IF(P128=\"\",\"\",COUNTIF(P129:$P$2087,P128)+COUNTIF('TD-2R-EC'!$P$11:$P$612,P128))","v":""},""]
[null,null,null,null,null,null,null,"",null,"","","","","","","",{"$f":"IF(P129=\"\",\"\",COUNTIF(P130:$P$2087,P129)+COUNTIF('TD-2R-EC'!$P$11:$P$612,P129))","v":""},""]
[null,null,null,null,null,null,null,"",null,"","","","","","","",{"$f":"IF(P130=\"\",\"\",COUNTIF(P131:$P$2087,P130)+COUNTIF('TD-2R-EC'!$P$11:$P$612,P130))","v":""},""]
[null,null,null,null,null,null,null,"",null,"","","","","","","",{"$f":"IF(P131=\"\",\"\",COUNTIF(P132:$P$2087,P131)+COUNTIF('TD-2R-EC'!$P$11:$P$612,P131))","v":""},""]
[null,null,null,null,null,null,null,"",null,"","","","","","","",{"$f":"IF(P132=\"\",\"\",COUNTIF(P133:$P$2087,P132)+COUNTIF('TD-2R-EC'!$P$11:$P$612,P132))","v":""},""]
[null,null,null,null,null,null,null,"",null,"","","","","","","",{"$f":"IF(P133=\"\",\"\",COUNTIF(P134:$P$2087,P133)+COUNTIF('TD-2R-EC'!$P$11:$P$612,P133))","v":""},""]
[null,null,null,null,null,null,null,"",null,"","","","","","","",{"$f":"IF(P134=\"\",\"\",COUNTIF(P135:$P$2087,P134)+COUNTIF('TD-2R-EC'!$P$11:$P$612,P134))","v":""},""]
[null,null,null,null,null,null,null,"",null,"","","","","","","",{"$f":"IF(P135=\"\",\"\",COUNTIF(P136:$P$2087,P135)+COUNTIF('TD-2R-EC'!$P$11:$P$612,P135))","v":""},""]
[null,null,null,null,null,null,null,"",null,"","","","","","","",{"$f":"IF(P136=\"\",\"\",COUNTIF(P137:$P$2087,P136)+COUNTIF('TD-2R-EC'!$P$11:$P$612,P136))","v":""},""]
[null,null,null,null,null,null,null,"",null,"","","","","","","",{"$f":"IF(P137=\"\",\"\",COUNTIF(P138:$P$2087,P137)+COUNTIF('TD-2R-EC'!$P$11:$P$612,P137))","v":""},""]
[null,null,null,null,null,null,null,"",null,"","","","","","","",{"$f":"IF(P138=\"\",\"\",COUNTIF(P139:$P$2087,P138)+COUNTIF('TD-2R-EC'!$P$11:$P$612,P138))","v":""},""]
[null,null,null,null,null,null,null,{"$f":"IF(ISBLANK(F139),\"\",SUM(G139*60)/F139)","v":""},null,{"$f":"IF(NOT(ISBLANK(G139)),G139*I139,\"\")","v":""},{"$f":"IF(NOT(ISBLANK(G139)),IF(A139>0,10*G139,\"\"),\"\")","v":""},{"$f":"IF(NOT(ISBLANK(G139)),IF(A139> 0,10*SUM(A139*G139),\"\"),\"\")","v":""},{"$f":"IF(NOT(ISBLANK(H139)),IF(A139> 0,G139/2*10,\"\"),\"\")","v":""},{"$f":"IF(NOT(ISBLANK(G139)),SUM(K139:M139),\"\")","v":""},{"$f":"IF(NOT(ISBLANK(I139)),I139*N139,\"\")","v":""},{"$f":"A139&D139&E139","v":""},{"$f":"IF(P139=\"\",\"\",COUNTIF(P140:$P$2087,P139)+COUNTIF('TD-2R-EC'!$P$11:$P$612,P139))","v":""},""]
[null,null,null,null,null,null,null,"",null,"","","","","","","",{"$f":"IF(P140=\"\",\"\",COUNTIF(P141:$P$2087,P140)+COUNTIF('TD-2R-EC'!$P$11:$P$612,P140))","v":""},{"$f":"IF(Q140>0,RIGHT(P140,2),\"\")","v":""}]
[null,null,null,null,null,null,null,"",null,"","","","","","","",{"$f":"IF(P141=\"\",\"\",COUNTIF(P142:$P$2087,P141)+COUNTIF('TD-2R-EC'!$P$11:$P$612,P141))","v":""},""]
[null,null,null,null,null,null,null,"",null,"","","","","","","",{"$f":"IF(P142=\"\",\"\",COUNTIF(P143:$P$2087,P142)+COUNTIF('TD-2R-EC'!$P$11:$P$612,P142))","v":""},""]
[null,null,null,null,null,null,null,"",null,"","","","","","","",{"$f":"IF(P143=\"\",\"\",COUNTIF(P144:$P$2087,P143)+COUNTIF('TD-2R-EC'!$P$11:$P$612,P143))","v":""},""]
[null,null,null,null,null,null,null,"",null,"","","","","","","",{"$f":"IF(P144=\"\",\"\",COUNTIF(P145:$P$2087,P144)+COUNTIF('TD-2R-EC'!$P$11:$P$612,P144))","v":""},""]
[null,null,null,null,null,null,null,"",null,"","","","","","","",{"$f":"IF(P145=\"\",\"\",COUNTIF(P146:$P$2087,P145)+COUNTIF('TD-2R-EC'!$P$11:$P$612,P145))","v":""},""]
[null,null,null,null,null,null,null,"",null,"","","","","","","",{"$f":"IF(P146=\"\",\"\",COUNTIF(P147:$P$2087,P146)+COUNTIF('TD-2R-EC'!$P$11:$P$612,P146))","v":""},""]
[null,null,null,null,null,null,null,"",null,"","","","","","","",{"$f":"IF(P147=\"\",\"\",COUNTIF(P148:$P$2087,P147)+COUNTIF('TD-2R-EC'!$P$11:$P$612,P147))","v":""},""]
[null,null,null,null,null,null,null,"",null,"","","","","","","",{"$f":"IF(P148=\"\",\"\",COUNTIF(P149:$P$2087,P148)+COUNTIF('TD-2R-EC'!$P$11:$P$612,P148))","v":""},""]
[null,null,null,null,null,null,null,"",null,"","","","","","","",{"$f":"IF(P149=\"\",\"\",COUNTIF(P150:$P$2087,P149)+COUNTIF('TD-2R-EC'!$P$11:$P$612,P149))","v":""},""]
[null,null,null,null,null,null,null,"",null,"","","","","","","",{"$f":"IF(P150=\"\",\"\",COUNTIF(P151:$P$2087,P150)+COUNTIF('TD-2R-EC'!$P$11:$P$612,P150))","v":""},""]
[null,null,null,null,null,null,null,"",null,"","","","","","","",{"$f":"IF(P151=\"\",\"\",COUNTIF(P152:$P$2087,P151)+COUNTIF('TD-2R-EC'!$P$11:$P$612,P151))","v":""},""]
[null,null,null,null,null,null,null,"",null,"","","","","","","",{"$f":"IF(P152=\"\",\"\",COUNTIF(P153:$P$2087,P152)+COUNTIF('TD-2R-EC'!$P$11:$P$612,P152))","v":""},""]
[null,null,null,null,null,null,null,"",null,"","","","","","","",{"$f":"IF(P153=\"\",\"\",COUNTIF(P154:$P$2087,P153)+COUNTIF('TD-2R-EC'!$P$11:$P$612,P153))","v":""},""]
[null,null,null,null,null,null,null,"",null,"","","","","","","",{"$f":"IF(P154=\"\",\"\",COUNTIF(P155:$P$2087,P154)+COUNTIF('TD-2R-EC'!$P$11:$P$612,P154))","v":""},""]
[null,null,null,null,null,null,null,"",null,"","","","","","","",{"$f":"IF(P155=\"\",\"\",COUNTIF(P156:$P$2087,P155)+COUNTIF('TD-2R-EC'!$P$11:$P$612,P155))","v":""},""]
[null,null,null,null,null,null,null,"",null,"","","","","","","",{"$f":"IF(P156=\"\",\"\",COUNTIF(P157:$P$2087,P156)+COUNTIF('TD-2R-EC'!$P$11:$P$612,P156))","v":""},""]
[null,null,null,null,null,null,null,"",null,"","","","","","","",{"$f":"IF(P157=\"\",\"\",COUNTIF(P158:$P$2087,P157)+COUNTIF('TD-2R-EC'!$P$11:$P$612,P157))","v":""},""]
[null,null,null,null,null,null,null,"",null,"","","","","","","",{"$f":"IF(P158=\"\",\"\",COUNTIF(P159:$P$2087,P158)+COUNTIF('TD-2R-EC'!$P$11:$P$612,P158))","v":""},""]
[null,null,null,null,null,null,null,"",null,"","","","","","","",{"$f":"IF(P159=\"\",\"\",COUNTIF(P160:$P$2087,P159)+COUNTIF('TD-2R-EC'!$P$11:$P$612,P159))","v":""},""]
[null,null,null,null,null,null,null,"",null,"","","","","","","",{"$f":"IF(P160=\"\",\"\",COUNTIF(P161:$P$2087,P160)+COUNTIF('TD-2R-EC'!$P$11:$P$612,P160))","v":""},""]
[null,null,null,null,null,null,null,"",null,"","","","","","","",{"$f":"IF(P161=\"\",\"\",COUNTIF(P162:$P$2087,P161)+COUNTIF('TD-2R-EC'!$P$11:$P$612,P161))","v":""},""]
[null,null,null,null,null,null,null,"",null,"","","","","","","",{"$f":"IF(P162=\"\",\"\",COUNTIF(P163:$P$2087,P162)+COUNTIF('TD-2R-EC'!$P$11:$P$612,P162))","v":""},""]
[null,null,null,null,null,null,null,"",null,"","","","","","","",{"$f":"IF(P163=\"\",\"\",COUNTIF(P164:$P$2087,P163)+COUNTIF('TD-2R-EC'!$P$11:$P$612,P163))","v":""},""]
[null,null,null,null,null,null,null,"",null,"","","","","","","",{"$f":"IF(P164=\"\",\"\",COUNTIF(P165:$P$2087,P164)+COUNTIF('TD-2R-EC'!$P$11:$P$612,P164))","v":""},""]
[null,null,null,null,null,null,null,"",null,"","","","","","","",{"$f":"IF(P165=\"\",\"\",COUNTIF(P166:$P$2087,P165)+COUNTIF('TD-2R-EC'!$P$11:$P$612,P165))","v":""},""]
[null,null,null,null,null,null,null,"",null,"","","","","","","",{"$f":"IF(P166=\"\",\"\",COUNTIF(P167:$P$2087,P166)+COUNTIF('TD-2R-EC'!$P$11:$P$612,P166))","v":""},""]
[null,null,null,null,null,null,null,"",null,"","","","","","","",{"$f":"IF(P167=\"\",\"\",COUNTIF(P168:$P$2087,P167)+COUNTIF('TD-2R-EC'!$P$11:$P$612,P167))","v":""},""]
[null,null,null,null,null,null,null,"",null,"","","","","","","",{"$f":"IF(P168=\"\",\"\",COUNTIF(P169:$P$2087,P168)+COUNTIF('TD-2R-EC'!$P$11:$P$612,P168))","v":""},""]
[null,null,null,null,null,null,null,"",null,"","","","","","","",{"$f":"IF(P169=\"\",\"\",COUNTIF(P170:$P$2087,P169)+COUNTIF('TD-2R-EC'!$P$11:$P$612,P169))","v":""},""]
[null,null,null,null,null,null,null,"",null,"","","","","","","",{"$f":"IF(P170=\"\",\"\",COUNTIF(P171:$P$2087,P170)+COUNTIF('TD-2R-EC'!$P$11:$P$612,P170))","v":""},""]
[null,null,null,null,null,null,null,"",null,"","","","","","","",{"$f":"IF(P171=\"\",\"\",COUNTIF(P172:$P$2087,P171)+COUNTIF('TD-2R-EC'!$P$11:$P$612,P171))","v":""},""]
[null,null,null,null,null,null,null,"",null,"","","","","","","",{"$f":"IF(P172=\"\",\"\",COUNTIF(P173:$P$2087,P172)+COUNTIF('TD-2R-EC'!$P$11:$P$612,P172))","v":""},""]
[null,null,null,null,null,null,null,"",null,"","","","","","","",{"$f":"IF(P173=\"\",\"\",COUNTIF(P174:$P$2087,P173)+COUNTIF('TD-2R-EC'!$P$11:$P$612,P173))","v":""},""]
[null,null,null,null,null,null,null,"",null,"","","","","","","",{"$f":"IF(P174=\"\",\"\",COUNTIF(P175:$P$2087,P174)+COUNTIF('TD-2R-EC'!$P$11:$P$612,P174))","v":""},""]
[null,null,null,null,null,null,null,"",null,"","","","","","","",{"$f":"IF(P175=\"\",\"\",COUNTIF(P176:$P$2087,P175)+COUNTIF('TD-2R-EC'!$P$11:$P$612,P175))","v":""},""]
[null,null,null,null,null,null,null,"",null,"","","","","","","",{"$f":"IF(P176=\"\",\"\",COUNTIF(P177:$P$2087,P176)+COUNTIF('TD-2R-EC'!$P$11:$P$612,P176))","v":""},""]
[null,null,null,null,null,null,null,"",null,"","","","","","","",{"$f":"IF(P177=\"\",\"\",COUNTIF(P178:$P$2087,P177)+COUNTIF('TD-2R-EC'!$P$11:$P$612,P177))","v":""},""]
[null,null,null,null,null,null,null,"",null,"","","","","","","",{"$f":"IF(P178=\"\",\"\",COUNTIF(P179:$P$2087,P178)+COUNTIF('TD-2R-EC'!$P$11:$P$612,P178))","v":""},""]
[null,null,null,null,null,null,null,"",null,"","","","","","","",{"$f":"IF(P179=\"\",\"\",COUNTIF(P180:$P$2087,P179)+COUNTIF('TD-2R-EC'!$P$11:$P$612,P179))","v":""},""]
[null,null,null,null,null,null,null,"",null,"","","","","","","",{"$f":"IF(P180=\"\",\"\",COUNTIF(P181:$P$2087,P180)+COUNTIF('TD-2R-EC'!$P$11:$P$612,P180))","v":""},""]
[null,null,null,null,null,null,null,"",null,"","","","","","","",{"$f":"IF(P181=\"\",\"\",COUNTIF(P182:$P$2087,P181)+COUNTIF('TD-2R-EC'!$P$11:$P$612,P181))","v":""},""]
[null,null,null,null,null,null,null,"",null,"","","","","","","",{"$f":"IF(P182=\"\",\"\",COUNTIF(P183:$P$2087,P182)+COUNTIF('TD-2R-EC'!$P$11:$P$612,P182))","v":""},""]
[null,null,null,null,null,null,null,"",null,"","","","","","","",{"$f":"IF(P183=\"\",\"\",COUNTIF(P184:$P$2087,P183)+COUNTIF('TD-2R-EC'!$P$11:$P$612,P183))","v":""},""]
[null,null,null,null,null,null,null,"",null,"","","","","","","",{"$f":"IF(P184=\"\",\"\",COUNTIF(P185:$P$2087,P184)+COUNTIF('TD-2R-EC'!$P$11:$P$612,P184))","v":""},""]
[null,null,null,null,null,null,null,"",null,"","","","","","","",{"$f":"IF(P185=\"\",\"\",COUNTIF(P186:$P$2087,P185)+COUNTIF('TD-2R-EC'!$P$11:$P$612,P185))","v":""},""]
[null,null,null,null,null,null,null,"",null,"","","","","","","",{"$f":"IF(P186=\"\",\"\",COUNTIF(P187:$P$2087,P186)+COUNTIF('TD-2R-EC'!$P$11:$P$612,P186))","v":""},""]
[null,null,null,null,null,null,null,"",null,"","","","","","","",{"$f":"IF(P187=\"\",\"\",COUNTIF(P188:$P$2087,P187)+COUNTIF('TD-2R-EC'!$P$11:$P$612,P187))","v":""},""]
[null,null,null,null,null,null,null,"",null,"","","","","","","",{"$f":"IF(P188=\"\",\"\",COUNTIF(P189:$P$2087,P188)+COUNTIF('TD-2R-EC'!$P$11:$P$612,P188))","v":""},""]
[null,null,null,null,null,null,null,"",null,"","","","","","","",{"$f":"IF(P189=\"\",\"\",COUNTIF(P190:$P$2087,P189)+COUNTIF('TD-2R-EC'!$P$11:$P$612,P189))","v":""},""]
[null,null,null,null,null,null,null,"",null,"","","","","","","",{"$f":"IF(P190=\"\",\"\",COUNTIF(P191:$P$2087,P190)+COUNTIF('TD-2R-EC'!$P$11:$P$612,P190))","v":""},""]
[null,null,null,null,null,null,null,"",null,"","","","","","","",{"$f":"IF(P191=\"\",\"\",COUNTIF(P192:$P$2087,P191)+COUNTIF('TD-2R-EC'!$P$11:$P$612,P191))","v":""},""]
[null,null,null,null,null,null,null,"",null,"","","","","","","",{"$f":"IF(P192=\"\",\"\",COUNTIF(P193:$P$2087,P192)+COUNTIF('TD-2R-EC'!$P$11:$P$612,P192))","v":""},""]
[null,null,null,null,null,null,null,"",null,"","","","","","","",{"$f":"IF(P193=\"\",\"\",COUNTIF(P194:$P$2087,P193)+COUNTIF('TD-2R-EC'!$P$11:$P$612,P193))","v":""},""]
[null,null,null,null,null,null,null,"",null,"","","","","","","",{"$f":"IF(P194=\"\",\"\",COUNTIF(P195:$P$2087,P194)+COUNTIF('TD-2R-EC'!$P$11:$P$612,P194))","v":""},""]
[null,null,null,null,null,null,null,"",null,"","","","","","","",{"$f":"IF(P195=\"\",\"\",COUNTIF(P196:$P$2087,P195)+COUNTIF('TD-2R-EC'!$P$11:$P$612,P195))","v":""},""]
[null,null,null,null,null,null,null,"",null,"","","","","","","",{"$f":"IF(P196=\"\",\"\",COUNTIF(P197:$P$2087,P196)+COUNTIF('TD-2R-EC'!$P$11:$P$612,P196))","v":""},""]
[null,null,null,null,null,null,null,"",null,"","","","","","","",{"$f":"IF(P197=\"\",\"\",COUNTIF(P198:$P$2087,P197)+COUNTIF('TD-2R-EC'!$P$11:$P$612,P197))","v":""},""]
[null,null,null,null,null,null,null,"",null,"","","","","","","",{"$f":"IF(P198=\"\",\"\",COUNTIF(P199:$P$2087,P198)+COUNTIF('TD-2R-EC'!$P$11:$P$612,P198))","v":""},""]
[null,null,null,null,null,null,null,"",null,"","","","","","","",{"$f":"IF(P199=\"\",\"\",COUNTIF(P200:$P$2087,P199)+COUNTIF('TD-2R-EC'!$P$11:$P$612,P199))","v":""},""]
[null,null,null,null,null,null,null,"",null,"","","","","","","",{"$f":"IF(P200=\"\",\"\",COUNTIF(P201:$P$2087,P200)+COUNTIF('TD-2R-EC'!$P$11:$P$612,P200))","v":""},""]
[null,null,null,null,null,null,null,"",null,"","","","","","","",{"$f":"IF(P201=\"\",\"\",COUNTIF(P202:$P$2087,P201)+COUNTIF('TD-2R-EC'!$P$11:$P$612,P201))","v":""},""]
[null,null,null,null,null,null,null,"",null,"","","","","","","",{"$f":"IF(P202=\"\",\"\",COUNTIF(P203:$P$2087,P202)+COUNTIF('TD-2R-EC'!$P$11:$P$612,P202))","v":""},""]
[null,null,null,null,null,null,null,{"$f":"IF(ISBLANK(F203),\"\",SUM(G203*60)/F203)","v":""},null,{"$f":"IF(NOT(ISBLANK(G203)),G203*I203,\"\")","v":""},{"$f":"IF(NOT(ISBLANK(G203)),IF(A203>0,10*G203,\"\"),\"\")","v":""},{"$f":"IF(NOT(ISBLANK(G203)),IF(A203> 0,10*SUM(A203*G203),\"\"),\"\")","v":""},{"$f":"IF(NOT(ISBLANK(H203)),IF(A203> 0,G203/2*10,\"\"),\"\")","v":""},{"$f":"IF(NOT(ISBLANK(G203)),SUM(K203:M203),\"\")","v":""},{"$f":"IF(NOT(ISBLANK(I203)),I203*N203,\"\")","v":""},{"$f":"A203&D203&E203","v":""},{"$f":"IF(P203=\"\",\"\",COUNTIF(P204:$P$2087,P203)+COUNTIF('TD-2R-EC'!$P$11:$P$612,P203))","v":""},""]
[null,null,null,null,null,null,null,"",null,"","","","","","","",{"$f":"IF(P204=\"\",\"\",COUNTIF(P205:$P$2087,P204)+COUNTIF('TD-2R-EC'!$P$11:$P$612,P204))","v":""},{"$f":"IF(Q204>0,RIGHT(P204,2),\"\")","v":""}]
[null,null,null,null,null,null,null,"",null,"","","","","","","",{"$f":"IF(P205=\"\",\"\",COUNTIF(P206:$P$2087,P205)+COUNTIF('TD-2R-EC'!$P$11:$P$612,P205))","v":""},""]
[null,null,null,null,null,null,null,"",null,"","","","","","","",{"$f":"IF(P206=\"\",\"\",COUNTIF(P207:$P$2087,P206)+COUNTIF('TD-2R-EC'!$P$11:$P$612,P206))","v":""},""]
[null,null,null,null,null,null,null,"",null,"","","","","","","",{"$f":"IF(P207=\"\",\"\",COUNTIF(P208:$P$2087,P207)+COUNTIF('TD-2R-EC'!$P$11:$P$612,P207))","v":""},""]
[null,null,null,null,null,null,null,"",null,"","","","","","","",{"$f":"IF(P208=\"\",\"\",COUNTIF(P209:$P$2087,P208)+COUNTIF('TD-2R-EC'!$P$11:$P$612,P208))","v":""},""]
[null,null,null,null,null,null,null,"",null,"","","","","","","",{"$f":"IF(P209=\"\",\"\",COUNTIF(P210:$P$2087,P209)+COUNTIF('TD-2R-EC'!$P$11:$P$612,P209))","v":""},""]
[null,null,null,null,null,null,null,"",null,"","","","","","","",{"$f":"IF(P210=\"\",\"\",COUNTIF(P211:$P$2087,P210)+COUNTIF('TD-2R-EC'!$P$11:$P$612,P210))","v":""},""]
[null,null,null,null,null,null,null,"",null,"","","","","","","",{"$f":"IF(P211=\"\",\"\",COUNTIF(P212:$P$2087,P211)+COUNTIF('TD-2R-EC'!$P$11:$P$612,P211))","v":""},""]
[null,null,null,null,null,null,null,"",null,"","","","","","","",{"$f":"IF(P212=\"\",\"\",COUNTIF(P213:$P$2087,P212)+COUNTIF('TD-2R-EC'!$P$11:$P$612,P212))","v":""},""]
[null,null,null,null,null,null,null,"",null,"","","","","","","",{"$f":"IF(P213=\"\",\"\",COUNTIF(P214:$P$2087,P213)+COUNTIF('TD-2R-EC'!$P$11:$P$612,P213))","v":""},""]
[null,null,null,null,null,null,null,"",null,"","","","","","","",{"$f":"IF(P214=\"\",\"\",COUNTIF(P215:$P$2087,P214)+COUNTIF('TD-2R-EC'!$P$11:$P$612,P214))","v":""},""]
[null,null,null,null,null,null,null,"",null,"","","","","","","",{"$f":"IF(P215=\"\",\"\",COUNTIF(P216:$P$2087,P215)+COUNTIF('TD-2R-EC'!$P$11:$P$612,P215))","v":""},""]
[null,null,null,null,null,null,null,"",null,"","","","","","","",{"$f":"IF(P216=\"\",\"\",COUNTIF(P217:$P$2087,P216)+COUNTIF('TD-2R-EC'!$P$11:$P$612,P216))","v":""},""]
[null,null,null,null,null,null,null,"",null,"","","","","","","",{"$f":"IF(P217=\"\",\"\",COUNTIF(P218:$P$2087,P217)+COUNTIF('TD-2R-EC'!$P$11:$P$612,P217))","v":""},""]
[null,null,null,null,null,null,null,"",null,"","","","","","","",{"$f":"IF(P218=\"\",\"\",COUNTIF(P219:$P$2087,P218)+COUNTIF('TD-2R-EC'!$P$11:$P$612,P218))","v":""},""]
[null,null,null,null,null,null,null,"",null,"","","","","","","",{"$f":"IF(P219=\"\",\"\",COUNTIF(P220:$P$2087,P219)+COUNTIF('TD-2R-EC'!$P$11:$P$612,P219))","v":""},""]
[null,null,null,null,null,null,null,"",null,"","","","","","","",{"$f":"IF(P220=\"\",\"\",COUNTIF(P221:$P$2087,P220)+COUNTIF('TD-2R-EC'!$P$11:$P$612,P220))","v":""},""]
[null,null,null,null,null,null,null,"",null,"","","","","","","",{"$f":"IF(P221=\"\",\"\",COUNTIF(P222:$P$2087,P221)+COUNTIF('TD-2R-EC'!$P$11:$P$612,P221))","v":""},""]
[null,null,null,null,null,null,null,"",null,"","","","","","","",{"$f":"IF(P222=\"\",\"\",COUNTIF(P223:$P$2087,P222)+COUNTIF('TD-2R-EC'!$P$11:$P$612,P222))","v":""},""]
[null,null,null,null,null,null,null,"",null,"","","","","","","",{"$f":"IF(P223=\"\",\"\",COUNTIF(P224:$P$2087,P223)+COUNTIF('TD-2R-EC'!$P$11:$P$612,P223))","v":""},""]
[null,null,null,null,null,null,null,"",null,"","","","","","","",{"$f":"IF(P224=\"\",\"\",COUNTIF(P225:$P$2087,P224)+COUNTIF('TD-2R-EC'!$P$11:$P$612,P224))","v":""},""]
[null,null,null,null,null,null,null,"",null,"","","","","","","",{"$f":"IF(P225=\"\",\"\",COUNTIF(P226:$P$2087,P225)+COUNTIF('TD-2R-EC'!$P$11:$P$612,P225))","v":""},""]
[null,null,null,null,null,null,null,"",null,"","","","","","","",{"$f":"IF(P226=\"\",\"\",COUNTIF(P227:$P$2087,P226)+COUNTIF('TD-2R-EC'!$P$11:$P$612,P226))","v":""},""]
[null,null,null,null,null,null,null,"",null,"","","","","","","",{"$f":"IF(P227=\"\",\"\",COUNTIF(P228:$P$2087,P227)+COUNTIF('TD-2R-EC'!$P$11:$P$612,P227))","v":""},""]
[null,null,null,null,null,null,null,"",null,"","","","","","","",{"$f":"IF(P228=\"\",\"\",COUNTIF(P229:$P$2087,P228)+COUNTIF('TD-2R-EC'!$P$11:$P$612,P228))","v":""},""]
[null,null,null,null,null,null,null,"",null,"","","","","","","",{"$f":"IF(P229=\"\",\"\",COUNTIF(P230:$P$2087,P229)+COUNTIF('TD-2R-EC'!$P$11:$P$612,P229))","v":""},""]
[null,null,null,null,null,null,null,"",null,"","","","","","","",{"$f":"IF(P230=\"\",\"\",COUNTIF(P231:$P$2087,P230)+COUNTIF('TD-2R-EC'!$P$11:$P$612,P230))","v":""},""]
[null,null,null,null,null,null,null,"",null,"","","","","","","",{"$f":"IF(P231=\"\",\"\",COUNTIF(P232:$P$2087,P231)+COUNTIF('TD-2R-EC'!$P$11:$P$612,P231))","v":""},""]
[null,null,null,null,null,null,null,"",null,"","","","","","","",{"$f":"IF(P232=\"\",\"\",COUNTIF(P233:$P$2087,P232)+COUNTIF('TD-2R-EC'!$P$11:$P$612,P232))","v":""},""]
[null,null,null,null,null,null,null,"",null,"","","","","","","",{"$f":"IF(P233=\"\",\"\",COUNTIF(P234:$P$2087,P233)+COUNTIF('TD-2R-EC'!$P$11:$P$612,P233))","v":""},""]
[null,null,null,null,null,null,null,"",null,"","","","","","","",{"$f":"IF(P234=\"\",\"\",COUNTIF(P235:$P$2087,P234)+COUNTIF('TD-2R-EC'!$P$11:$P$612,P234))","v":""},""]
[null,null,null,null,null,null,null,"",null,"","","","","","","",{"$f":"IF(P235=\"\",\"\",COUNTIF(P236:$P$2087,P235)+COUNTIF('TD-2R-EC'!$P$11:$P$612,P235))","v":""},""]
[null,null,null,null,null,null,null,"",null,"","","","","","","",{"$f":"IF(P236=\"\",\"\",COUNTIF(P237:$P$2087,P236)+COUNTIF('TD-2R-EC'!$P$11:$P$612,P236))","v":""},""]
[null,null,null,null,null,null,null,"",null,"","","","","","","",{"$f":"IF(P237=\"\",\"\",COUNTIF(P238:$P$2087,P237)+COUNTIF('TD-2R-EC'!$P$11:$P$612,P237))","v":""},""]
[null,null,null,null,null,null,null,"",null,"","","","","","","",{"$f":"IF(P238=\"\",\"\",COUNTIF(P239:$P$2087,P238)+COUNTIF('TD-2R-EC'!$P$11:$P$612,P238))","v":""},""]
[null,null,null,null,null,null,null,"",null,"","","","","","","",{"$f":"IF(P239=\"\",\"\",COUNTIF(P240:$P$2087,P239)+COUNTIF('TD-2R-EC'!$P$11:$P$612,P239))","v":""},""]
[null,null,null,null,null,null,null,"",null,"","","","","","","",{"$f":"IF(P240=\"\",\"\",COUNTIF(P241:$P$2087,P240)+COUNTIF('TD-2R-EC'!$P$11:$P$612,P240))","v":""},""]
[null,null,null,null,null,null,null,"",null,"","","","","","","",{"$f":"IF(P241=\"\",\"\",COUNTIF(P242:$P$2087,P241)+COUNTIF('TD-2R-EC'!$P$11:$P$612,P241))","v":""},""]
[null,null,null,null,null,null,null,"",null,"","","","","","","",{"$f":"IF(P242=\"\",\"\",COUNTIF(P243:$P$2087,P242)+COUNTIF('TD-2R-EC'!$P$11:$P$612,P242))","v":""},""]
[null,null,null,null,null,null,null,"",null,"","","","","","","",{"$f":"IF(P243=\"\",\"\",COUNTIF(P244:$P$2087,P243)+COUNTIF('TD-2R-EC'!$P$11:$P$612,P243))","v":""},""]
[null,null,null,null,null,null,null,"",null,"","","","","","","",{"$f":"IF(P244=\"\",\"\",COUNTIF(P245:$P$2087,P244)+COUNTIF('TD-2R-EC'!$P$11:$P$612,P244))","v":""},""]
[null,null,null,null,null,null,null,"",null,"","","","","","","",{"$f":"IF(P245=\"\",\"\",COUNTIF(P246:$P$2087,P245)+COUNTIF('TD-2R-EC'!$P$11:$P$612,P245))","v":""},""]
[null,null,null,null,null,null,null,"",null,"","","","","","","",{"$f":"IF(P246=\"\",\"\",COUNTIF(P247:$P$2087,P246)+COUNTIF('TD-2R-EC'!$P$11:$P$612,P246))","v":""},""]
[null,null,null,null,null,null,null,"",null,"","","","","","","",{"$f":"IF(P247=\"\",\"\",COUNTIF(P248:$P$2087,P247)+COUNTIF('TD-2R-EC'!$P$11:$P$612,P247))","v":""},""]
[null,null,null,null,null,null,null,"",null,"","","","","","","",{"$f":"IF(P248=\"\",\"\",COUNTIF(P249:$P$2087,P248)+COUNTIF('TD-2R-EC'!$P$11:$P$612,P248))","v":""},""]
[null,null,null,null,null,null,null,"",null,"","","","","","","",{"$f":"IF(P249=\"\",\"\",COUNTIF(P250:$P$2087,P249)+COUNTIF('TD-2R-EC'!$P$11:$P$612,P249))","v":""},""]
[null,null,null,null,null,null,null,"",null,"","","","","","","",{"$f":"IF(P250=\"\",\"\",COUNTIF(P251:$P$2087,P250)+COUNTIF('TD-2R-EC'!$P$11:$P$612,P250))","v":""},""]
[null,null,null,null,null,null,null,"",null,"","","","","","","",{"$f":"IF(P251=\"\",\"\",COUNTIF(P252:$P$2087,P251)+COUNTIF('TD-2R-EC'!$P$11:$P$612,P251))","v":""},""]
[null,null,null,null,null,null,null,"",null,"","","","","","","",{"$f":"IF(P252=\"\",\"\",COUNTIF(P253:$P$2087,P252)+COUNTIF('TD-2R-EC'!$P$11:$P$612,P252))","v":""},""]
[null,null,null,null,null,null,null,"",null,"","","","","","","",{"$f":"IF(P253=\"\",\"\",COUNTIF(P254:$P$2087,P253)+COUNTIF('TD-2R-EC'!$P$11:$P$612,P253))","v":""},""]
[null,null,null,null,null,null,null,"",null,"","","","","","","",{"$f":"IF(P254=\"\",\"\",COUNTIF(P255:$P$2087,P254)+COUNTIF('TD-2R-EC'!$P$11:$P$612,P254))","v":""},""]
[null,null,null,null,null,null,null,"",null,"","","","","","","",{"$f":"IF(P255=\"\",\"\",COUNTIF(P256:$P$2087,P255)+COUNTIF('TD-2R-EC'!$P$11:$P$612,P255))","v":""},""]
[null,null,null,null,null,null,null,"",null,"","","","","","","",{"$f":"IF(P256=\"\",\"\",COUNTIF(P257:$P$2087,P256)+COUNTIF('TD-2R-EC'!$P$11:$P$612,P256))","v":""},""]
[null,null,null,null,null,null,null,"",null,"","","","","","","",{"$f":"IF(P257=\"\",\"\",COUNTIF(P258:$P$2087,P257)+COUNTIF('TD-2R-EC'!$P$11:$P$612,P257))","v":""},""]
[null,null,null,null,null,null,null,"",null,"","","","","","","",{"$f":"IF(P258=\"\",\"\",COUNTIF(P259:$P$2087,P258)+COUNTIF('TD-2R-EC'!$P$11:$P$612,P258))","v":""},""]
[null,null,null,null,null,null,null,"",null,"","","","","","","",{"$f":"IF(P259=\"\",\"\",COUNTIF(P260:$P$2087,P259)+COUNTIF('TD-2R-EC'!$P$11:$P$612,P259))","v":""},""]
[null,null,null,null,null,null,null,"",null,"","","","","","","",{"$f":"IF(P260=\"\",\"\",COUNTIF(P261:$P$2087,P260)+COUNTIF('TD-2R-EC'!$P$11:$P$612,P260))","v":""},""]
[null,null,null,null,null,null,null,"",null,"","","","","","","",{"$f":"IF(P261=\"\",\"\",COUNTIF(P262:$P$2087,P261)+COUNTIF('TD-2R-EC'!$P$11:$P$612,P261))","v":""},""]
[null,null,null,null,null,null,null,"",null,"","","","","","","",{"$f":"IF(P262=\"\",\"\",COUNTIF(P263:$P$2087,P262)+COUNTIF('TD-2R-EC'!$P$11:$P$612,P262))","v":""},""]
[null,null,null,null,null,null,null,"",null,"","","","","","","",{"$f":"IF(P263=\"\",\"\",COUNTIF(P264:$P$2087,P263)+COUNTIF('TD-2R-EC'!$P$11:$P$612,P263))","v":""},""]
[null,null,null,null,null,null,null,"",null,"","","","","","","",{"$f":"IF(P264=\"\",\"\",COUNTIF(P265:$P$2087,P264)+COUNTIF('TD-2R-EC'!$P$11:$P$612,P264))","v":""},""]
[null,null,null,null,null,null,null,"",null,"","","","","","","",{"$f":"IF(P265=\"\",\"\",COUNTIF(P266:$P$2087,P265)+COUNTIF('TD-2R-EC'!$P$11:$P$612,P265))","v":""},""]
[null,null,null,null,null,null,null,"",null,"","","","","","","",{"$f":"IF(P266=\"\",\"\",COUNTIF(P267:$P$2087,P266)+COUNTIF('TD-2R-EC'!$P$11:$P$612,P266))","v":""},""]
[null,null,null,null,null,null,null,{"$f":"IF(ISBLANK(F267),\"\",SUM(G267*60)/F267)","v":""},null,{"$f":"IF(NOT(ISBLANK(G267)),G267*I267,\"\")","v":""},{"$f":"IF(NOT(ISBLANK(G267)),IF(A267>0,10*G267,\"\"),\"\")","v":""},{"$f":"IF(NOT(ISBLANK(G267)),IF(A267> 0,10*SUM(A267*G267),\"\"),\"\")","v":""},{"$f":"IF(NOT(ISBLANK(H267)),IF(A267> 0,G267/2*10,\"\"),\"\")","v":""},{"$f":"IF(NOT(ISBLANK(G267)),SUM(K267:M267),\"\")","v":""},{"$f":"IF(NOT(ISBLANK(I267)),I267*N267,\"\")","v":""},{"$f":"A267&D267&E267","v":""},{"$f":"IF(P267=\"\",\"\",COUNTIF(P268:$P$2087,P267)+COUNTIF('TD-2R-EC'!$P$11:$P$612,P267))","v":""},""]
[null,null,null,null,null,null,null,"",null,"","","","","","","",{"$f":"IF(P268=\"\",\"\",COUNTIF(P269:$P$2087,P268)+COUNTIF('TD-2R-EC'!$P$11:$P$612,P268))","v":""},{"$f":"IF(Q268>0,RIGHT(P268,2),\"\")","v":""}]
[null,null,null,null,null,null,null,"",null,"","","","","","","",{"$f":"IF(P269=\"\",\"\",COUNTIF(P270:$P$2087,P269)+COUNTIF('TD-2R-EC'!$P$11:$P$612,P269))","v":""},""]
[null,null,null,null,null,null,null,"",null,"","","","","","","",{"$f":"IF(P270=\"\",\"\",COUNTIF(P271:$P$2087,P270)+COUNTIF('TD-2R-EC'!$P$11:$P$612,P270))","v":""},""]
[null,null,null,null,null,null,null,"",null,"","","","","","","",{"$f":"IF(P271=\"\",\"\",COUNTIF(P272:$P$2087,P271)+COUNTIF('TD-2R-EC'!$P$11:$P$612,P271))","v":""},""]
[null,null,null,null,null,null,null,"",null,"","","","","","","",{"$f":"IF(P272=\"\",\"\",COUNTIF(P273:$P$2087,P272)+COUNTIF('TD-2R-EC'!$P$11:$P$612,P272))","v":""},""]
[null,null,null,null,null,null,null,"",null,"","","","","","","",{"$f":"IF(P273=\"\",\"\",COUNTIF(P274:$P$2087,P273)+COUNTIF('TD-2R-EC'!$P$11:$P$612,P273))","v":""},""]
[null,null,null,null,null,null,null,"",null,"","","","","","","",{"$f":"IF(P274=\"\",\"\",COUNTIF(P275:$P$2087,P274)+COUNTIF('TD-2R-EC'!$P$11:$P$612,P274))","v":""},""]
[null,null,null,null,null,null,null,"",null,"","","","","","","",{"$f":"IF(P275=\"\",\"\",COUNTIF(P276:$P$2087,P275)+COUNTIF('TD-2R-EC'!$P$11:$P$612,P275))","v":""},""]
[null,null,null,null,null,null,null,"",null,"","","","","","","",{"$f":"IF(P276=\"\",\"\",COUNTIF(P277:$P$2087,P276)+COUNTIF('TD-2R-EC'!$P$11:$P$612,P276))","v":""},""]
[null,null,null,null,null,null,null,"",null,"","","","","","","",{"$f":"IF(P277=\"\",\"\",COUNTIF(P278:$P$2087,P277)+COUNTIF('TD-2R-EC'!$P$11:$P$612,P277))","v":""},""]
[null,null,null,null,null,null,null,"",null,"","","","","","","",{"$f":"IF(P278=\"\",\"\",COUNTIF(P279:$P$2087,P278)+COUNTIF('TD-2R-EC'!$P$11:$P$612,P278))","v":""},""]
[null,null,null,null,null,null,null,"",null,"","","","","","","",{"$f":"IF(P279=\"\",\"\",COUNTIF(P280:$P$2087,P279)+COUNTIF('TD-2R-EC'!$P$11:$P$612,P279))","v":""},""]
[null,null,null,null,null,null,null,"",null,"","","","","","","",{"$f":"IF(P280=\"\",\"\",COUNTIF(P281:$P$2087,P280)+COUNTIF('TD-2R-EC'!$P$11:$P$612,P280))","v":""},""]
[null,null,null,null,null,null,null,"",null,"","","","","","","",{"$f":"IF(P281=\"\",\"\",COUNTIF(P282:$P$2087,P281)+COUNTIF('TD-2R-EC'!$P$11:$P$612,P281))","v":""},""]
[null,null,null,null,null,null,null,"",null,"","","","","","","",{"$f":"IF(P282=\"\",\"\",COUNTIF(P283:$P$2087,P282)+COUNTIF('TD-2R-EC'!$P$11:$P$612,P282))","v":""},""]
[null,null,null,null,null,null,null,"",null,"","","","","","","",{"$f":"IF(P283=\"\",\"\",COUNTIF(P284:$P$2087,P283)+COUNTIF('TD-2R-EC'!$P$11:$P$612,P283))","v":""},""]
[null,null,null,null,null,null,null,"",null,"","","","","","","",{"$f":"IF(P284=\"\",\"\",COUNTIF(P285:$P$2087,P284)+COUNTIF('TD-2R-EC'!$P$11:$P$612,P284))","v":""},""]
[null,null,null,null,null,null,null,"",null,"","","","","","","",{"$f":"IF(P285=\"\",\"\",COUNTIF(P286:$P$2087,P285)+COUNTIF('TD-2R-EC'!$P$11:$P$612,P285))","v":""},""]
[null,null,null,null,null,null,null,"",null,"","","","","","","",{"$f":"IF(P286=\"\",\"\",COUNTIF(P287:$P$2087,P286)+COUNTIF('TD-2R-EC'!$P$11:$P$612,P286))","v":""},""]
[null,null,null,null,null,null,null,"",null,"","","","","","","",{"$f":"IF(P287=\"\",\"\",COUNTIF(P288:$P$2087,P287)+COUNTIF('TD-2R-EC'!$P$11:$P$612,P287))","v":""},""]
[null,null,null,null,null,null,null,"",null,"","","","","","","",{"$f":"IF(P288=\"\",\"\",COUNTIF(P289:$P$2087,P288)+COUNTIF('TD-2R-EC'!$P$11:$P$612,P288))","v":""},""]
[null,null,null,null,null,null,null,"",null,"","","","","","","",{"$f":"IF(P289=\"\",\"\",COUNTIF(P290:$P$2087,P289)+COUNTIF('TD-2R-EC'!$P$11:$P$612,P289))","v":""},""]
[null,null,null,null,null,null,null,"",null,"","","","","","","",{"$f":"IF(P290=\"\",\"\",COUNTIF(P291:$P$2087,P290)+COUNTIF('TD-2R-EC'!$P$11:$P$612,P290))","v":""},""]
[null,null,null,null,null,null,null,"",null,"","","","","","","",{"$f":"IF(P291=\"\",\"\",COUNTIF(P292:$P$2087,P291)+COUNTIF('TD-2R-EC'!$P$11:$P$612,P291))","v":""},""]
[null,null,null,null,null,null,null,"",null,"","","","","","","",{"$f":"IF(P292=\"\",\"\",COUNTIF(P293:$P$2087,P292)+COUNTIF('TD-2R-EC'!$P$11:$P$612,P292))","v":""},""]
[null,null,null,null,null,null,null,"",null,"","","","","","","",{"$f":"IF(P293=\"\",\"\",COUNTIF(P294:$P$2087,P293)+COUNTIF('TD-2R-EC'!$P$11:$P$612,P293))","v":""},""]
[null,null,null,null,null,null,null,"",null,"","","","","","","",{"$f":"IF(P294=\"\",\"\",COUNTIF(P295:$P$2087,P294)+COUNTIF('TD-2R-EC'!$P$11:$P$612,P294))","v":""},""]
[null,null,null,null,null,null,null,"",null,"","","","","","","",{"$f":"IF(P295=\"\",\"\",COUNTIF(P296:$P$2087,P295)+COUNTIF('TD-2R-EC'!$P$11:$P$612,P295))","v":""},""]
[null,null,null,null,null,null,null,"",null,"","","","","","","",{"$f":"IF(P296=\"\",\"\",COUNTIF(P297:$P$2087,P296)+COUNTIF('TD-2R-EC'!$P$11:$P$612,P296))","v":""},""]
[null,null,null,null,null,null,null,"",null,"","","","","","","",{"$f":"IF(P297=\"\",\"\",COUNTIF(P298:$P$2087,P297)+COUNTIF('TD-2R-EC'!$P$11:$P$612,P297))","v":""},""]
[null,null,null,null,null,null,null,"",null,"","","","","","","",{"$f":"IF(P298=\"\",\"\",COUNTIF(P299:$P$2087,P298)+COUNTIF('TD-2R-EC'!$P$11:$P$612,P298))","v":""},""]
[null,null,null,null,null,null,null,"",null,"","","","","","","",{"$f":"IF(P299=\"\",\"\",COUNTIF(P300:$P$2087,P299)+COUNTIF('TD-2R-EC'!$P$11:$P$612,P299))","v":""},""]
[null,null,null,null,null,null,null,"",null,"","","","","","","",{"$f":"IF(P300=\"\",\"\",COUNTIF(P301:$P$2087,P300)+COUNTIF('TD-2R-EC'!$P$11:$P$612,P300))","v":""},""]
[null,null,null,null,null,null,null,"",null,"","","","","","","",{"$f":"IF(P301=\"\",\"\",COUNTIF(P302:$P$2087,P301)+COUNTIF('TD-2R-EC'!$P$11:$P$612,P301))","v":""},""]
[null,null,null,null,null,null,null,"",null,"","","","","","","",{"$f":"IF(P302=\"\",\"\",COUNTIF(P303:$P$2087,P302)+COUNTIF('TD-2R-EC'!$P$11:$P$612,P302))","v":""},""]
[null,null,null,null,null,null,null,"",null,"","","","","","","",{"$f":"IF(P303=\"\",\"\",COUNTIF(P304:$P$2087,P303)+COUNTIF('TD-2R-EC'!$P$11:$P$612,P303))","v":""},""]
[null,null,null,null,null,null,null,"",null,"","","","","","","",{"$f":"IF(P304=\"\",\"\",COUNTIF(P305:$P$2087,P304)+COUNTIF('TD-2R-EC'!$P$11:$P$612,P304))","v":""},""]
[null,null,null,null,null,null,null,"",null,"","","","","","","",{"$f":"IF(P305=\"\",\"\",COUNTIF(P306:$P$2087,P305)+COUNTIF('TD-2R-EC'!$P$11:$P$612,P305))","v":""},""]
[null,null,null,null,null,null,null,"",null,"","","","","","","",{"$f":"IF(P306=\"\",\"\",COUNTIF(P307:$P$2087,P306)+COUNTIF('TD-2R-EC'!$P$11:$P$612,P306))","v":""},""]
[null,null,null,null,null,null,null,"",null,"","","","","","","",{"$f":"IF(P307=\"\",\"\",COUNTIF(P308:$P$2087,P307)+COUNTIF('TD-2R-EC'!$P$11:$P$612,P307))","v":""},""]
[null,null,null,null,null,null,null,"",null,"","","","","","","",{"$f":"IF(P308=\"\",\"\",COUNTIF(P309:$P$2087,P308)+COUNTIF('TD-2R-EC'!$P$11:$P$612,P308))","v":""},""]
[null,null,null,null,null,null,null,"",null,"","","","","","","",{"$f":"IF(P309=\"\",\"\",COUNTIF(P310:$P$2087,P309)+COUNTIF('TD-2R-EC'!$P$11:$P$612,P309))","v":""},""]
[null,null,null,null,null,null,null,"",null,"","","","","","","",{"$f":"IF(P310=\"\",\"\",COUNTIF(P311:$P$2087,P310)+COUNTIF('TD-2R-EC'!$P$11:$P$612,P310))","v":""},""]
[null,null,null,null,null,null,null,"",null,"","","","","","","",{"$f":"IF(P311=\"\",\"\",COUNTIF(P312:$P$2087,P311)+COUNTIF('TD-2R-EC'!$P$11:$P$612,P311))","v":""},""]
[null,null,null,null,null,null,null,"",null,"","","","","","","",{"$f":"IF(P312=\"\",\"\",COUNTIF(P313:$P$2087,P312)+COUNTIF('TD-2R-EC'!$P$11:$P$612,P312))","v":""},""]
[null,null,null,null,null,null,null,null,null,null,null,null,null,null,null,"",{"$f":"IF(P313=\"\",\"\",COUNTIF(P317:$P$2087,P313)+COUNTIF('TD-2R-EC'!$P$11:$P$612,P313))","v":""},""]
[]
[]
[]
[null,null,null,null,null,null,null,null,null,null,null,null,null,null,null,{"$f":"A317&D317&E317","v":""},{"$f":"IF(P317=\"\",\"\",COUNTIF(P318:$P$2087,P317)+COUNTIF('TD-2R-EC'!$P$11:$P$612,P317))","v":""},""]
[null,null,null,null,null,null,null,{"$f":"IF(ISBLANK(F318),\"\",SUM(G318*60)/F318)","v":""},null,{"$f":"IF(NOT(ISBLANK(G318)),G318*I318,\"\")","v":""},{"$f":"IF(NOT(ISBLANK(G318)),IF(A318>0,10*G318,\"\"),\"\")","v":""},{"$f":"IF(NOT(ISBLANK(G318)),IF(A318> 0,10*SUM(A318*G318),\"\"),\"\")","v":""},{"$f":"IF(NOT(ISBLANK(H318)),IF(A318> 0,G318/2*10,\"\"),\"\")","v":""},{"$f":"IF(NOT(ISBLANK(G318)),SUM(K318:M318),\"\")","v":""},{"$f":"IF(NOT(ISBLANK(I318)),I318*N318,\"\")","v":""},"",{"$f":"IF(P318=\"\",\"\",COUNTIF(P319:$P$2087,P318)+COUNTIF('TD-2R-EC'!$P$11:$P$612,P318))","v":""},""]
[null,null,null,null,null,null,null,"",null,"","","","","","","",{"$f":"IF(P319=\"\",\"\",COUNTIF(P320:$P$2087,P319)+COUNTIF('TD-2R-EC'!$P$11:$P$612,P319))","v":""},""]
[null,null,null,null,null,null,null,"",null,"","","","","","","",{"$f":"IF(P320=\"\",\"\",COUNTIF(P321:$P$2087,P320)+COUNTIF('TD-2R-EC'!$P$11:$P$612,P320))","v":""},""]
[null,null,null,null,null,null,null,"",null,"","","","","","","",{"$f":"IF(P321=\"\",\"\",COUNTIF(P322:$P$2087,P321)+COUNTIF('TD-2R-EC'!$P$11:$P$612,P321))","v":""},""]
[null,null,null,null,null,null,null,"",null,"","","","","","","",{"$f":"IF(P322=\"\",\"\",COUNTIF(P323:$P$2087,P322)+COUNTIF('TD-2R-EC'!$P$11:$P$612,P322))","v":""},""]
[null,null,null,null,null,null,null,"",null,"","","","","","","",{"$f":"IF(P323=\"\",\"\",COUNTIF(P324:$P$2087,P323)+COUNTIF('TD-2R-EC'!$P$11:$P$612,P323))","v":""},""]
[null,null,null,null,null,null,null,"",null,"","","","","","","",{"$f":"IF(P324=\"\",\"\",COUNTIF(P325:$P$2087,P324)+COUNTIF('TD-2R-EC'!$P$11:$P$612,P324))","v":""},""]
[null,null,null,null,null,null,null,"",null,"","","","","","","",{"$f":"IF(P325=\"\",\"\",COUNTIF(P326:$P$2087,P325)+COUNTIF('TD-2R-EC'!$P$11:$P$612,P325))","v":""},""]
[null,null,null,null,null,null,null,"",null,"","","","","","","",{"$f":"IF(P326=\"\",\"\",COUNTIF(P327:$P$2087,P326)+COUNTIF('TD-2R-EC'!$P$11:$P$612,P326))","v":""},""]
[null,null,null,null,null,null,null,"",null,"","","","","","","",{"$f":"IF(P327=\"\",\"\",COUNTIF(P328:$P$2087,P327)+COUNTIF('TD-2R-EC'!$P$11:$P$612,P327))","v":""},""]
[null,null,null,null,null,null,null,"",null,"","","","","","","",{"$f":"IF(P328=\"\",\"\",COUNTIF(P329:$P$2087,P328)+COUNTIF('TD-2R-EC'!$P$11:$P$612,P328))","v":""},""]
[null,null,null,null,null,null,null,"",null,"","","","","","","",{"$f":"IF(P329=\"\",\"\",COUNTIF(P330:$P$2087,P329)+COUNTIF('TD-2R-EC'!$P$11:$P$612,P329))","v":""},""]
[null,null,null,null,null,null,null,"",null,"","","","","","","",{"$f":"IF(P330=\"\",\"\",COUNTIF(P331:$P$2087,P330)+COUNTIF('TD-2R-EC'!$P$11:$P$612,P330))","v":""},""]
[null,null,null,null,null,null,null,"",null,"","","","","","","",{"$f":"IF(P331=\"\",\"\",COUNTIF(P332:$P$2087,P331)+COUNTIF('TD-2R-EC'!$P$11:$P$612,P331))","v":""},""]
[null,null,null,null,null,null,null,"",null,"","","","","","","",{"$f":"IF(P332=\"\",\"\",COUNTIF(P333:$P$2087,P332)+COUNTIF('TD-2R-EC'!$P$11:$P$612,P332))","v":""},""]
[null,null,null,null,null,null,null,"",null,"","","","","","","",{"$f":"IF(P333=\"\",\"\",COUNTIF(P334:$P$2087,P333)+COUNTIF('TD-2R-EC'!$P$11:$P$612,P333))","v":""},""]
[null,null,null,null,null,null,null,{"$f":"IF(ISBLANK(F334),\"\",SUM(G334*60)/F334)","v":""},null,"","","","","","","",{"$f":"IF(P334=\"\",\"\",COUNTIF(P335:$P$2087,P334)+COUNTIF('TD-2R-EC'!$P$11:$P$612,P334))","v":""},""]
[null,null,null,null,null,null,null,"",null,{"$f":"IF(NOT(ISBLANK(G335)),G335*I335,\"\")","v":""},"","","",{"$f":"IF(NOT(ISBLANK(G335)),SUM(K335:M335),\"\")","v":""},{"$f":"IF(NOT(ISBLANK(I335)),I335*N335,\"\")","v":""},"",{"$f":"IF(P335=\"\",\"\",COUNTIF(P336:$P$2087,P335)+COUNTIF('TD-2R-EC'!$P$11:$P$612,P335))","v":""},{"$f":"IF(Q335>0,RIGHT(P335,2),\"\")","v":""}]
[null,null,null,null,null,null,null,"",null,"","","","","","","",{"$f":"IF(P336=\"\",\"\",COUNTIF(P337:$P$2087,P336)+COUNTIF('TD-2R-EC'!$P$11:$P$612,P336))","v":""},""]
[null,null,null,null,null,null,null,"",null,"","","","","","","",{"$f":"IF(P337=\"\",\"\",COUNTIF(P338:$P$2087,P337)+COUNTIF('TD-2R-EC'!$P$11:$P$612,P337))","v":""},""]
[null,null,null,null,null,null,null,"",null,"","","","","","","",{"$f":"IF(P338=\"\",\"\",COUNTIF(P339:$P$2087,P338)+COUNTIF('TD-2R-EC'!$P$11:$P$612,P338))","v":""},""]
[null,null,null,null,null,null,null,"",null,"","","","","","","",{"$f":"IF(P339=\"\",\"\",COUNTIF(P340:$P$2087,P339)+COUNTIF('TD-2R-EC'!$P$11:$P$612,P339))","v":""},""]
[null,null,null,null,null,null,null,"",null,"","","","","","","",{"$f":"IF(P340=\"\",\"\",COUNTIF(P341:$P$2087,P340)+COUNTIF('TD-2R-EC'!$P$11:$P$612,P340))","v":""},""]
[null,null,null,null,null,null,null,"",null,"","","","","","","",{"$f":"IF(P341=\"\",\"\",COUNTIF(P342:$P$2087,P341)+COUNTIF('TD-2R-EC'!$P$11:$P$612,P341))","v":""},""]
[null,null,null,null,null,null,null,"",null,"","","","","","","",{"$f":"IF(P342=\"\",\"\",COUNTIF(P343:$P$2087,P342)+COUNTIF('TD-2R-EC'!$P$11:$P$612,P342))","v":""},""]
[null,null,null,null,null,null,null,"",null,"","","","","","","",{"$f":"IF(P343=\"\",\"\",COUNTIF(P344:$P$2087,P343)+COUNTIF('TD-2R-EC'!$P$11:$P$612,P343))","v":""},""]
[null,null,null,null,null,null,null,"",null,"","","","","","","",{"$f":"IF(P344=\"\",\"\",COUNTIF(P345:$P$2087,P344)+COUNTIF('TD-2R-EC'!$P$11:$P$612,P344))","v":""},""]
[null,null,null,null,null,null,null,"",null,"","","","","","","",{"$f":"IF(P345=\"\",\"\",COUNTIF(P346:$P$2087,P345)+COUNTIF('TD-2R-EC'!$P$11:$P$612,P345))","v":""},""]
[null,null,null,null,null,null,null,"",null,"","","","","","","",{"$f":"IF(P346=\"\",\"\",COUNTIF(P347:$P$2087,P346)+COUNTIF('TD-2R-EC'!$P$11:$P$612,P346))","v":""},""]
[null,null,null,null,null,null,null,"",null,"","","","","","","",{"$f":"IF(P347=\"\",\"\",COUNTIF(P348:$P$2087,P347)+COUNTIF('TD-2R-EC'!$P$11:$P$612,P347))","v":""},""]
[null,null,null,null,null,null,null,"",null,"","","","","","","",{"$f":"IF(P348=\"\",\"\",COUNTIF(P349:$P$2087,P348)+COUNTIF('TD-2R-EC'!$P$11:$P$612,P348))","v":""},""]
[null,null,null,null,null,null,null,"",null,"","","","","","","",{"$f":"IF(P349=\"\",\"\",COUNTIF(P350:$P$2087,P349)+COUNTIF('TD-2R-EC'!$P$11:$P$612,P349))","v":""},""]
[null,null,null,null,null,null,null,"",null,"","","","","","","",{"$f":"IF(P350=\"\",\"\",COUNTIF(P351:$P$2087,P350)+COUNTIF('TD-2R-EC'!$P$11:$P$612,P350))","v":""},""]
[null,null,null,null,null,null,null,"",null,"","","","","","","",{"$f":"IF(P351=\"\",\"\",COUNTIF(P352:$P$2087,P351)+COUNTIF('TD-2R-EC'!$P$11:$P$612,P351))","v":""},""]
[null,null,null,null,null,null,null,"",null,"","","","","","","",{"$f":"IF(P352=\"\",\"\",COUNTIF(P353:$P$2087,P352)+COUNTIF('TD-2R-EC'!$P$11:$P$612,P352))","v":""},""]
[null,null,null,null,null,null,null,"",null,"","","","","","","",{"$f":"IF(P353=\"\",\"\",COUNTIF(P354:$P$2087,P353)+COUNTIF('TD-2R-EC'!$P$11:$P$612,P353))","v":""},""]
[null,null,null,null,null,null,null,"",null,"","","","","","","",{"$f":"IF(P354=\"\",\"\",COUNTIF(P355:$P$2087,P354)+COUNTIF('TD-2R-EC'!$P$11:$P$612,P354))","v":""},""]
[null,null,null,null,null,null,null,"",null,"","","","","","","",{"$f":"IF(P355=\"\",\"\",COUNTIF(P356:$P$2087,P355)+COUNTIF('TD-2R-EC'!$P$11:$P$612,P355))","v":""},""]
[null,null,null,null,null,null,null,"",null,"","","","","","","",{"$f":"IF(P356=\"\",\"\",COUNTIF(P357:$P$2087,P356)+COUNTIF('TD-2R-EC'!$P$11:$P$612,P356))","v":""},""]
[null,null,null,null,null,null,null,"",null,"","","","","","","",{"$f":"IF(P357=\"\",\"\",COUNTIF(P358:$P$2087,P357)+COUNTIF('TD-2R-EC'!$P$11:$P$612,P357))","v":""},""]
[null,null,null,null,null,null,null,"",null,"","","","","","","",{"$f":"IF(P358=\"\",\"\",COUNTIF(P359:$P$2087,P358)+COUNTIF('TD-2R-EC'!$P$11:$P$612,P358))","v":""},""]
[null,null,null,null,null,null,null,"",null,"","","","","","","",{"$f":"IF(P359=\"\",\"\",COUNTIF(P360:$P$2087,P359)+COUNTIF('TD-2R-EC'!$P$11:$P$612,P359))","v":""},""]
[null,null,null,null,null,null,null,"",null,"","","","","","","",{"$f":"IF(P360=\"\",\"\",COUNTIF(P361:$P$2087,P360)+COUNTIF('TD-2R-EC'!$P$11:$P$612,P360))","v":""},""]
[null,null,null,null,null,null,null,"",null,"","","","","","","",{"$f":"IF(P361=\"\",\"\",COUNTIF(P362:$P$2087,P361)+COUNTIF('TD-2R-EC'!$P$11:$P$612,P361))","v":""},""]
[null,null,null,null,null,null,null,"",null,"","","","","","","",{"$f":"IF(P362=\"\",\"\",COUNTIF(P363:$P$2087,P362)+COUNTIF('TD-2R-EC'!$P$11:$P$612,P362))","v":""},""]
[null,null,null,null,null,null,null,"",null,"","","","","","","",{"$f":"IF(P363=\"\",\"\",COUNTIF(P364:$P$2087,P363)+COUNTIF('TD-2R-EC'!$P$11:$P$612,P363))","v":""},""]
[null,null,null,null,null,null,null,"",null,"","","","","","","",{"$f":"IF(P364=\"\",\"\",COUNTIF(P365:$P$2087,P364)+COUNTIF('TD-2R-EC'!$P$11:$P$612,P364))","v":""},""]
[null,null,null,null,null,null,null,"",null,"","","","","","","",{"$f":"IF(P365=\"\",\"\",COUNTIF(P366:$P$2087,P365)+COUNTIF('TD-2R-EC'!$P$11:$P$612,P365))","v":""},""]
[null,null,null,null,null,null,null,"",null,"","","","","","","",{"$f":"IF(P366=\"\",\"\",COUNTIF(P367:$P$2087,P366)+COUNTIF('TD-2R-EC'!$P$11:$P$612,P366))","v":""},""]
[null,null,null,null,null,null,null,"",null,"","","","","","","",{"$f":"IF(P367=\"\",\"\",COUNTIF(P368:$P$2087,P367)+COUNTIF('TD-2R-EC'!$P$11:$P$612,P367))","v":""},""]
[null,null,null,null,null,null,null,"",null,"","","","","","","",{"$f":"IF(P368=\"\",\"\",COUNTIF(P369:$P$2087,P368)+COUNTIF('TD-2R-EC'!$P$11:$P$612,P368))","v":""},""]
[null,null,null,null,null,null,null,"",null,"","","","","","","",{"$f":"IF(P369=\"\",\"\",COUNTIF(P370:$P$2087,P369)+COUNTIF('TD-2R-EC'!$P$11:$P$612,P369))","v":""},""]
[null,null,null,null,null,null,null,"",null,"","","","","","","",{"$f":"IF(P370=\"\",\"\",COUNTIF(P371:$P$2087,P370)+COUNTIF('TD-2R-EC'!$P$11:$P$612,P370))","v":""},""]
[null,null,null,null,null,null,null,"",null,"","","","","","","",{"$f":"IF(P371=\"\",\"\",COUNTIF(P372:$P$2087,P371)+COUNTIF('TD-2R-EC'!$P$11:$P$612,P371))","v":""},""]
[null,null,null,null,null,null,null,"",null,"","","","","","","",{"$f":"IF(P372=\"\",\"\",COUNTIF(P373:$P$2087,P372)+COUNTIF('TD-2R-EC'!$P$11:$P$612,P372))","v":""},""]
[null,null,null,null,null,null,null,"",null,"","","","","","","",{"$f":"IF(P373=\"\",\"\",COUNTIF(P374:$P$2087,P373)+COUNTIF('TD-2R-EC'!$P$11:$P$612,P373))","v":""},""]
[null,null,null,null,null,null,null,"",null,"","","","","","","",{"$f":"IF(P374=\"\",\"\",COUNTIF(P375:$P$2087,P374)+COUNTIF('TD-2R-EC'!$P$11:$P$612,P374))","v":""},""]
[null,null,null,null,null,null,null,"",null,"","","","","","","",{"$f":"IF(P375=\"\",\"\",COUNTIF(P376:$P$2087,P375)+COUNTIF('TD-2R-EC'!$P$11:$P$612,P375))","v":""},""]
[null,null,null,null,null,null,null,"",null,"","","","","","","",{"$f":"IF(P376=\"\",\"\",COUNTIF(P377:$P$2087,P376)+COUNTIF('TD-2R-EC'!$P$11:$P$612,P376))","v":""},""]
[null,null,null,null,null,null,null,"",null,"","","","","","","",{"$f":"IF(P377=\"\",\"\",COUNTIF(P378:$P$2087,P377)+COUNTIF('TD-2R-EC'!$P$11:$P$612,P377))","v":""},""]
[null,null,null,null,null,null,null,"",null,"","","","","","","",{"$f":"IF(P378=\"\",\"\",COUNTIF(P379:$P$2087,P378)+COUNTIF('TD-2R-EC'!$P$11:$P$612,P378))","v":""},""]
[null,null,null,null,null,null,null,"",null,"","","","","","","",{"$f":"IF(P379=\"\",\"\",COUNTIF(P380:$P$2087,P379)+COUNTIF('TD-2R-EC'!$P$11:$P$612,P379))","v":""},""]
[null,null,null,null,null,null,null,"",null,"","","","","","","",{"$f":"IF(P380=\"\",\"\",COUNTIF(P381:$P$2087,P380)+COUNTIF('TD-2R-EC'!$P$11:$P$612,P380))","v":""},""]
[null,null,null,null,null,null,null,"",null,"","","","","","",{"$f":"A381&D381&E381","v":""},{"$f":"IF(P381=\"\",\"\",COUNTIF(P382:$P$2087,P381)+COUNTIF('TD-2R-EC'!$P$11:$P$612,P381))","v":""},""]
[null,null,null,null,null,null,null,"",null,"",{"$f":"IF(NOT(ISBLANK(G382)),IF(A382>0,10*G382,\"\"),\"\")","v":""},{"$f":"IF(NOT(ISBLANK(G382)),IF(A382> 0,10*SUM(A382*G382),\"\"),\"\")","v":""},{"$f":"IF(NOT(ISBLANK(H382)),IF(A382> 0,G382/2*10,\"\"),\"\")","v":""},"","","",{"$f":"IF(P382=\"\",\"\",COUNTIF(P383:$P$2087,P382)+COUNTIF('TD-2R-EC'!$P$11:$P$612,P382))","v":""},""]
[null,null,null,null,null,null,null,"",null,"","","","","","","",{"$f":"IF(P383=\"\",\"\",COUNTIF(P384:$P$2087,P383)+COUNTIF('TD-2R-EC'!$P$11:$P$612,P383))","v":""},""]
[null,null,null,null,null,null,null,"",null,"","","","","","","",{"$f":"IF(P384=\"\",\"\",COUNTIF(P385:$P$2087,P384)+COUNTIF('TD-2R-EC'!$P$11:$P$612,P384))","v":""},""]
[null,null,null,null,null,null,null,"",null,"","","","","","","",{"$f":"IF(P385=\"\",\"\",COUNTIF(P386:$P$2087,P385)+COUNTIF('TD-2R-EC'!$P$11:$P$612,P385))","v":""},""]
[null,null,null,null,null,null,null,"",null,"","","","","","","",{"$f":"IF(P386=\"\",\"\",COUNTIF(P387:$P$2087,P386)+COUNTIF('TD-2R-EC'!$P$11:$P$612,P386))","v":""},""]
[null,null,null,null,null,null,null,"",null,"","","","","","","",{"$f":"IF(P387=\"\",\"\",COUNTIF(P388:$P$2087,P387)+COUNTIF('TD-2R-EC'!$P$11:$P$612,P387))","v":""},""]
[null,null,null,null,null,null,null,"",null,"","","","","","","",{"$f":"IF(P388=\"\",\"\",COUNTIF(P389:$P$2087,P388)+COUNTIF('TD-2R-EC'!$P$11:$P$612,P388))","v":""},""]
[null,null,null,null,null,null,null,"",null,"","","","","","","",{"$f":"IF(P389=\"\",\"\",COUNTIF(P390:$P$2087,P389)+COUNTIF('TD-2R-EC'!$P$11:$P$612,P389))","v":""},""]
[null,null,null,null,null,null,null,"",null,"","","","","","","",{"$f":"IF(P390=\"\",\"\",COUNTIF(P391:$P$2087,P390)+COUNTIF('TD-2R-EC'!$P$11:$P$612,P390))","v":""},""]
[null,null,null,null,null,null,null,"",null,"","","","","","","",{"$f":"IF(P391=\"\",\"\",COUNTIF(P392:$P$2087,P391)+COUNTIF('TD-2R-EC'!$P$11:$P$612,P391))","v":""},""]
[null,null,null,null,null,null,null,"",null,"","","","","","","",{"$f":"IF(P392=\"\",\"\",COUNTIF(P393:$P$2087,P392)+COUNTIF('TD-2R-EC'!$P$11:$P$612,P392))","v":""},""]
[null,null,null,null,null,null,null,"",null,"","","","","","","",{"$f":"IF(P393=\"\",\"\",COUNTIF(P394:$P$2087,P393)+COUNTIF('TD-2R-EC'!$P$11:$P$612,P393))","v":""},""]
[null,null,null,null,null,null,null,"",null,"","","","","","","",{"$f":"IF(P394=\"\",\"\",COUNTIF(P395:$P$2087,P394)+COUNTIF('TD-2R-EC'!$P$11:$P$612,P394))","v":""},""]
[null,null,null,null,null,null,null,"",null,"","","","","","","",{"$f":"IF(P395=\"\",\"\",COUNTIF(P396:$P$2087,P395)+COUNTIF('TD-2R-EC'!$P$11:$P$612,P395))","v":""},""]
[null,null,null,null,null,null,null,"",null,"","","","","","","",{"$f":"IF(P396=\"\",\"\",COUNTIF(P397:$P$2087,P396)+COUNTIF('TD-2R-EC'!$P$11:$P$612,P396))","v":""},""]
[null,null,null,null,null,null,null,"",null,"","","","","","","",{"$f":"IF(P397=\"\",\"\",COUNTIF(P398:$P$2087,P397)+COUNTIF('TD-2R-EC'!$P$11:$P$612,P397))","v":""},""]
[null,null,null,null,null,null,null,{"$f":"IF(ISBLANK(F398),\"\",SUM(G398*60)/F398)","v":""},null,"","","","","","","",{"$f":"IF(P398=\"\",\"\",COUNTIF(P399:$P$2087,P398)+COUNTIF('TD-2R-EC'!$P$11:$P$612,P398))","v":""},""]
[null,null,null,null,null,null,null,"",null,{"$f":"IF(NOT(ISBLANK(G399)),G399*I399,\"\")","v":""},"","","",{"$f":"IF(NOT(ISBLANK(G399)),SUM(K399:M399),\"\")","v":""},{"$f":"IF(NOT(ISBLANK(I399)),I399*N399,\"\")","v":""},"",{"$f":"IF(P399=\"\",\"\",COUNTIF(P400:$P$2087,P399)+COUNTIF('TD-2R-EC'!$P$11:$P$612,P399))","v":""},{"$f":"IF(Q399>0,RIGHT(P399,2),\"\")","v":""}]
[null,null,null,null,null,null,null,"",null,"","","","","","","",{"$f":"IF(P400=\"\",\"\",COUNTIF(P401:$P$2087,P400)+COUNTIF('TD-2R-EC'!$P$11:$P$612,P400))","v":""},""]
[null,null,null,null,null,null,null,"",null,"","","","","","","",{"$f":"IF(P401=\"\",\"\",COUNTIF(P402:$P$2087,P401)+COUNTIF('TD-2R-EC'!$P$11:$P$612,P401))","v":""},""]
[null,null,null,null,null,null,null,"",null,"","","","","","","",{"$f":"IF(P402=\"\",\"\",COUNTIF(P403:$P$2087,P402)+COUNTIF('TD-2R-EC'!$P$11:$P$612,P402))","v":""},""]
[null,null,null,null,null,null,null,"",null,"","","","","","","",{"$f":"IF(P403=\"\",\"\",COUNTIF(P404:$P$2087,P403)+COUNTIF('TD-2R-EC'!$P$11:$P$612,P403))","v":""},""]
[null,null,null,null,null,null,null,"",null,"","","","","","","",{"$f":"IF(P404=\"\",\"\",COUNTIF(P405:$P$2087,P404)+COUNTIF('TD-2R-EC'!$P$11:$P$612,P404))","v":""},""]
[null,null,null,null,null,null,null,"",null,"","","","","","","",{"$f":"IF(P405=\"\",\"\",COUNTIF(P406:$P$2087,P405)+COUNTIF('TD-2R-EC'!$P$11:$P$612,P405))","v":""},""]
[null,null,null,null,null,null,null,"",null,"","","","","","","",{"$f":"IF(P406=\"\",\"\",COUNTIF(P407:$P$2087,P406)+COUNTIF('TD-2R-EC'!$P$11:$P$612,P406))","v":""},""]
[null,null,null,null,null,null,null,"",null,"","","","","","","",{"$f":"IF(P407=\"\",\"\",COUNTIF(P408:$P$2087,P407)+COUNTIF('TD-2R-EC'!$P$11:$P$612,P407))","v":""},""]
[null,null,null,null,null,null,null,"",null,"","","","","","","",{"$f":"IF(P408=\"\",\"\",COUNTIF(P409:$P$2087,P408)+COUNTIF('TD-2R-EC'!$P$11:$P$612,P408))","v":""},""]
[null,null,null,null,null,null,null,"",null,"","","","","","","",{"$f":"IF(P409=\"\",\"\",COUNTIF(P410:$P$2087,P409)+COUNTIF('TD-2R-EC'!$P$11:$P$612,P409))","v":""},""]
[null,null,null,null,null,null,null,"",null,"","","","","","","",{"$f":"IF(P410=\"\",\"\",COUNTIF(P411:$P$2087,P410)+COUNTIF('TD-2R-EC'!$P$11:$P$612,P410))","v":""},""]
[null,null,null,null,null,null,null,"",null,"","","","","","","",{"$f":"IF(P411=\"\",\"\",COUNTIF(P412:$P$2087,P411)+COUNTIF('TD-2R-EC'!$P$11:$P$612,P411))","v":""},""]
[null,null,null,null,null,null,null,"",null,"","","","","","","",{"$f":"IF(P412=\"\",\"\",COUNTIF(P413:$P$2087,P412)+COUNTIF('TD-2R-EC'!$P$11:$P$612,P412))","v":""},""]
[null,null,null,null,null,null,null,"",null,"","","","","","","",{"$f":"IF(P413=\"\",\"\",COUNTIF(P414:$P$2087,P413)+COUNTIF('TD-2R-EC'!$P$11:$P$612,P413))","v":""},""]
[null,null,null,null,null,null,null,"",null,"","","","","","","",{"$f":"IF(P414=\"\",\"\",COUNTIF(P415:$P$2087,P414)+COUNTIF('TD-2R-EC'!$P$11:$P$612,P414))","v":""},""]
[null,null,null,null,null,null,null,"",null,"","","","","","","",{"$f":"IF(P415=\"\",\"\",COUNTIF(P416:$P$2087,P415)+COUNTIF('TD-2R-EC'!$P$11:$P$612,P415))","v":""},""]
[null,null,null,null,null,null,null,"",null,"","","","","","","",{"$f":"IF(P416=\"\",\"\",COUNTIF(P417:$P$2087,P416)+COUNTIF('TD-2R-EC'!$P$11:$P$612,P416))","v":""},""]
[null,null,null,null,null,null,null,"",null,"","","","","","","",{"$f":"IF(P417=\"\",\"\",COUNTIF(P418:$P$2087,P417)+COUNTIF('TD-2R-EC'!$P$11:$P$612,P417))","v":""},""]
[null,null,null,null,null,null,null,"",null,"","","","","","","",{"$f":"IF(P418=\"\",\"\",COUNTIF(P419:$P$2087,P418)+COUNTIF('TD-2R-EC'!$P$11:$P$612,P418))","v":""},""]
[null,null,null,null,null,null,null,"",null,"","","","","","","",{"$f":"IF(P419=\"\",\"\",COUNTIF(P420:$P$2087,P419)+COUNTIF('TD-2R-EC'!$P$11:$P$612,P419))","v":""},""]
[null,null,null,null,null,null,null,"",null,"","","","","","","",{"$f":"IF(P420=\"\",\"\",COUNTIF(P421:$P$2087,P420)+COUNTIF('TD-2R-EC'!$P$11:$P$612,P420))","v":""},""]
[null,null,null,null,null,null,null,"",null,"","","","","","","",{"$f":"IF(P421=\"\",\"\",COUNTIF(P422:$P$2087,P421)+COUNTIF('TD-2R-EC'!$P$11:$P$612,P421))","v":""},""]
[null,null,null,null,null,null,null,"",null,"","","","","","","",{"$f":"IF(P422=\"\",\"\",COUNTIF(P423:$P$2087,P422)+COUNTIF('TD-2R-EC'!$P$11:$P$612,P422))","v":""},""]
[null,null,null,null,null,null,null,"",null,"","","","","","","",{"$f":"IF(P423=\"\",\"\",COUNTIF(P424:$P$2087,P423)+COUNTIF('TD-2R-EC'!$P$11:$P$612,P423))","v":""},""]
[null,null,null,null,null,null,null,"",null,"","","","","","","",{"$f":"IF(P424=\"\",\"\",COUNTIF(P425:$P$2087,P424)+COUNTIF('TD-2R-EC'!$P$11:$P$612,P424))","v":""},""]
[null,null,null,null,null,null,null,"",null,"","","","","","","",{"$f":"IF(P425=\"\",\"\",COUNTIF(P426:$P$2087,P425)+COUNTIF('TD-2R-EC'!$P$11:$P$612,P425))","v":""},""]
[null,null,null,null,null,null,null,"",null,"","","","","","","",{"$f":"IF(P426=\"\",\"\",COUNTIF(P427:$P$2087,P426)+COUNTIF('TD-2R-EC'!$P$11:$P$612,P426))","v":""},""]
[null,null,null,null,null,null,null,"",null,"","","","","","","",{"$f":"IF(P427=\"\",\"\",COUNTIF(P428:$P$2087,P427)+COUNTIF('TD-2R-EC'!$P$11:$P$612,P427))","v":""},""]
[null,null,null,null,null,null,null,"",null,"","","","","","","",{"$f":"IF(P428=\"\",\"\",COUNTIF(P429:$P$2087,P428)+COUNTIF('TD-2R-EC'!$P$11:$P$612,P428))","v":""},""]
[null,null,null,null,null,null,null,"",null,"","","","","","","",{"$f":"IF(P429=\"\",\"\",COUNTIF(P430:$P$2087,P429)+COUNTIF('TD-2R-EC'!$P$11:$P$612,P429))","v":""},""]
[null,null,null,null,null,null,null,"",null,"","","","","","","",{"$f":"IF(P430=\"\",\"\",COUNTIF(P431:$P$2087,P430)+COUNTIF('TD-2R-EC'!$P$11:$P$612,P430))","v":""},""]
[null,null,null,null,null,null,null,"",null,"","","","","","","",{"$f":"IF(P431=\"\",\"\",COUNTIF(P432:$P$2087,P431)+COUNTIF('TD-2R-EC'!$P$11:$P$612,P431))","v":""},""]
[null,null,null,null,null,null,null,"",null,"","","","","","","",{"$f":"IF(P432=\"\",\"\",COUNTIF(P433:$P$2087,P432)+COUNTIF('TD-2R-EC'!$P$11:$P$612,P432))","v":""},""]
[null,null,null,null,null,null,null,"",null,"","","","","","","",{"$f":"IF(P433=\"\",\"\",COUNTIF(P434:$P$2087,P433)+COUNTIF('TD-2R-EC'!$P$11:$P$612,P433))","v":""},""]
[null,null,null,null,null,null,null,"",null,"","","","","","","",{"$f":"IF(P434=\"\",\"\",COUNTIF(P435:$P$2087,P434)+COUNTIF('TD-2R-EC'!$P$11:$P$612,P434))","v":""},""]
[null,null,null,null,null,null,null,"",null,"","","","","","","",{"$f":"IF(P435=\"\",\"\",COUNTIF(P436:$P$2087,P435)+COUNTIF('TD-2R-EC'!$P$11:$P$612,P435))","v":""},""]
[null,null,null,null,null,null,null,"",null,"","","","","","","",{"$f":"IF(P436=\"\",\"\",COUNTIF(P437:$P$2087,P436)+COUNTIF('TD-2R-EC'!$P$11:$P$612,P436))","v":""},""]
[null,null,null,null,null,null,null,"",null,"","","","","","","",{"$f":"IF(P437=\"\",\"\",COUNTIF(P438:$P$2087,P437)+COUNTIF('TD-2R-EC'!$P$11:$P$612,P437))","v":""},""]
[null,null,null,null,null,null,null,"",null,"","","","","","","",{"$f":"IF(P438=\"\",\"\",COUNTIF(P439:$P$2087,P438)+COUNTIF('TD-2R-EC'!$P$11:$P$612,P438))","v":""},""]
[null,null,null,null,null,null,null,"",null,"","","","","","","",{"$f":"IF(P439=\"\",\"\",COUNTIF(P440:$P$2087,P439)+COUNTIF('TD-2R-EC'!$P$11:$P$612,P439))","v":""},""]
[null,null,null,null,null,null,null,"",null,"","","","","","","",{"$f":"IF(P440=\"\",\"\",COUNTIF(P441:$P$2087,P440)+COUNTIF('TD-2R-EC'!$P$11:$P$612,P440))","v":""},""]
[null,null,null,null,null,null,null,"",null,"","","","","","","",{"$f":"IF(P441=\"\",\"\",COUNTIF(P442:$P$2087,P441)+COUNTIF('TD-2R-EC'!$P$11:$P$612,P441))","v":""},""]
[null,null,null,null,null,null,null,"",null,"","","","","","","",{"$f":"IF(P442=\"\",\"\",COUNTIF(P443:$P$2087,P442)+COUNTIF('TD-2R-EC'!$P$11:$P$612,P442))","v":""},""]
[null,null,null,null,null,null,null,"",null,"","","","","","","",{"$f":"IF(P443=\"\",\"\",COUNTIF(P444:$P$2087,P443)+COUNTIF('TD-2R-EC'!$P$11:$P$612,P443))","v":""},""]
[null,null,null,null,null,null,null,"",null,"","","","","","","",{"$f":"IF(P444=\"\",\"\",COUNTIF(P445:$P$2087,P444)+COUNTIF('TD-2R-EC'!$P$11:$P$612,P444))","v":""},""]
[null,null,null,null,null,null,null,"",null,"","","","","","",{"$f":"A445&D445&E445","v":""},{"$f":"IF(P445=\"\",\"\",COUNTIF(P446:$P$2087,P445)+COUNTIF('TD-2R-EC'!$P$11:$P$612,P445))","v":""},""]
[null,null,null,null,null,null,null,"",null,"",{"$f":"IF(NOT(ISBLANK(G446)),IF(A446>0,10*G446,\"\"),\"\")","v":""},{"$f":"IF(NOT(ISBLANK(G446)),IF(A446> 0,10*SUM(A446*G446),\"\"),\"\")","v":""},{"$f":"IF(NOT(ISBLANK(H446)),IF(A446> 0,G446/2*10,\"\"),\"\")","v":""},"","","",{"$f":"IF(P446=\"\",\"\",COUNTIF(P447:$P$2087,P446)+COUNTIF('TD-2R-EC'!$P$11:$P$612,P446))","v":""},""]
[null,null,null,null,null,null,null,"",null,"","","","","","","",{"$f":"IF(P447=\"\",\"\",COUNTIF(P448:$P$2087,P447)+COUNTIF('TD-2R-EC'!$P$11:$P$612,P447))","v":""},""]
[null,null,null,null,null,null,null,"",null,"","","","","","","",{"$f":"IF(P448=\"\",\"\",COUNTIF(P449:$P$2087,P448)+COUNTIF('TD-2R-EC'!$P$11:$P$612,P448))","v":""},""]
[null,null,null,null,null,null,null,"",null,"","","","","","","",{"$f":"IF(P449=\"\",\"\",COUNTIF(P450:$P$2087,P449)+COUNTIF('TD-2R-EC'!$P$11:$P$612,P449))","v":""},""]
[null,null,null,null,null,null,null,"",null,"","","","","","","",{"$f":"IF(P450=\"\",\"\",COUNTIF(P451:$P$2087,P450)+COUNTIF('TD-2R-EC'!$P$11:$P$612,P450))","v":""},""]
[null,null,null,null,null,null,null,"",null,"","","","","","","",{"$f":"IF(P451=\"\",\"\",COUNTIF(P452:$P$2087,P451)+COUNTIF('TD-2R-EC'!$P$11:$P$612,P451))","v":""},""]
[null,null,null,null,null,null,null,"",null,"","","","","","","",{"$f":"IF(P452=\"\",\"\",COUNTIF(P453:$P$2087,P452)+COUNTIF('TD-2R-EC'!$P$11:$P$612,P452))","v":""},""]
[null,null,null,null,null,null,null,"",null,"","","","","","","",{"$f":"IF(P453=\"\",\"\",COUNTIF(P454:$P$2087,P453)+COUNTIF('TD-2R-EC'!$P$11:$P$612,P453))","v":""},""]
[null,null,null,null,null,null,null,"",null,"","","","","","","",{"$f":"IF(P454=\"\",\"\",COUNTIF(P455:$P$2087,P454)+COUNTIF('TD-2R-EC'!$P$11:$P$612,P454))","v":""},""]
[null,null,null,null,null,null,null,"",null,"","","","","","","",{"$f":"IF(P455=\"\",\"\",COUNTIF(P456:$P$2087,P455)+COUNTIF('TD-2R-EC'!$P$11:$P$612,P455))","v":""},""]
[null,null,null,null,null,null,null,"",null,"","","","","","","",{"$f":"IF(P456=\"\",\"\",COUNTIF(P457:$P$2087,P456)+COUNTIF('TD-2R-EC'!$P$11:$P$612,P456))","v":""},""]
[null,null,null,null,null,null,null,"",null,"","","","","","","",{"$f":"IF(P457=\"\",\"\",COUNTIF(P458:$P$2087,P457)+COUNTIF('TD-2R-EC'!$P$11:$P$612,P457))","v":""},""]
[null,null,null,null,null,null,null,"",null,"","","","","","","",{"$f":"IF(P458=\"\",\"\",COUNTIF(P459:$P$2087,P458)+COUNTIF('TD-2R-EC'!$P$11:$P$612,P458))","v":""},""]
[null,null,null,null,null,null,null,"",null,"","","","","","","",{"$f":"IF(P459=\"\",\"\",COUNTIF(P460:$P$2087,P459)+COUNTIF('TD-2R-EC'!$P$11:$P$612,P459))","v":""},""]
[null,null,null,null,null,null,null,"",null,"","","","","","","",{"$f":"IF(P460=\"\",\"\",COUNTIF(P461:$P$2087,P460)+COUNTIF('TD-2R-EC'!$P$11:$P$612,P460))","v":""},""]
[null,null,null,null,null,null,null,"",null,"","","","","","","",{"$f":"IF(P461=\"\",\"\",COUNTIF(P462:$P$2087,P461)+COUNTIF('TD-2R-EC'!$P$11:$P$612,P461))","v":""},""]
[null,null,null,null,null,null,null,{"$f":"IF(ISBLANK(F462),\"\",SUM(G462*60)/F462)","v":""},null,"","","","","","","",{"$f":"IF(P462=\"\",\"\",COUNTIF(P463:$P$2087,P462)+COUNTIF('TD-2R-EC'!$P$11:$P$612,P462))","v":""},""]
[null,null,null,null,null,null,null,"",null,{"$f":"IF(NOT(ISBLANK(G463)),G463*I463,\"\")","v":""},"","","",{"$f":"IF(NOT(ISBLANK(G463)),SUM(K463:M463),\"\")","v":""},{"$f":"IF(NOT(ISBLANK(I463)),I463*N463,\"\")","v":""},"",{"$f":"IF(P463=\"\",\"\",COUNTIF(P464:$P$2087,P463)+COUNTIF('TD-2R-EC'!$P$11:$P$612,P463))","v":""},{"$f":"IF(Q463>0,RIGHT(P463,2),\"\")","v":""}]
[null,null,null,null,null,null,null,"",null,"","","","","","","",{"$f":"IF(P464=\"\",\"\",COUNTIF(P465:$P$2087,P464)+COUNTIF('TD-2R-EC'!$P$11:$P$612,P464))","v":""},""]
[null,null,null,null,null,null,null,"",null,"","","","","","","",{"$f":"IF(P465=\"\",\"\",COUNTIF(P466:$P$2087,P465)+COUNTIF('TD-2R-EC'!$P$11:$P$612,P465))","v":""},""]
[null,null,null,null,null,null,null,"",null,"","","","","","","",{"$f":"IF(P466=\"\",\"\",COUNTIF(P467:$P$2087,P466)+COUNTIF('TD-2R-EC'!$P$11:$P$612,P466))","v":""},""]
[null,null,null,null,null,null,null,"",null,"","","","","","","",{"$f":"IF(P467=\"\",\"\",COUNTIF(P468:$P$2087,P467)+COUNTIF('TD-2R-EC'!$P$11:$P$612,P467))","v":""},""]
[null,null,null,null,null,null,null,"",null,"","","","","","","",{"$f":"IF(P468=\"\",\"\",COUNTIF(P469:$P$2087,P468)+COUNTIF('TD-2R-EC'!$P$11:$P$612,P468))","v":""},""]
[null,null,null,null,null,null,null,"",null,"","","","","","","",{"$f":"IF(P469=\"\",\"\",COUNTIF(P470:$P$2087,P469)+COUNTIF('TD-2R-EC'!$P$11:$P$612,P469))","v":""},""]
[null,null,null,null,null,null,null,"",null,"","","","","","","",{"$f":"IF(P470=\"\",\"\",COUNTIF(P471:$P$2087,P470)+COUNTIF('TD-2R-EC'!$P$11:$P$612,P470))","v":""},""]
[null,null,null,null,null,null,null,"",null,"","","","","","","",{"$f":"IF(P471=\"\",\"\",COUNTIF(P472:$P$2087,P471)+COUNTIF('TD-2R-EC'!$P$11:$P$612,P471))","v":""},""]
[null,null,null,null,null,null,null,"",null,"","","","","","","",{"$f":"IF(P472=\"\",\"\",COUNTIF(P473:$P$2087,P472)+COUNTIF('TD-2R-EC'!$P$11:$P$612,P472))","v":""},""]
[null,null,null,null,null,null,null,"",null,"","","","","","","",{"$f":"IF(P473=\"\",\"\",COUNTIF(P474:$P$2087,P473)+COUNTIF('TD-2R-EC'!$P$11:$P$612,P473))","v":""},""]
[null,null,null,null,null,null,null,"",null,"","","","","","","",{"$f":"IF(P474=\"\",\"\",COUNTIF(P475:$P$2087,P474)+COUNTIF('TD-2R-EC'!$P$11:$P$612,P474))","v":""},""]
[null,null,null,null,null,null,null,"",null,"","","","","","","",{"$f":"IF(P475=\"\",\"\",COUNTIF(P476:$P$2087,P475)+COUNTIF('TD-2R-EC'!$P$11:$P$612,P475))","v":""},""]
[null,null,null,null,null,null,null,"",null,"","","","","","","",{"$f":"IF(P476=\"\",\"\",COUNTIF(P477:$P$2087,P476)+COUNTIF('TD-2R-EC'!$P$11:$P$612,P476))","v":""},""]
[null,null,null,null,null,null,null,"",null,"","","","","","","",{"$f":"IF(P477=\"\",\"\",COUNTIF(P478:$P$2087,P477)+COUNTIF('TD-2R-EC'!$P$11:$P$612,P477))","v":""},""]
[null,null,null,null,null,null,null,"",null,"","","","","","","",{"$f":"IF(P478=\"\",\"\",COUNTIF(P479:$P$2087,P478)+COUNTIF('TD-2R-EC'!$P$11:$P$612,P478))","v":""},""]
[null,null,null,null,null,null,null,"",null,"","","","","","","",{"$f":"IF(P479=\"\",\"\",COUNTIF(P480:$P$2087,P479)+COUNTIF('TD-2R-EC'!$P$11:$P$612,P479))","v":""},""]
[null,null,null,null,null,null,null,"",null,"","","","","","","",{"$f":"IF(P480=\"\",\"\",COUNTIF(P481:$P$2087,P480)+COUNTIF('TD-2R-EC'!$P$11:$P$612,P480))","v":""},""]
[null,null,null,null,null,null,null,"",null,"","","","","","","",{"$f":"IF(P481=\"\",\"\",COUNTIF(P482:$P$2087,P481)+COUNTIF('TD-2R-EC'!$P$11:$P$612,P481))","v":""},""]
[null,null,null,null,null,null,null,"",null,"","","","","","","",{"$f":"IF(P482=\"\",\"\",COUNTIF(P483:$P$2087,P482)+COUNTIF('TD-2R-EC'!$P$11:$P$612,P482))","v":""},""]
[null,null,null,null,null,null,null,"",null,"","","","","","","",{"$f":"IF(P483=\"\",\"\",COUNTIF(P484:$P$2087,P483)+COUNTIF('TD-2R-EC'!$P$11:$P$612,P483))","v":""},""]
[null,null,null,null,null,null,null,"",null,"","","","","","","",{"$f":"IF(P484=\"\",\"\",COUNTIF(P485:$P$2087,P484)+COUNTIF('TD-2R-EC'!$P$11:$P$612,P484))","v":""},""]
[null,null,null,null,null,null,null,"",null,"","","","","","","",{"$f":"IF(P485=\"\",\"\",COUNTIF(P486:$P$2087,P485)+COUNTIF('TD-2R-EC'!$P$11:$P$612,P485))","v":""},""]
[null,null,null,null,null,null,null,"",null,"","","","","","","",{"$f":"IF(P486=\"\",\"\",COUNTIF(P487:$P$2087,P486)+COUNTIF('TD-2R-EC'!$P$11:$P$612,P486))","v":""},""]
[null,null,null,null,null,null,null,"",null,"","","","","","","",{"$f":"IF(P487=\"\",\"\",COUNTIF(P488:$P$2087,P487)+COUNTIF('TD-2R-EC'!$P$11:$P$612,P487))","v":""},""]
[null,null,null,null,null,null,null,"",null,"","","","","","","",{"$f":"IF(P488=\"\",\"\",COUNTIF(P489:$P$2087,P488)+COUNTIF('TD-2R-EC'!$P$11:$P$612,P488))","v":""},""]
[null,null,null,null,null,null,null,"",null,"","","","","","","",{"$f":"IF(P489=\"\",\"\",COUNTIF(P490:$P$2087,P489)+COUNTIF('TD-2R-EC'!$P$11:$P$612,P489))","v":""},""]
[null,null,null,null,null,null,null,"",null,"","","","","","","",{"$f":"IF(P490=\"\",\"\",COUNTIF(P491:$P$2087,P490)+COUNTIF('TD-2R-EC'!$P$11:$P$612,P490))","v":""},""]
[null,null,null,null,null,null,null,"",null,"","","","","","","",{"$f":"IF(P491=\"\",\"\",COUNTIF(P492:$P$2087,P491)+COUNTIF('TD-2R-EC'!$P$11:$P$612,P491))","v":""},""]
[null,null,null,null,null,null,null,"",null,"","","","","","","",{"$f":"IF(P492=\"\",\"\",COUNTIF(P493:$P$2087,P492)+COUNTIF('TD-2R-EC'!$P$11:$P$612,P492))","v":""},""]
[null,null,null,null,null,null,null,"",null,"","","","","","","",{"$f":"IF(P493=\"\",\"\",COUNTIF(P494:$P$2087,P493)+COUNTIF('TD-2R-EC'!$P$11:$P$612,P493))","v":""},""]
[null,null,null,null,null,null,null,"",null,"","","","","","","",{"$f":"IF(P494=\"\",\"\",COUNTIF(P495:$P$2087,P494)+COUNTIF('TD-2R-EC'!$P$11:$P$612,P494))","v":""},""]
[null,null,null,null,null,null,null,"",null,"","","","","","","",{"$f":"IF(P495=\"\",\"\",COUNTIF(P496:$P$2087,P495)+COUNTIF('TD-2R-EC'!$P$11:$P$612,P495))","v":""},""]
[null,null,null,null,null,null,null,"",null,"","","","","","","",{"$f":"IF(P496=\"\",\"\",COUNTIF(P497:$P$2087,P496)+COUNTIF('TD-2R-EC'!$P$11:$P$612,P496))","v":""},""]
[null,null,null,null,null,null,null,"",null,"","","","","","","",{"$f":"IF(P497=\"\",\"\",COUNTIF(P498:$P$2087,P497)+COUNTIF('TD-2R-EC'!$P$11:$P$612,P497))","v":""},""]
[null,null,null,null,null,null,null,"",null,"","","","","","","",{"$f":"IF(P498=\"\",\"\",COUNTIF(P499:$P$2087,P498)+COUNTIF('TD-2R-EC'!$P$11:$P$612,P498))","v":""},""]
[null,null,null,null,null,null,null,"",null,"","","","","","","",{"$f":"IF(P499=\"\",\"\",COUNTIF(P500:$P$2087,P499)+COUNTIF('TD-2R-EC'!$P$11:$P$612,P499))","v":""},""]
[null,null,null,null,null,null,null,"",null,"","","","","","","",{"$f":"IF(P500=\"\",\"\",COUNTIF(P501:$P$2087,P500)+COUNTIF('TD-2R-EC'!$P$11:$P$612,P500))","v":""},""]
[null,null,null,null,null,null,null,"",null,"","","","","","","",{"$f":"IF(P501=\"\",\"\",COUNTIF(P502:$P$2087,P501)+COUNTIF('TD-2R-EC'!$P$11:$P$612,P501))","v":""},""]
[null,null,null,null,null,null,null,"",null,"","","","","","","",{"$f":"IF(P502=\"\",\"\",COUNTIF(P503:$P$2087,P502)+COUNTIF('TD-2R-EC'!$P$11:$P$612,P502))","v":""},""]
[null,null,null,null,null,null,null,"",null,"","","","","","","",{"$f":"IF(P503=\"\",\"\",COUNTIF(P504:$P$2087,P503)+COUNTIF('TD-2R-EC'!$P$11:$P$612,P503))","v":""},""]
[null,null,null,null,null,null,null,"",null,"","","","","","","",{"$f":"IF(P504=\"\",\"\",COUNTIF(P505:$P$2087,P504)+COUNTIF('TD-2R-EC'!$P$11:$P$612,P504))","v":""},""]
[null,null,null,null,null,null,null,"",null,"","","","","","","",{"$f":"IF(P505=\"\",\"\",COUNTIF(P506:$P$2087,P505)+COUNTIF('TD-2R-EC'!$P$11:$P$612,P505))","v":""},""]
[null,null,null,null,null,null,null,"",null,"","","","","","","",{"$f":"IF(P506=\"\",\"\",COUNTIF(P507:$P$2087,P506)+COUNTIF('TD-2R-EC'!$P$11:$P$612,P506))","v":""},""]
[null,null,null,null,null,null,null,"",null,"","","","","","","",{"$f":"IF(P507=\"\",\"\",COUNTIF(P508:$P$2087,P507)+COUNTIF('TD-2R-EC'!$P$11:$P$612,P507))","v":""},""]
[null,null,null,null,null,null,null,"",null,"","","","","","","",{"$f":"IF(P508=\"\",\"\",COUNTIF(P509:$P$2087,P508)+COUNTIF('TD-2R-EC'!$P$11:$P$612,P508))","v":""},""]
[null,null,null,null,null,null,null,"",null,"","","","","","",{"$f":"A509&D509&E509","v":""},{"$f":"IF(P509=\"\",\"\",COUNTIF(P510:$P$2087,P509)+COUNTIF('TD-2R-EC'!$P$11:$P$612,P509))","v":""},""]
[null,null,null,null,null,null,null,"",null,"",{"$f":"IF(NOT(ISBLANK(G510)),IF(A510>0,10*G510,\"\"),\"\")","v":""},{"$f":"IF(NOT(ISBLANK(G510)),IF(A510> 0,10*SUM(A510*G510),\"\"),\"\")","v":""},{"$f":"IF(NOT(ISBLANK(H510)),IF(A510> 0,G510/2*10,\"\"),\"\")","v":""},"","","",{"$f":"IF(P510=\"\",\"\",COUNTIF(P511:$P$2087,P510)+COUNTIF('TD-2R-EC'!$P$11:$P$612,P510))","v":""},""]
[null,null,null,null,null,null,null,"",null,"","","","","","","",{"$f":"IF(P511=\"\",\"\",COUNTIF(P512:$P$2087,P511)+COUNTIF('TD-2R-EC'!$P$11:$P$612,P511))","v":""},""]
[null,null,null,null,null,null,null,"",null,"","","","","","","",{"$f":"IF(P512=\"\",\"\",COUNTIF(P513:$P$2087,P512)+COUNTIF('TD-2R-EC'!$P$11:$P$612,P512))","v":""},""]
[null,null,null,null,null,null,null,"",null,"","","","","","","",{"$f":"IF(P513=\"\",\"\",COUNTIF(P514:$P$2087,P513)+COUNTIF('TD-2R-EC'!$P$11:$P$612,P513))","v":""},""]
[null,null,null,null,null,null,null,"",null,"","","","","","","",{"$f":"IF(P514=\"\",\"\",COUNTIF(P515:$P$2087,P514)+COUNTIF('TD-2R-EC'!$P$11:$P$612,P514))","v":""},""]
[null,null,null,null,null,null,null,"",null,"","","","","","","",{"$f":"IF(P515=\"\",\"\",COUNTIF(P516:$P$2087,P515)+COUNTIF('TD-2R-EC'!$P$11:$P$612,P515))","v":""},""]
[null,null,null,null,null,null,null,"",null,"","","","","","","",{"$f":"IF(P516=\"\",\"\",COUNTIF(P517:$P$2087,P516)+COUNTIF('TD-2R-EC'!$P$11:$P$612,P516))","v":""},""]
[null,null,null,null,null,null,null,"",null,"","","","","","","",{"$f":"IF(P517=\"\",\"\",COUNTIF(P518:$P$2087,P517)+COUNTIF('TD-2R-EC'!$P$11:$P$612,P517))","v":""},""]
[null,null,null,null,null,null,null,"",null,"","","","","","","",{"$f":"IF(P518=\"\",\"\",COUNTIF(P519:$P$2087,P518)+COUNTIF('TD-2R-EC'!$P$11:$P$612,P518))","v":""},""]
[null,null,null,null,null,null,null,"",null,"","","","","","","",{"$f":"IF(P519=\"\",\"\",COUNTIF(P520:$P$2087,P519)+COUNTIF('TD-2R-EC'!$P$11:$P$612,P519))","v":""},""]
[null,null,null,null,null,null,null,"",null,"","","","","","","",{"$f":"IF(P520=\"\",\"\",COUNTIF(P521:$P$2087,P520)+COUNTIF('TD-2R-EC'!$P$11:$P$612,P520))","v":""},""]
[null,null,null,null,null,null,null,"",null,"","","","","","","",{"$f":"IF(P521=\"\",\"\",COUNTIF(P522:$P$2087,P521)+COUNTIF('TD-2R-EC'!$P$11:$P$612,P521))","v":""},""]
[null,null,null,null,null,null,null,"",null,"","","","","","","",{"$f":"IF(P522=\"\",\"\",COUNTIF(P523:$P$2087,P522)+COUNTIF('TD-2R-EC'!$P$11:$P$612,P522))","v":""},""]
[null,null,null,null,null,null,null,"",null,"","","","","","","",{"$f":"IF(P523=\"\",\"\",COUNTIF(P524:$P$2087,P523)+COUNTIF('TD-2R-EC'!$P$11:$P$612,P523))","v":""},""]
[null,null,null,null,null,null,null,"",null,"","","","","","","",{"$f":"IF(P524=\"\",\"\",COUNTIF(P525:$P$2087,P524)+COUNTIF('TD-2R-EC'!$P$11:$P$612,P524))","v":""},""]
[null,null,null,null,null,null,null,"",null,"","","","","","","",{"$f":"IF(P525=\"\",\"\",COUNTIF(P526:$P$2087,P525)+COUNTIF('TD-2R-EC'!$P$11:$P$612,P525))","v":""},""]
[null,null,null,null,null,null,null,{"$f":"IF(ISBLANK(F526),\"\",SUM(G526*60)/F526)","v":""},null,"","","","","","","",{"$f":"IF(P526=\"\",\"\",COUNTIF(P527:$P$2087,P526)+COUNTIF('TD-2R-EC'!$P$11:$P$612,P526))","v":""},""]
[null,null,null,null,null,null,null,"",null,{"$f":"IF(NOT(ISBLANK(G527)),G527*I527,\"\")","v":""},"","","",{"$f":"IF(NOT(ISBLANK(G527)),SUM(K527:M527),\"\")","v":""},{"$f":"IF(NOT(ISBLANK(I527)),I527*N527,\"\")","v":""},"",{"$f":"IF(P527=\"\",\"\",COUNTIF(P528:$P$2087,P527)+COUNTIF('TD-2R-EC'!$P$11:$P$612,P527))","v":""},{"$f":"IF(Q527>0,RIGHT(P527,2),\"\")","v":""}]
[null,null,null,null,null,null,null,"",null,"","","","","","","",{"$f":"IF(P528=\"\",\"\",COUNTIF(P529:$P$2087,P528)+COUNTIF('TD-2R-EC'!$P$11:$P$612,P528))","v":""},""]
[null,null,null,null,null,null,null,"",null,"","","","","","","",{"$f":"IF(P529=\"\",\"\",COUNTIF(P530:$P$2087,P529)+COUNTIF('TD-2R-EC'!$P$11:$P$612,P529))","v":""},""]
[null,null,null,null,null,null,null,"",null,"","","","","","","",{"$f":"IF(P530=\"\",\"\",COUNTIF(P531:$P$2087,P530)+COUNTIF('TD-2R-EC'!$P$11:$P$612,P530))","v":""},""]
[null,null,null,null,null,null,null,"",null,"","","","","","","",{"$f":"IF(P531=\"\",\"\",COUNTIF(P532:$P$2087,P531)+COUNTIF('TD-2R-EC'!$P$11:$P$612,P531))","v":""},""]
[null,null,null,null,null,null,null,"",null,"","","","","","","",{"$f":"IF(P532=\"\",\"\",COUNTIF(P533:$P$2087,P532)+COUNTIF('TD-2R-EC'!$P$11:$P$612,P532))","v":""},""]
[null,null,null,null,null,null,null,"",null,"","","","","","","",{"$f":"IF(P533=\"\",\"\",COUNTIF(P534:$P$2087,P533)+COUNTIF('TD-2R-EC'!$P$11:$P$612,P533))","v":""},""]
[null,null,null,null,null,null,null,"",null,"","","","","","","",{"$f":"IF(P534=\"\",\"\",COUNTIF(P535:$P$2087,P534)+COUNTIF('TD-2R-EC'!$P$11:$P$612,P534))","v":""},""]
[null,null,null,null,null,null,null,"",null,"","","","","","","",{"$f":"IF(P535=\"\",\"\",COUNTIF(P536:$P$2087,P535)+COUNTIF('TD-2R-EC'!$P$11:$P$612,P535))","v":""},""]
[null,null,null,null,null,null,null,"",null,"","","","","","","",{"$f":"IF(P536=\"\",\"\",COUNTIF(P537:$P$2087,P536)+COUNTIF('TD-2R-EC'!$P$11:$P$612,P536))","v":""},""]
[null,null,null,null,null,null,null,"",null,"","","","","","","",{"$f":"IF(P537=\"\",\"\",COUNTIF(P538:$P$2087,P537)+COUNTIF('TD-2R-EC'!$P$11:$P$612,P537))","v":""},""]
[null,null,null,null,null,null,null,"",null,"","","","","","","",{"$f":"IF(P538=\"\",\"\",COUNTIF(P539:$P$2087,P538)+COUNTIF('TD-2R-EC'!$P$11:$P$612,P538))","v":""},""]
[null,null,null,null,null,null,null,"",null,"","","","","","","",{"$f":"IF(P539=\"\",\"\",COUNTIF(P540:$P$2087,P539)+COUNTIF('TD-2R-EC'!$P$11:$P$612,P539))","v":""},""]
[null,null,null,null,null,null,null,"",null,"","","","","","","",{"$f":"IF(P540=\"\",\"\",COUNTIF(P541:$P$2087,P540)+COUNTIF('TD-2R-EC'!$P$11:$P$612,P540))","v":""},""]
[null,null,null,null,null,null,null,"",null,"","","","","","","",{"$f":"IF(P541=\"\",\"\",COUNTIF(P542:$P$2087,P541)+COUNTIF('TD-2R-EC'!$P$11:$P$612,P541))","v":""},""]
[null,null,null,null,null,null,null,"",null,"","","","","","","",{"$f":"IF(P542=\"\",\"\",COUNTIF(P543:$P$2087,P542)+COUNTIF('TD-2R-EC'!$P$11:$P$612,P542))","v":""},""]
[null,null,null,null,null,null,null,"",null,"","","","","","","",{"$f":"IF(P543=\"\",\"\",COUNTIF(P544:$P$2087,P543)+COUNTIF('TD-2R-EC'!$P$11:$P$612,P543))","v":""},""]
[null,null,null,null,null,null,null,"",null,"","","","","","","",{"$f":"IF(P544=\"\",\"\",COUNTIF(P545:$P$2087,P544)+COUNTIF('TD-2R-EC'!$P$11:$P$612,P544))","v":""},""]
[null,null,null,null,null,null,null,"",null,"","","","","","","",{"$f":"IF(P545=\"\",\"\",COUNTIF(P546:$P$2087,P545)+COUNTIF('TD-2R-EC'!$P$11:$P$612,P545))","v":""},""]
[null,null,null,null,null,null,null,"",null,"","","","","","","",{"$f":"IF(P546=\"\",\"\",COUNTIF(P547:$P$2087,P546)+COUNTIF('TD-2R-EC'!$P$11:$P$612,P546))","v":""},""]
[null,null,null,null,null,null,null,"",null,"","","","","","","",{"$f":"IF(P547=\"\",\"\",COUNTIF(P548:$P$2087,P547)+COUNTIF('TD-2R-EC'!$P$11:$P$612,P547))","v":""},""]
[null,null,null,null,null,null,null,"",null,"","","","","","","",{"$f":"IF(P548=\"\",\"\",COUNTIF(P549:$P$2087,P548)+COUNTIF('TD-2R-EC'!$P$11:$P$612,P548))","v":""},""]
[null,null,null,null,null,null,null,"",null,"","","","","","","",{"$f":"IF(P549=\"\",\"\",COUNTIF(P550:$P$2087,P549)+COUNTIF('TD-2R-EC'!$P$11:$P$612,P549))","v":""},""]
[null,null,null,null,null,null,null,"",null,"","","","","","","",{"$f":"IF(P550=\"\",\"\",COUNTIF(P551:$P$2087,P550)+COUNTIF('TD-2R-EC'!$P$11:$P$612,P550))","v":""},""]
[null,null,null,null,null,null,null,"",null,"","","","","","","",{"$f":"IF(P551=\"\",\"\",COUNTIF(P552:$P$2087,P551)+COUNTIF('TD-2R-EC'!$P$11:$P$612,P551))","v":""},""]
[null,null,null,null,null,null,null,"",null,"","","","","","","",{"$f":"IF(P552=\"\",\"\",COUNTIF(P553:$P$2087,P552)+COUNTIF('TD-2R-EC'!$P$11:$P$612,P552))","v":""},""]
[null,null,null,null,null,null,null,"",null,"","","","","","","",{"$f":"IF(P553=\"\",\"\",COUNTIF(P554:$P$2087,P553)+COUNTIF('TD-2R-EC'!$P$11:$P$612,P553))","v":""},""]
[null,null,null,null,null,null,null,"",null,"","","","","","","",{"$f":"IF(P554=\"\",\"\",COUNTIF(P555:$P$2087,P554)+COUNTIF('TD-2R-EC'!$P$11:$P$612,P554))","v":""},""]
[null,null,null,null,null,null,null,"",null,"","","","","","","",{"$f":"IF(P555=\"\",\"\",COUNTIF(P556:$P$2087,P555)+COUNTIF('TD-2R-EC'!$P$11:$P$612,P555))","v":""},""]
[null,null,null,null,null,null,null,"",null,"","","","","","","",{"$f":"IF(P556=\"\",\"\",COUNTIF(P557:$P$2087,P556)+COUNTIF('TD-2R-EC'!$P$11:$P$612,P556))","v":""},""]
[null,null,null,null,null,null,null,"",null,"","","","","","","",{"$f":"IF(P557=\"\",\"\",COUNTIF(P558:$P$2087,P557)+COUNTIF('TD-2R-EC'!$P$11:$P$612,P557))","v":""},""]
[null,null,null,null,null,null,null,"",null,"","","","","","","",{"$f":"IF(P558=\"\",\"\",COUNTIF(P559:$P$2087,P558)+COUNTIF('TD-2R-EC'!$P$11:$P$612,P558))","v":""},""]
[null,null,null,null,null,null,null,"",null,"","","","","","","",{"$f":"IF(P559=\"\",\"\",COUNTIF(P560:$P$2087,P559)+COUNTIF('TD-2R-EC'!$P$11:$P$612,P559))","v":""},""]
[null,null,null,null,null,null,null,"",null,"","","","","","","",{"$f":"IF(P560=\"\",\"\",COUNTIF(P561:$P$2087,P560)+COUNTIF('TD-2R-EC'!$P$11:$P$612,P560))","v":""},""]
[null,null,null,null,null,null,null,"",null,"","","","","","","",{"$f":"IF(P561=\"\",\"\",COUNTIF(P562:$P$2087,P561)+COUNTIF('TD-2R-EC'!$P$11:$P$612,P561))","v":""},""]
[null,null,null,null,null,null,null,"",null,"","","","","","","",{"$f":"IF(P562=\"\",\"\",COUNTIF(P563:$P$2087,P562)+COUNTIF('TD-2R-EC'!$P$11:$P$612,P562))","v":""},""]
[null,null,null,null,null,null,null,"",null,"","","","","","","",{"$f":"IF(P563=\"\",\"\",COUNTIF(P564:$P$2087,P563)+COUNTIF('TD-2R-EC'!$P$11:$P$612,P563))","v":""},""]
[null,null,null,null,null,null,null,"",null,"","","","","","","",{"$f":"IF(P564=\"\",\"\",COUNTIF(P565:$P$2087,P564)+COUNTIF('TD-2R-EC'!$P$11:$P$612,P564))","v":""},""]
[null,null,null,null,null,null,null,"",null,"","","","","","","",{"$f":"IF(P565=\"\",\"\",COUNTIF(P566:$P$2087,P565)+COUNTIF('TD-2R-EC'!$P$11:$P$612,P565))","v":""},""]
[null,null,null,null,null,null,null,"",null,"","","","","","","",{"$f":"IF(P566=\"\",\"\",COUNTIF(P567:$P$2087,P566)+COUNTIF('TD-2R-EC'!$P$11:$P$612,P566))","v":""},""]
[null,null,null,null,null,null,null,"",null,"","","","","","","",{"$f":"IF(P567=\"\",\"\",COUNTIF(P568:$P$2087,P567)+COUNTIF('TD-2R-EC'!$P$11:$P$612,P567))","v":""},""]
[null,null,null,null,null,null,null,"",null,"","","","","","","",{"$f":"IF(P568=\"\",\"\",COUNTIF(P569:$P$2087,P568)+COUNTIF('TD-2R-EC'!$P$11:$P$612,P568))","v":""},""]
[null,null,null,null,null,null,null,"",null,"","","","","","","",{"$f":"IF(P569=\"\",\"\",COUNTIF(P570:$P$2087,P569)+COUNTIF('TD-2R-EC'!$P$11:$P$612,P569))","v":""},""]
[null,null,null,null,null,null,null,"",null,"","","","","","","",{"$f":"IF(P570=\"\",\"\",COUNTIF(P571:$P$2087,P570)+COUNTIF('TD-2R-EC'!$P$11:$P$612,P570))","v":""},""]
[null,null,null,null,null,null,null,"",null,"","","","","","","",{"$f":"IF(P571=\"\",\"\",COUNTIF(P572:$P$2087,P571)+COUNTIF('TD-2R-EC'!$P$11:$P$612,P571))","v":""},""]
[null,null,null,null,null,null,null,"",null,"","","","","","","",{"$f":"IF(P572=\"\",\"\",COUNTIF(P573:$P$2087,P572)+COUNTIF('TD-2R-EC'!$P$11:$P$612,P572))","v":""},""]
[null,null,null,null,null,null,null,"",null,"","","","","","",{"$f":"A573&D573&E573","v":""},{"$f":"IF(P573=\"\",\"\",COUNTIF(P574:$P$2087,P573)+COUNTIF('TD-2R-EC'!$P$11:$P$612,P573))","v":""},""]
[null,null,null,null,null,null,null,"",null,"",{"$f":"IF(NOT(ISBLANK(G574)),IF(A574>0,10*G574,\"\"),\"\")","v":""},{"$f":"IF(NOT(ISBLANK(G574)),IF(A574> 0,10*SUM(A574*G574),\"\"),\"\")","v":""},{"$f":"IF(NOT(ISBLANK(H574)),IF(A574> 0,G574/2*10,\"\"),\"\")","v":""},"","","",{"$f":"IF(P574=\"\",\"\",COUNTIF(P575:$P$2087,P574)+COUNTIF('TD-2R-EC'!$P$11:$P$612,P574))","v":""},""]
[null,null,null,null,null,null,null,"",null,"","","","","","","",{"$f":"IF(P575=\"\",\"\",COUNTIF(P576:$P$2087,P575)+COUNTIF('TD-2R-EC'!$P$11:$P$612,P575))","v":""},""]
[null,null,null,null,null,null,null,"",null,"","","","","","","",{"$f":"IF(P576=\"\",\"\",COUNTIF(P577:$P$2087,P576)+COUNTIF('TD-2R-EC'!$P$11:$P$612,P576))","v":""},""]
[null,null,null,null,null,null,null,"",null,"","","","","","","",{"$f":"IF(P577=\"\",\"\",COUNTIF(P578:$P$2087,P577)+COUNTIF('TD-2R-EC'!$P$11:$P$612,P577))","v":""},""]
[null,null,null,null,null,null,null,"",null,"","","","","","","",{"$f":"IF(P578=\"\",\"\",COUNTIF(P579:$P$2087,P578)+COUNTIF('TD-2R-EC'!$P$11:$P$612,P578))","v":""},""]
[null,null,null,null,null,null,null,"",null,"","","","","","","",{"$f":"IF(P579=\"\",\"\",COUNTIF(P580:$P$2087,P579)+COUNTIF('TD-2R-EC'!$P$11:$P$612,P579))","v":""},""]
[null,null,null,null,null,null,null,"",null,"","","","","","","",{"$f":"IF(P580=\"\",\"\",COUNTIF(P581:$P$2087,P580)+COUNTIF('TD-2R-EC'!$P$11:$P$612,P580))","v":""},""]
[null,null,null,null,null,null,null,"",null,"","","","","","","",{"$f":"IF(P581=\"\",\"\",COUNTIF(P582:$P$2087,P581)+COUNTIF('TD-2R-EC'!$P$11:$P$612,P581))","v":""},""]
[null,null,null,null,null,null,null,"",null,"","","","","","","",{"$f":"IF(P582=\"\",\"\",COUNTIF(P583:$P$2087,P582)+COUNTIF('TD-2R-EC'!$P$11:$P$612,P582))","v":""},""]
[null,null,null,null,null,null,null,"",null,"","","","","","","",{"$f":"IF(P583=\"\",\"\",COUNTIF(P584:$P$2087,P583)+COUNTIF('TD-2R-EC'!$P$11:$P$612,P583))","v":""},""]
[null,null,null,null,null,null,null,"",null,"","","","","","","",{"$f":"IF(P584=\"\",\"\",COUNTIF(P585:$P$2087,P584)+COUNTIF('TD-2R-EC'!$P$11:$P$612,P584))","v":""},""]
[null,null,null,null,null,null,null,"",null,"","","","","","","",{"$f":"IF(P585=\"\",\"\",COUNTIF(P586:$P$2087,P585)+COUNTIF('TD-2R-EC'!$P$11:$P$612,P585))","v":""},""]
[null,null,null,null,null,null,null,"",null,"","","","","","","",{"$f":"IF(P586=\"\",\"\",COUNTIF(P587:$P$2087,P586)+COUNTIF('TD-2R-EC'!$P$11:$P$612,P586))","v":""},""]
[null,null,null,null,null,null,null,"",null,"","","","","","","",{"$f":"IF(P587=\"\",\"\",COUNTIF(P588:$P$2087,P587)+COUNTIF('TD-2R-EC'!$P$11:$P$612,P587))","v":""},""]
[null,null,null,null,null,null,null,"",null,"","","","","","","",{"$f":"IF(P588=\"\",\"\",COUNTIF(P589:$P$2087,P588)+COUNTIF('TD-2R-EC'!$P$11:$P$612,P588))","v":""},""]
[null,null,null,null,null,null,null,"",null,"","","","","","","",{"$f":"IF(P589=\"\",\"\",COUNTIF(P590:$P$2087,P589)+COUNTIF('TD-2R-EC'!$P$11:$P$612,P589))","v":""},""]
[null,null,null,null,null,null,null,{"$f":"IF(ISBLANK(F590),\"\",SUM(G590*60)/F590)","v":""},null,"","","","","","","",{"$f":"IF(P590=\"\",\"\",COUNTIF(P591:$P$2087,P590)+COUNTIF('TD-2R-EC'!$P$11:$P$612,P590))","v":""},""]
[null,null,null,null,null,null,null,"",null,{"$f":"IF(NOT(ISBLANK(G591)),G591*I591,\"\")","v":""},"","","",{"$f":"IF(NOT(ISBLANK(G591)),SUM(K591:M591),\"\")","v":""},{"$f":"IF(NOT(ISBLANK(I591)),I591*N591,\"\")","v":""},"",{"$f":"IF(P591=\"\",\"\",COUNTIF(P592:$P$2087,P591)+COUNTIF('TD-2R-EC'!$P$11:$P$612,P591))","v":""},{"$f":"IF(Q591>0,RIGHT(P591,2),\"\")","v":""}]
[null,null,null,null,null,null,null,"",null,"","","","","","","",{"$f":"IF(P592=\"\",\"\",COUNTIF(P593:$P$2087,P592)+COUNTIF('TD-2R-EC'!$P$11:$P$612,P592))","v":""},""]
[null,null,null,null,null,null,null,"",null,"","","","","","","",{"$f":"IF(P593=\"\",\"\",COUNTIF(P594:$P$2087,P593)+COUNTIF('TD-2R-EC'!$P$11:$P$612,P593))","v":""},""]
[null,null,null,null,null,null,null,"",null,"","","","","","","",{"$f":"IF(P594=\"\",\"\",COUNTIF(P595:$P$2087,P594)+COUNTIF('TD-2R-EC'!$P$11:$P$612,P594))","v":""},""]
[null,null,null,null,null,null,null,"",null,"","","","","","","",{"$f":"IF(P595=\"\",\"\",COUNTIF(P596:$P$2087,P595)+COUNTIF('TD-2R-EC'!$P$11:$P$612,P595))","v":""},""]
[null,null,null,null,null,null,null,"",null,"","","","","","","",{"$f":"IF(P596=\"\",\"\",COUNTIF(P597:$P$2087,P596)+COUNTIF('TD-2R-EC'!$P$11:$P$612,P596))","v":""},""]
[null,null,null,null,null,null,null,"",null,"","","","","","","",{"$f":"IF(P597=\"\",\"\",COUNTIF(P598:$P$2087,P597)+COUNTIF('TD-2R-EC'!$P$11:$P$612,P597))","v":""},""]
[null,null,null,null,null,null,null,"",null,"","","","","","","",{"$f":"IF(P598=\"\",\"\",COUNTIF(P599:$P$2087,P598)+COUNTIF('TD-2R-EC'!$P$11:$P$612,P598))","v":""},""]
[null,null,null,null,null,null,null,"",null,"","","","","","","",{"$f":"IF(P599=\"\",\"\",COUNTIF(P600:$P$2087,P599)+COUNTIF('TD-2R-EC'!$P$11:$P$612,P599))","v":""},""]
[null,null,null,null,null,null,null,"",null,"","","","","","","",{"$f":"IF(P600=\"\",\"\",COUNTIF(P601:$P$2087,P600)+COUNTIF('TD-2R-EC'!$P$11:$P$612,P600))","v":""},""]
[null,null,null,null,null,null,null,"",null,"","","","","","","",{"$f":"IF(P601=\"\",\"\",COUNTIF(P602:$P$2087,P601)+COUNTIF('TD-2R-EC'!$P$11:$P$612,P601))","v":""},""]
[null,null,null,null,null,null,null,"",null,"","","","","","","",{"$f":"IF(P602=\"\",\"\",COUNTIF(P603:$P$2087,P602)+COUNTIF('TD-2R-EC'!$P$11:$P$612,P602))","v":""},""]
[null,null,null,null,null,null,null,"",null,"","","","","","","",{"$f":"IF(P603=\"\",\"\",COUNTIF(P604:$P$2087,P603)+COUNTIF('TD-2R-EC'!$P$11:$P$612,P603))","v":""},""]
[null,null,null,null,null,null,null,"",null,"","","","","","","",{"$f":"IF(P604=\"\",\"\",COUNTIF(P605:$P$2087,P604)+COUNTIF('TD-2R-EC'!$P$11:$P$612,P604))","v":""},""]
[null,null,null,null,null,null,null,"",null,"","","","","","","",{"$f":"IF(P605=\"\",\"\",COUNTIF(P606:$P$2087,P605)+COUNTIF('TD-2R-EC'!$P$11:$P$612,P605))","v":""},""]
[null,null,null,null,null,null,null,"",null,"","","","","","","",{"$f":"IF(P606=\"\",\"\",COUNTIF(P607:$P$2087,P606)+COUNTIF('TD-2R-EC'!$P$11:$P$612,P606))","v":""},""]
[null,null,null,null,null,null,null,"",null,"","","","","","","",{"$f":"IF(P607=\"\",\"\",COUNTIF(P608:$P$2087,P607)+COUNTIF('TD-2R-EC'!$P$11:$P$612,P607))","v":""},""]
[null,null,null,null,null,null,null,"",null,"","","","","","","",{"$f":"IF(P608=\"\",\"\",COUNTIF(P609:$P$2087,P608)+COUNTIF('TD-2R-EC'!$P$11:$P$612,P608))","v":""},""]
[null,null,null,null,null,null,null,"",null,"","","","","","","",{"$f":"IF(P609=\"\",\"\",COUNTIF(P610:$P$2087,P609)+COUNTIF('TD-2R-EC'!$P$11:$P$612,P609))","v":""},""]
[null,null,null,null,null,null,null,"",null,"","","","","","","",{"$f":"IF(P610=\"\",\"\",COUNTIF(P611:$P$2087,P610)+COUNTIF('TD-2R-EC'!$P$11:$P$612,P610))","v":""},""]
[null,null,null,null,null,null,null,"",null,"","","","","","","",{"$f":"IF(P611=\"\",\"\",COUNTIF(P612:$P$2087,P611)+COUNTIF('TD-2R-EC'!$P$11:$P$612,P611))","v":""},""]
[null,null,null,null,null,null,null,"",null,"","","","","","","",{"$f":"IF(P612=\"\",\"\",COUNTIF(P613:$P$2087,P612)+COUNTIF('TD-2R-EC'!$P$11:$P$612,P612))","v":""},""]
[null,null,null,null,null,null,null,"",null,"","","","","","","",{"$f":"IF(P613=\"\",\"\",COUNTIF(P614:$P$2087,P613)+COUNTIF('TD-2R-EC'!$P$11:$P$612,P613))","v":""},""]
[null,null,null,null,null,null,null,"",null,"","","","","","","",{"$f":"IF(P614=\"\",\"\",COUNTIF(P615:$P$2087,P614)+COUNTIF('TD-2R-EC'!$P$11:$P$612,P614))","v":""},""]
[null,null,null,null,null,null,null,"",null,"","","","","","","",{"$f":"IF(P615=\"\",\"\",COUNTIF(P616:$P$2087,P615)+COUNTIF('TD-2R-EC'!$P$11:$P$612,P615))","v":""},""]
[null,null,null,null,null,null,null,"",null,"","","","","","","",{"$f":"IF(P616=\"\",\"\",COUNTIF(P617:$P$2087,P616)+COUNTIF('TD-2R-EC'!$P$11:$P$612,P616))","v":""},""]
[null,null,null,null,null,null,null,"",null,"","","","","","","",{"$f":"IF(P617=\"\",\"\",COUNTIF(P618:$P$2087,P617)+COUNTIF('TD-2R-EC'!$P$11:$P$612,P617))","v":""},""]
[null,null,null,null,null,null,null,"",null,"","","","","","","",{"$f":"IF(P618=\"\",\"\",COUNTIF(P619:$P$2087,P618)+COUNTIF('TD-2R-EC'!$P$11:$P$612,P618))","v":""},""]
[null,null,null,null,null,null,null,"",null,"","","","","","","",{"$f":"IF(P619=\"\",\"\",COUNTIF(P620:$P$2087,P619)+COUNTIF('TD-2R-EC'!$P$11:$P$612,P619))","v":""},""]
[null,null,null,null,null,null,null,"",null,"","","","","","","",{"$f":"IF(P620=\"\",\"\",COUNTIF(P621:$P$2087,P620)+COUNTIF('TD-2R-EC'!$P$11:$P$612,P620))","v":""},""]
[null,null,null,null,null,null,null,"",null,"","","","","","","",{"$f":"IF(P621=\"\",\"\",COUNTIF(P622:$P$2087,P621)+COUNTIF('TD-2R-EC'!$P$11:$P$612,P621))","v":""},""]
[null,null,null,null,null,null,null,"",null,"","","","","","","",{"$f":"IF(P622=\"\",\"\",COUNTIF(P623:$P$2087,P622)+COUNTIF('TD-2R-EC'!$P$11:$P$612,P622))","v":""},""]
[null,null,null,null,null,null,null,"",null,"","","","","","","",{"$f":"IF(P623=\"\",\"\",COUNTIF(P624:$P$2087,P623)+COUNTIF('TD-2R-EC'!$P$11:$P$612,P623))","v":""},""]
[null,null,null,null,null,null,null,"",null,"","","","","","","",{"$f":"IF(P624=\"\",\"\",COUNTIF(P625:$P$2087,P624)+COUNTIF('TD-2R-EC'!$P$11:$P$612,P624))","v":""},""]
[null,null,null,null,null,null,null,"",null,"","","","","","","",{"$f":"IF(P625=\"\",\"\",COUNTIF(P626:$P$2087,P625)+COUNTIF('TD-2R-EC'!$P$11:$P$612,P625))","v":""},""]
[null,null,null,null,null,null,null,"",null,"","","","","","","",{"$f":"IF(P626=\"\",\"\",COUNTIF(P627:$P$2087,P626)+COUNTIF('TD-2R-EC'!$P$11:$P$612,P626))","v":""},""]
[null,null,null,null,null,null,null,"",null,"","","","","","","",{"$f":"IF(P627=\"\",\"\",COUNTIF(P628:$P$2087,P627)+COUNTIF('TD-2R-EC'!$P$11:$P$612,P627))","v":""},""]
[null,null,null,null,null,null,null,"",null,"","","","","","","",{"$f":"IF(P628=\"\",\"\",COUNTIF(P629:$P$2087,P628)+COUNTIF('TD-2R-EC'!$P$11:$P$612,P628))","v":""},""]
[null,null,null,null,null,null,null,"",null,"","","","","","","",{"$f":"IF(P629=\"\",\"\",COUNTIF(P630:$P$2087,P629)+COUNTIF('TD-2R-EC'!$P$11:$P$612,P629))","v":""},""]
[null,null,null,null,null,null,null,"",null,"","","","","","","",{"$f":"IF(P630=\"\",\"\",COUNTIF(P631:$P$2087,P630)+COUNTIF('TD-2R-EC'!$P$11:$P$612,P630))","v":""},""]
[null,null,null,null,null,null,null,"",null,"","","","","","","",{"$f":"IF(P631=\"\",\"\",COUNTIF(P632:$P$2087,P631)+COUNTIF('TD-2R-EC'!$P$11:$P$612,P631))","v":""},""]
[null,null,null,null,null,null,null,"",null,"","","","","","","",{"$f":"IF(P632=\"\",\"\",COUNTIF(P633:$P$2087,P632)+COUNTIF('TD-2R-EC'!$P$11:$P$612,P632))","v":""},""]
[null,null,null,null,null,null,null,"",null,"","","","","","","",{"$f":"IF(P633=\"\",\"\",COUNTIF(P634:$P$2087,P633)+COUNTIF('TD-2R-EC'!$P$11:$P$612,P633))","v":""},""]
[null,null,null,null,null,null,null,"",null,"","","","","","","",{"$f":"IF(P634=\"\",\"\",COUNTIF(P635:$P$2087,P634)+COUNTIF('TD-2R-EC'!$P$11:$P$612,P634))","v":""},""]
[null,null,null,null,null,null,null,"",null,"","","","","","","",{"$f":"IF(P635=\"\",\"\",COUNTIF(P636:$P$2087,P635)+COUNTIF('TD-2R-EC'!$P$11:$P$612,P635))","v":""},""]
[null,null,null,null,null,null,null,"",null,"","","","","","","",{"$f":"IF(P636=\"\",\"\",COUNTIF(P637:$P$2087,P636)+COUNTIF('TD-2R-EC'!$P$11:$P$612,P636))","v":""},""]
[null,null,null,null,null,null,null,"",null,"","","","","","",{"$f":"A637&D637&E637","v":""},{"$f":"IF(P637=\"\",\"\",COUNTIF(P638:$P$2087,P637)+COUNTIF('TD-2R-EC'!$P$11:$P$612,P637))","v":""},""]
[null,null,null,null,null,null,null,"",null,"",{"$f":"IF(NOT(ISBLANK(G638)),IF(A638>0,10*G638,\"\"),\"\")","v":""},{"$f":"IF(NOT(ISBLANK(G638)),IF(A638> 0,10*SUM(A638*G638),\"\"),\"\")","v":""},{"$f":"IF(NOT(ISBLANK(H638)),IF(A638> 0,G638/2*10,\"\"),\"\")","v":""},"","","",{"$f":"IF(P638=\"\",\"\",COUNTIF(P639:$P$2087,P638)+COUNTIF('TD-2R-EC'!$P$11:$P$612,P638))","v":""},""]
[null,null,null,null,null,null,null,"",null,"","","","","","","",{"$f":"IF(P639=\"\",\"\",COUNTIF(P640:$P$2087,P639)+COUNTIF('TD-2R-EC'!$P$11:$P$612,P639))","v":""},""]
[null,null,null,null,null,null,null,"",null,"","","","","","","",{"$f":"IF(P640=\"\",\"\",COUNTIF(P641:$P$2087,P640)+COUNTIF('TD-2R-EC'!$P$11:$P$612,P640))","v":""},""]
[null,null,null,null,null,null,null,"",null,"","","","","","","",{"$f":"IF(P641=\"\",\"\",COUNTIF(P642:$P$2087,P641)+COUNTIF('TD-2R-EC'!$P$11:$P$612,P641))","v":""},""]
[null,null,null,null,null,null,null,"",null,"","","","","","","",{"$f":"IF(P642=\"\",\"\",COUNTIF(P643:$P$2087,P642)+COUNTIF('TD-2R-EC'!$P$11:$P$612,P642))","v":""},""]
[null,null,null,null,null,null,null,"",null,"","","","","","","",{"$f":"IF(P643=\"\",\"\",COUNTIF(P644:$P$2087,P643)+COUNTIF('TD-2R-EC'!$P$11:$P$612,P643))","v":""},""]
[null,null,null,null,null,null,null,"",null,"","","","","","","",{"$f":"IF(P644=\"\",\"\",COUNTIF(P645:$P$2087,P644)+COUNTIF('TD-2R-EC'!$P$11:$P$612,P644))","v":""},""]
[null,null,null,null,null,null,null,"",null,"","","","","","","",{"$f":"IF(P645=\"\",\"\",COUNTIF(P646:$P$2087,P645)+COUNTIF('TD-2R-EC'!$P$11:$P$612,P645))","v":""},""]
[null,null,null,null,null,null,null,"",null,"","","","","","","",{"$f":"IF(P646=\"\",\"\",COUNTIF(P647:$P$2087,P646)+COUNTIF('TD-2R-EC'!$P$11:$P$612,P646))","v":""},""]
[null,null,null,null,null,null,null,"",null,"","","","","","","",{"$f":"IF(P647=\"\",\"\",COUNTIF(P648:$P$2087,P647)+COUNTIF('TD-2R-EC'!$P$11:$P$612,P647))","v":""},""]
[null,null,null,null,null,null,null,"",null,"","","","","","","",{"$f":"IF(P648=\"\",\"\",COUNTIF(P649:$P$2087,P648)+COUNTIF('TD-2R-EC'!$P$11:$P$612,P648))","v":""},""]
[null,null,null,null,null,null,null,"",null,"","","","","","","",{"$f":"IF(P649=\"\",\"\",COUNTIF(P650:$P$2087,P649)+COUNTIF('TD-2R-EC'!$P$11:$P$612,P649))","v":""},""]
[null,null,null,null,null,null,null,"",null,"","","","","","","",{"$f":"IF(P650=\"\",\"\",COUNTIF(P651:$P$2087,P650)+COUNTIF('TD-2R-EC'!$P$11:$P$612,P650))","v":""},""]
[null,null,null,null,null,null,null,"",null,"","","","","","","",{"$f":"IF(P651=\"\",\"\",COUNTIF(P652:$P$2087,P651)+COUNTIF('TD-2R-EC'!$P$11:$P$612,P651))","v":""},""]
[null,null,null,null,null,null,null,"",null,"","","","","","","",{"$f":"IF(P652=\"\",\"\",COUNTIF(P653:$P$2087,P652)+COUNTIF('TD-2R-EC'!$P$11:$P$612,P652))","v":""},""]
[null,null,null,null,null,null,null,"",null,"","","","","","","",{"$f":"IF(P653=\"\",\"\",COUNTIF(P654:$P$2087,P653)+COUNTIF('TD-2R-EC'!$P$11:$P$612,P653))","v":""},""]
[null,null,null,null,null,null,null,{"$f":"IF(ISBLANK(F654),\"\",SUM(G654*60)/F654)","v":""},null,"","","","","","","",{"$f":"IF(P654=\"\",\"\",COUNTIF(P655:$P$2087,P654)+COUNTIF('TD-2R-EC'!$P$11:$P$612,P654))","v":""},""]
[null,null,null,null,null,null,null,"",null,{"$f":"IF(NOT(ISBLANK(G655)),G655*I655,\"\")","v":""},"","","",{"$f":"IF(NOT(ISBLANK(G655)),SUM(K655:M655),\"\")","v":""},{"$f":"IF(NOT(ISBLANK(I655)),I655*N655,\"\")","v":""},"",{"$f":"IF(P655=\"\",\"\",COUNTIF(P656:$P$2087,P655)+COUNTIF('TD-2R-EC'!$P$11:$P$612,P655))","v":""},{"$f":"IF(Q655>0,RIGHT(P655,2),\"\")","v":""}]
[null,null,null,null,null,null,null,"",null,"","","","","","","",{"$f":"IF(P656=\"\",\"\",COUNTIF(P657:$P$2087,P656)+COUNTIF('TD-2R-EC'!$P$11:$P$612,P656))","v":""},""]
[null,null,null,null,null,null,null,"",null,"","","","","","","",{"$f":"IF(P657=\"\",\"\",COUNTIF(P658:$P$2087,P657)+COUNTIF('TD-2R-EC'!$P$11:$P$612,P657))","v":""},""]
[null,null,null,null,null,null,null,"",null,"","","","","","","",{"$f":"IF(P658=\"\",\"\",COUNTIF(P659:$P$2087,P658)+COUNTIF('TD-2R-EC'!$P$11:$P$612,P658))","v":""},""]
[null,null,null,null,null,null,null,"",null,"","","","","","","",{"$f":"IF(P659=\"\",\"\",COUNTIF(P660:$P$2087,P659)+COUNTIF('TD-2R-EC'!$P$11:$P$612,P659))","v":""},""]
[null,null,null,null,null,null,null,"",null,"","","","","","","",{"$f":"IF(P660=\"\",\"\",COUNTIF(P661:$P$2087,P660)+COUNTIF('TD-2R-EC'!$P$11:$P$612,P660))","v":""},""]
[null,null,null,null,null,null,null,"",null,"","","","","","","",{"$f":"IF(P661=\"\",\"\",COUNTIF(P662:$P$2087,P661)+COUNTIF('TD-2R-EC'!$P$11:$P$612,P661))","v":""},""]
[null,null,null,null,null,null,null,"",null,"","","","","","","",{"$f":"IF(P662=\"\",\"\",COUNTIF(P663:$P$2087,P662)+COUNTIF('TD-2R-EC'!$P$11:$P$612,P662))","v":""},""]
[null,null,null,null,null,null,null,"",null,"","","","","","","",{"$f":"IF(P663=\"\",\"\",COUNTIF(P664:$P$2087,P663)+COUNTIF('TD-2R-EC'!$P$11:$P$612,P663))","v":""},""]
[null,null,null,null,null,null,null,"",null,"","","","","","","",{"$f":"IF(P664=\"\",\"\",COUNTIF(P665:$P$2087,P664)+COUNTIF('TD-2R-EC'!$P$11:$P$612,P664))","v":""},""]
[null,null,null,null,null,null,null,"",null,"","","","","","","",{"$f":"IF(P665=\"\",\"\",COUNTIF(P666:$P$2087,P665)+COUNTIF('TD-2R-EC'!$P$11:$P$612,P665))","v":""},""]
[null,null,null,null,null,null,null,"",null,"","","","","","","",{"$f":"IF(P666=\"\",\"\",COUNTIF(P667:$P$2087,P666)+COUNTIF('TD-2R-EC'!$P$11:$P$612,P666))","v":""},""]
[null,null,null,null,null,null,null,"",null,"","","","","","","",{"$f":"IF(P667=\"\",\"\",COUNTIF(P668:$P$2087,P667)+COUNTIF('TD-2R-EC'!$P$11:$P$612,P667))","v":""},""]
[null,null,null,null,null,null,null,"",null,"","","","","","","",{"$f":"IF(P668=\"\",\"\",COUNTIF(P669:$P$2087,P668)+COUNTIF('TD-2R-EC'!$P$11:$P$612,P668))","v":""},""]
[null,null,null,null,null,null,null,"",null,"","","","","","","",{"$f":"IF(P669=\"\",\"\",COUNTIF(P670:$P$2087,P669)+COUNTIF('TD-2R-EC'!$P$11:$P$612,P669))","v":""},""]
[null,null,null,null,null,null,null,"",null,"","","","","","","",{"$f":"IF(P670=\"\",\"\",COUNTIF(P671:$P$2087,P670)+COUNTIF('TD-2R-EC'!$P$11:$P$612,P670))","v":""},""]
[null,null,null,null,null,null,null,"",null,"","","","","","","",{"$f":"IF(P671=\"\",\"\",COUNTIF(P672:$P$2087,P671)+COUNTIF('TD-2R-EC'!$P$11:$P$612,P671))","v":""},""]
[null,null,null,null,null,null,null,"",null,"","","","","","","",{"$f":"IF(P672=\"\",\"\",COUNTIF(P673:$P$2087,P672)+COUNTIF('TD-2R-EC'!$P$11:$P$612,P672))","v":""},""]
[null,null,null,null,null,null,null,"",null,"","","","","","","",{"$f":"IF(P673=\"\",\"\",COUNTIF(P674:$P$2087,P673)+COUNTIF('TD-2R-EC'!$P$11:$P$612,P673))","v":""},""]
[null,null,null,null,null,null,null,"",null,"","","","","","","",{"$f":"IF(P674=\"\",\"\",COUNTIF(P675:$P$2087,P674)+COUNTIF('TD-2R-EC'!$P$11:$P$612,P674))","v":""},""]
[null,null,null,null,null,null,null,"",null,"","","","","","","",{"$f":"IF(P675=\"\",\"\",COUNTIF(P676:$P$2087,P675)+COUNTIF('TD-2R-EC'!$P$11:$P$612,P675))","v":""},""]
[null,null,null,null,null,null,null,"",null,"","","","","","","",{"$f":"IF(P676=\"\",\"\",COUNTIF(P677:$P$2087,P676)+COUNTIF('TD-2R-EC'!$P$11:$P$612,P676))","v":""},""]
[null,null,null,null,null,null,null,"",null,"","","","","","","",{"$f":"IF(P677=\"\",\"\",COUNTIF(P678:$P$2087,P677)+COUNTIF('TD-2R-EC'!$P$11:$P$612,P677))","v":""},""]
[null,null,null,null,null,null,null,"",null,"","","","","","","",{"$f":"IF(P678=\"\",\"\",COUNTIF(P679:$P$2087,P678)+COUNTIF('TD-2R-EC'!$P$11:$P$612,P678))","v":""},""]
[null,null,null,null,null,null,null,"",null,"","","","","","","",{"$f":"IF(P679=\"\",\"\",COUNTIF(P680:$P$2087,P679)+COUNTIF('TD-2R-EC'!$P$11:$P$612,P679))","v":""},""]
[null,null,null,null,null,null,null,"",null,"","","","","","","",{"$f":"IF(P680=\"\",\"\",COUNTIF(P681:$P$2087,P680)+COUNTIF('TD-2R-EC'!$P$11:$P$612,P680))","v":""},""]
[null,null,null,null,null,null,null,"",null,"","","","","","","",{"$f":"IF(P681=\"\",\"\",COUNTIF(P682:$P$2087,P681)+COUNTIF('TD-2R-EC'!$P$11:$P$612,P681))","v":""},""]
[null,null,null,null,null,null,null,"",null,"","","","","","","",{"$f":"IF(P682=\"\",\"\",COUNTIF(P683:$P$2087,P682)+COUNTIF('TD-2R-EC'!$P$11:$P$612,P682))","v":""},""]
[null,null,null,null,null,null,null,"",null,"","","","","","","",{"$f":"IF(P683=\"\",\"\",COUNTIF(P684:$P$2087,P683)+COUNTIF('TD-2R-EC'!$P$11:$P$612,P683))","v":""},""]
[null,null,null,null,null,null,null,"",null,"","","","","","","",{"$f":"IF(P684=\"\",\"\",COUNTIF(P685:$P$2087,P684)+COUNTIF('TD-2R-EC'!$P$11:$P$612,P684))","v":""},""]
[null,null,null,null,null,null,null,"",null,"","","","","","","",{"$f":"IF(P685=\"\",\"\",COUNTIF(P686:$P$2087,P685)+COUNTIF('TD-2R-EC'!$P$11:$P$612,P685))","v":""},""]
[null,null,null,null,null,null,null,"",null,"","","","","","","",{"$f":"IF(P686=\"\",\"\",COUNTIF(P687:$P$2087,P686)+COUNTIF('TD-2R-EC'!$P$11:$P$612,P686))","v":""},""]
[null,null,null,null,null,null,null,"",null,"","","","","","","",{"$f":"IF(P687=\"\",\"\",COUNTIF(P688:$P$2087,P687)+COUNTIF('TD-2R-EC'!$P$11:$P$612,P687))","v":""},""]
[null,null,null,null,null,null,null,"",null,"","","","","","","",{"$f":"IF(P688=\"\",\"\",COUNTIF(P689:$P$2087,P688)+COUNTIF('TD-2R-EC'!$P$11:$P$612,P688))","v":""},""]
[null,null,null,null,null,null,null,"",null,"","","","","","","",{"$f":"IF(P689=\"\",\"\",COUNTIF(P690:$P$2087,P689)+COUNTIF('TD-2R-EC'!$P$11:$P$612,P689))","v":""},""]
[null,null,null,null,null,null,null,"",null,"","","","","","","",{"$f":"IF(P690=\"\",\"\",COUNTIF(P691:$P$2087,P690)+COUNTIF('TD-2R-EC'!$P$11:$P$612,P690))","v":""},""]
[null,null,null,null,null,null,null,"",null,"","","","","","","",{"$f":"IF(P691=\"\",\"\",COUNTIF(P692:$P$2087,P691)+COUNTIF('TD-2R-EC'!$P$11:$P$612,P691))","v":""},""]
[null,null,null,null,null,null,null,"",null,"","","","","","","",{"$f":"IF(P692=\"\",\"\",COUNTIF(P693:$P$2087,P692)+COUNTIF('TD-2R-EC'!$P$11:$P$612,P692))","v":""},""]
[null,null,null,null,null,null,null,"",null,"","","","","","","",{"$f":"IF(P693=\"\",\"\",COUNTIF(P694:$P$2087,P693)+COUNTIF('TD-2R-EC'!$P$11:$P$612,P693))","v":""},""]
[null,null,null,null,null,null,null,"",null,"","","","","","","",{"$f":"IF(P694=\"\",\"\",COUNTIF(P695:$P$2087,P694)+COUNTIF('TD-2R-EC'!$P$11:$P$612,P694))","v":""},""]
[null,null,null,null,null,null,null,"",null,"","","","","","","",{"$f":"IF(P695=\"\",\"\",COUNTIF(P696:$P$2087,P695)+COUNTIF('TD-2R-EC'!$P$11:$P$612,P695))","v":""},""]
[null,null,null,null,null,null,null,"",null,"","","","","","","",{"$f":"IF(P696=\"\",\"\",COUNTIF(P697:$P$2087,P696)+COUNTIF('TD-2R-EC'!$P$11:$P$612,P696))","v":""},""]
[null,null,null,null,null,null,null,"",null,"","","","","","","",{"$f":"IF(P697=\"\",\"\",COUNTIF(P698:$P$2087,P697)+COUNTIF('TD-2R-EC'!$P$11:$P$612,P697))","v":""},""]
[null,null,null,null,null,null,null,"",null,"","","","","","","",{"$f":"IF(P698=\"\",\"\",COUNTIF(P699:$P$2087,P698)+COUNTIF('TD-2R-EC'!$P$11:$P$612,P698))","v":""},""]
[null,null,null,null,null,null,null,"",null,"","","","","","","",{"$f":"IF(P699=\"\",\"\",COUNTIF(P700:$P$2087,P699)+COUNTIF('TD-2R-EC'!$P$11:$P$612,P699))","v":""},""]
[null,null,null,null,null,null,null,"",null,"","","","","","","",{"$f":"IF(P700=\"\",\"\",COUNTIF(P701:$P$2087,P700)+COUNTIF('TD-2R-EC'!$P$11:$P$612,P700))","v":""},""]
[null,null,null,null,null,null,null,"",null,"","","","","","",{"$f":"A701&D701&E701","v":""},{"$f":"IF(P701=\"\",\"\",COUNTIF(P702:$P$2087,P701)+COUNTIF('TD-2R-EC'!$P$11:$P$612,P701))","v":""},""]
[null,null,null,null,null,null,null,"",null,"",{"$f":"IF(NOT(ISBLANK(G702)),IF(A702>0,10*G702,\"\"),\"\")","v":""},{"$f":"IF(NOT(ISBLANK(G702)),IF(A702> 0,10*SUM(A702*G702),\"\"),\"\")","v":""},{"$f":"IF(NOT(ISBLANK(H702)),IF(A702> 0,G702/2*10,\"\"),\"\")","v":""},"","","",{"$f":"IF(P702=\"\",\"\",COUNTIF(P703:$P$2087,P702)+COUNTIF('TD-2R-EC'!$P$11:$P$612,P702))","v":""},""]
[null,null,null,null,null,null,null,"",null,"","","","","","","",{"$f":"IF(P703=\"\",\"\",COUNTIF(P704:$P$2087,P703)+COUNTIF('TD-2R-EC'!$P$11:$P$612,P703))","v":""},""]
[null,null,null,null,null,null,null,"",null,"","","","","","","",{"$f":"IF(P704=\"\",\"\",COUNTIF(P705:$P$2087,P704)+COUNTIF('TD-2R-EC'!$P$11:$P$612,P704))","v":""},""]
[null,null,null,null,null,null,null,"",null,"","","","","","","",{"$f":"IF(P705=\"\",\"\",COUNTIF(P706:$P$2087,P705)+COUNTIF('TD-2R-EC'!$P$11:$P$612,P705))","v":""},""]
[null,null,null,null,null,null,null,"",null,"","","","","","","",{"$f":"IF(P706=\"\",\"\",COUNTIF(P707:$P$2087,P706)+COUNTIF('TD-2R-EC'!$P$11:$P$612,P706))","v":""},""]
[null,null,null,null,null,null,null,"",null,"","","","","","","",{"$f":"IF(P707=\"\",\"\",COUNTIF(P708:$P$2087,P707)+COUNTIF('TD-2R-EC'!$P$11:$P$612,P707))","v":""},""]
[null,null,null,null,null,null,null,"",null,"","","","","","","",{"$f":"IF(P708=\"\",\"\",COUNTIF(P709:$P$2087,P708)+COUNTIF('TD-2R-EC'!$P$11:$P$612,P708))","v":""},""]
[null,null,null,null,null,null,null,"",null,"","","","","","","",{"$f":"IF(P709=\"\",\"\",COUNTIF(P710:$P$2087,P709)+COUNTIF('TD-2R-EC'!$P$11:$P$612,P709))","v":""},""]
[null,null,null,null,null,null,null,"",null,"","","","","","","",{"$f":"IF(P710=\"\",\"\",COUNTIF(P711:$P$2087,P710)+COUNTIF('TD-2R-EC'!$P$11:$P$612,P710))","v":""},""]
[null,null,null,null,null,null,null,"",null,"","","","","","","",{"$f":"IF(P711=\"\",\"\",COUNTIF(P712:$P$2087,P711)+COUNTIF('TD-2R-EC'!$P$11:$P$612,P711))","v":""},""]
[null,null,null,null,null,null,null,"",null,"","","","","","","",{"$f":"IF(P712=\"\",\"\",COUNTIF(P713:$P$2087,P712)+COUNTIF('TD-2R-EC'!$P$11:$P$612,P712))","v":""},""]
[null,null,null,null,null,null,null,"",null,"","","","","","","",{"$f":"IF(P713=\"\",\"\",COUNTIF(P714:$P$2087,P713)+COUNTIF('TD-2R-EC'!$P$11:$P$612,P713))","v":""},""]
[null,null,null,null,null,null,null,"",null,"","","","","","","",{"$f":"IF(P714=\"\",\"\",COUNTIF(P715:$P$2087,P714)+COUNTIF('TD-2R-EC'!$P$11:$P$612,P714))","v":""},""]
[null,null,null,null,null,null,null,"",null,"","","","","","","",{"$f":"IF(P715=\"\",\"\",COUNTIF(P716:$P$2087,P715)+COUNTIF('TD-2R-EC'!$P$11:$P$612,P715))","v":""},""]
[null,null,null,null,null,null,null,"",null,"","","","","","","",{"$f":"IF(P716=\"\",\"\",COUNTIF(P717:$P$2087,P716)+COUNTIF('TD-2R-EC'!$P$11:$P$612,P716))","v":""},""]
[null,null,null,null,null,null,null,"",null,"","","","","","","",{"$f":"IF(P717=\"\",\"\",COUNTIF(P718:$P$2087,P717)+COUNTIF('TD-2R-EC'!$P$11:$P$612,P717))","v":""},""]
[null,null,null,null,null,null,null,{"$f":"IF(ISBLANK(F718),\"\",SUM(G718*60)/F718)","v":""},null,"","","","","","","",{"$f":"IF(P718=\"\",\"\",COUNTIF(P719:$P$2087,P718)+COUNTIF('TD-2R-EC'!$P$11:$P$612,P718))","v":""},""]
[null,null,null,null,null,null,null,"",null,{"$f":"IF(NOT(ISBLANK(G719)),G719*I719,\"\")","v":""},"","","",{"$f":"IF(NOT(ISBLANK(G719)),SUM(K719:M719),\"\")","v":""},{"$f":"IF(NOT(ISBLANK(I719)),I719*N719,\"\")","v":""},"",{"$f":"IF(P719=\"\",\"\",COUNTIF(P720:$P$2087,P719)+COUNTIF('TD-2R-EC'!$P$11:$P$612,P719))","v":""},{"$f":"IF(Q719>0,RIGHT(P719,2),\"\")","v":""}]
[null,null,null,null,null,null,null,"",null,"","","","","","","",{"$f":"IF(P720=\"\",\"\",COUNTIF(P721:$P$2087,P720)+COUNTIF('TD-2R-EC'!$P$11:$P$612,P720))","v":""},""]
[null,null,null,null,null,null,null,"",null,"","","","","","","",{"$f":"IF(P721=\"\",\"\",COUNTIF(P722:$P$2087,P721)+COUNTIF('TD-2R-EC'!$P$11:$P$612,P721))","v":""},""]
[null,null,null,null,null,null,null,"",null,"","","","","","","",{"$f":"IF(P722=\"\",\"\",COUNTIF(P723:$P$2087,P722)+COUNTIF('TD-2R-EC'!$P$11:$P$612,P722))","v":""},""]
[null,null,null,null,null,null,null,"",null,"","","","","","","",{"$f":"IF(P723=\"\",\"\",COUNTIF(P724:$P$2087,P723)+COUNTIF('TD-2R-EC'!$P$11:$P$612,P723))","v":""},""]
[null,null,null,null,null,null,null,"",null,"","","","","","","",{"$f":"IF(P724=\"\",\"\",COUNTIF(P725:$P$2087,P724)+COUNTIF('TD-2R-EC'!$P$11:$P$612,P724))","v":""},""]
[null,null,null,null,null,null,null,"",null,"","","","","","","",{"$f":"IF(P725=\"\",\"\",COUNTIF(P726:$P$2087,P725)+COUNTIF('TD-2R-EC'!$P$11:$P$612,P725))","v":""},""]
[null,null,null,null,null,null,null,"",null,"","","","","","","",{"$f":"IF(P726=\"\",\"\",COUNTIF(P727:$P$2087,P726)+COUNTIF('TD-2R-EC'!$P$11:$P$612,P726))","v":""},""]
[null,null,null,null,null,null,null,"",null,"","","","","","","",{"$f":"IF(P727=\"\",\"\",COUNTIF(P728:$P$2087,P727)+COUNTIF('TD-2R-EC'!$P$11:$P$612,P727))","v":""},""]
[null,null,null,null,null,null,null,"",null,"","","","","","","",{"$f":"IF(P728=\"\",\"\",COUNTIF(P729:$P$2087,P728)+COUNTIF('TD-2R-EC'!$P$11:$P$612,P728))","v":""},""]
[null,null,null,null,null,null,null,"",null,"","","","","","","",{"$f":"IF(P729=\"\",\"\",COUNTIF(P730:$P$2087,P729)+COUNTIF('TD-2R-EC'!$P$11:$P$612,P729))","v":""},""]
[null,null,null,null,null,null,null,"",null,"","","","","","","",{"$f":"IF(P730=\"\",\"\",COUNTIF(P731:$P$2087,P730)+COUNTIF('TD-2R-EC'!$P$11:$P$612,P730))","v":""},""]
[null,null,null,null,null,null,null,"",null,"","","","","","","",{"$f":"IF(P731=\"\",\"\",COUNTIF(P732:$P$2087,P731)+COUNTIF('TD-2R-EC'!$P$11:$P$612,P731))","v":""},""]
[null,null,null,null,null,null,null,"",null,"","","","","","","",{"$f":"IF(P732=\"\",\"\",COUNTIF(P733:$P$2087,P732)+COUNTIF('TD-2R-EC'!$P$11:$P$612,P732))","v":""},""]
[null,null,null,null,null,null,null,"",null,"","","","","","","",{"$f":"IF(P733=\"\",\"\",COUNTIF(P734:$P$2087,P733)+COUNTIF('TD-2R-EC'!$P$11:$P$612,P733))","v":""},""]
[null,null,null,null,null,null,null,"",null,"","","","","","","",{"$f":"IF(P734=\"\",\"\",COUNTIF(P735:$P$2087,P734)+COUNTIF('TD-2R-EC'!$P$11:$P$612,P734))","v":""},""]
[null,null,null,null,null,null,null,"",null,"","","","","","","",{"$f":"IF(P735=\"\",\"\",COUNTIF(P736:$P$2087,P735)+COUNTIF('TD-2R-EC'!$P$11:$P$612,P735))","v":""},""]
[null,null,null,null,null,null,null,"",null,"","","","","","","",{"$f":"IF(P736=\"\",\"\",COUNTIF(P737:$P$2087,P736)+COUNTIF('TD-2R-EC'!$P$11:$P$612,P736))","v":""},""]
[null,null,null,null,null,null,null,"",null,"","","","","","","",{"$f":"IF(P737=\"\",\"\",COUNTIF(P738:$P$2087,P737)+COUNTIF('TD-2R-EC'!$P$11:$P$612,P737))","v":""},""]
[null,null,null,null,null,null,null,"",null,"","","","","","","",{"$f":"IF(P738=\"\",\"\",COUNTIF(P739:$P$2087,P738)+COUNTIF('TD-2R-EC'!$P$11:$P$612,P738))","v":""},""]
[null,null,null,null,null,null,null,"",null,"","","","","","","",{"$f":"IF(P739=\"\",\"\",COUNTIF(P740:$P$2087,P739)+COUNTIF('TD-2R-EC'!$P$11:$P$612,P739))","v":""},""]
[null,null,null,null,null,null,null,"",null,"","","","","","","",{"$f":"IF(P740=\"\",\"\",COUNTIF(P741:$P$2087,P740)+COUNTIF('TD-2R-EC'!$P$11:$P$612,P740))","v":""},""]
[null,null,null,null,null,null,null,"",null,"","","","","","","",{"$f":"IF(P741=\"\",\"\",COUNTIF(P742:$P$2087,P741)+COUNTIF('TD-2R-EC'!$P$11:$P$612,P741))","v":""},""]
[null,null,null,null,null,null,null,"",null,"","","","","","","",{"$f":"IF(P742=\"\",\"\",COUNTIF(P743:$P$2087,P742)+COUNTIF('TD-2R-EC'!$P$11:$P$612,P742))","v":""},""]
[null,null,null,null,null,null,null,"",null,"","","","","","","",{"$f":"IF(P743=\"\",\"\",COUNTIF(P744:$P$2087,P743)+COUNTIF('TD-2R-EC'!$P$11:$P$612,P743))","v":""},""]
[null,null,null,null,null,null,null,"",null,"","","","","","","",{"$f":"IF(P744=\"\",\"\",COUNTIF(P745:$P$2087,P744)+COUNTIF('TD-2R-EC'!$P$11:$P$612,P744))","v":""},""]
[null,null,null,null,null,null,null,"",null,"","","","","","","",{"$f":"IF(P745=\"\",\"\",COUNTIF(P746:$P$2087,P745)+COUNTIF('TD-2R-EC'!$P$11:$P$612,P745))","v":""},""]
[null,null,null,null,null,null,null,"",null,"","","","","","","",{"$f":"IF(P746=\"\",\"\",COUNTIF(P747:$P$2087,P746)+COUNTIF('TD-2R-EC'!$P$11:$P$612,P746))","v":""},""]
[null,null,null,null,null,null,null,"",null,"","","","","","","",{"$f":"IF(P747=\"\",\"\",COUNTIF(P748:$P$2087,P747)+COUNTIF('TD-2R-EC'!$P$11:$P$612,P747))","v":""},""]
[null,null,null,null,null,null,null,"",null,"","","","","","","",{"$f":"IF(P748=\"\",\"\",COUNTIF(P749:$P$2087,P748)+COUNTIF('TD-2R-EC'!$P$11:$P$612,P748))","v":""},""]
[null,null,null,null,null,null,null,"",null,"","","","","","","",{"$f":"IF(P749=\"\",\"\",COUNTIF(P750:$P$2087,P749)+COUNTIF('TD-2R-EC'!$P$11:$P$612,P749))","v":""},""]
[null,null,null,null,null,null,null,"",null,"","","","","","","",{"$f":"IF(P750=\"\",\"\",COUNTIF(P751:$P$2087,P750)+COUNTIF('TD-2R-EC'!$P$11:$P$612,P750))","v":""},""]
[null,null,null,null,null,null,null,"",null,"","","","","","","",{"$f":"IF(P751=\"\",\"\",COUNTIF(P752:$P$2087,P751)+COUNTIF('TD-2R-EC'!$P$11:$P$612,P751))","v":""},""]
[null,null,null,null,null,null,null,"",null,"","","","","","","",{"$f":"IF(P752=\"\",\"\",COUNTIF(P753:$P$2087,P752)+COUNTIF('TD-2R-EC'!$P$11:$P$612,P752))","v":""},""]
[null,null,null,null,null,null,null,"",null,"","","","","","","",{"$f":"IF(P753=\"\",\"\",COUNTIF(P754:$P$2087,P753)+COUNTIF('TD-2R-EC'!$P$11:$P$612,P753))","v":""},""]
[null,null,null,null,null,null,null,"",null,"","","","","","","",{"$f":"IF(P754=\"\",\"\",COUNTIF(P755:$P$2087,P754)+COUNTIF('TD-2R-EC'!$P$11:$P$612,P754))","v":""},""]
[null,null,null,null,null,null,null,"",null,"","","","","","","",{"$f":"IF(P755=\"\",\"\",COUNTIF(P756:$P$2087,P755)+COUNTIF('TD-2R-EC'!$P$11:$P$612,P755))","v":""},""]
[null,null,null,null,null,null,null,"",null,"","","","","","","",{"$f":"IF(P756=\"\",\"\",COUNTIF(P757:$P$2087,P756)+COUNTIF('TD-2R-EC'!$P$11:$P$612,P756))","v":""},""]
[null,null,null,null,null,null,null,"",null,"","","","","","","",{"$f":"IF(P757=\"\",\"\",COUNTIF(P758:$P$2087,P757)+COUNTIF('TD-2R-EC'!$P$11:$P$612,P757))","v":""},""]
[null,null,null,null,null,null,null,"",null,"","","","","","","",{"$f":"IF(P758=\"\",\"\",COUNTIF(P759:$P$2087,P758)+COUNTIF('TD-2R-EC'!$P$11:$P$612,P758))","v":""},""]
[null,null,null,null,null,null,null,"",null,"","","","","","","",{"$f":"IF(P759=\"\",\"\",COUNTIF(P760:$P$2087,P759)+COUNTIF('TD-2R-EC'!$P$11:$P$612,P759))","v":""},""]
[null,null,null,null,null,null,null,"",null,"","","","","","","",{"$f":"IF(P760=\"\",\"\",COUNTIF(P761:$P$2087,P760)+COUNTIF('TD-2R-EC'!$P$11:$P$612,P760))","v":""},""]
[null,null,null,null,null,null,null,"",null,"","","","","","","",{"$f":"IF(P761=\"\",\"\",COUNTIF(P762:$P$2087,P761)+COUNTIF('TD-2R-EC'!$P$11:$P$612,P761))","v":""},""]
[null,null,null,null,null,null,null,"",null,"","","","","","","",{"$f":"IF(P762=\"\",\"\",COUNTIF(P763:$P$2087,P762)+COUNTIF('TD-2R-EC'!$P$11:$P$612,P762))","v":""},""]
[null,null,null,null,null,null,null,"",null,"","","","","","","",{"$f":"IF(P763=\"\",\"\",COUNTIF(P764:$P$2087,P763)+COUNTIF('TD-2R-EC'!$P$11:$P$612,P763))","v":""},""]
[null,null,null,null,null,null,null,"",null,"","","","","","","",{"$f":"IF(P764=\"\",\"\",COUNTIF(P765:$P$2087,P764)+COUNTIF('TD-2R-EC'!$P$11:$P$612,P764))","v":""},""]
[null,null,null,null,null,null,null,"",null,"","","","","","",{"$f":"A765&D765&E765","v":""},{"$f":"IF(P765=\"\",\"\",COUNTIF(P766:$P$2087,P765)+COUNTIF('TD-2R-EC'!$P$11:$P$612,P765))","v":""},""]
[null,null,null,null,null,null,null,"",null,"",{"$f":"IF(NOT(ISBLANK(G766)),IF(A766>0,10*G766,\"\"),\"\")","v":""},{"$f":"IF(NOT(ISBLANK(G766)),IF(A766> 0,10*SUM(A766*G766),\"\"),\"\")","v":""},{"$f":"IF(NOT(ISBLANK(H766)),IF(A766> 0,G766/2*10,\"\"),\"\")","v":""},"","","",{"$f":"IF(P766=\"\",\"\",COUNTIF(P767:$P$2087,P766)+COUNTIF('TD-2R-EC'!$P$11:$P$612,P766))","v":""},""]
[null,null,null,null,null,null,null,"",null,"","","","","","","",{"$f":"IF(P767=\"\",\"\",COUNTIF(P768:$P$2087,P767)+COUNTIF('TD-2R-EC'!$P$11:$P$612,P767))","v":""},""]
[null,null,null,null,null,null,null,"",null,"","","","","","","",{"$f":"IF(P768=\"\",\"\",COUNTIF(P769:$P$2087,P768)+COUNTIF('TD-2R-EC'!$P$11:$P$612,P768))","v":""},""]
[null,null,null,null,null,null,null,"",null,"","","","","","","",{"$f":"IF(P769=\"\",\"\",COUNTIF(P770:$P$2087,P769)+COUNTIF('TD-2R-EC'!$P$11:$P$612,P769))","v":""},""]
[null,null,null,null,null,null,null,"",null,"","","","","","","",{"$f":"IF(P770=\"\",\"\",COUNTIF(P771:$P$2087,P770)+COUNTIF('TD-2R-EC'!$P$11:$P$612,P770))","v":""},""]
[null,null,null,null,null,null,null,"",null,"","","","","","","",{"$f":"IF(P771=\"\",\"\",COUNTIF(P772:$P$2087,P771)+COUNTIF('TD-2R-EC'!$P$11:$P$612,P771))","v":""},""]
[null,null,null,null,null,null,null,"",null,"","","","","","","",{"$f":"IF(P772=\"\",\"\",COUNTIF(P773:$P$2087,P772)+COUNTIF('TD-2R-EC'!$P$11:$P$612,P772))","v":""},""]
[null,null,null,null,null,null,null,"",null,"","","","","","","",{"$f":"IF(P773=\"\",\"\",COUNTIF(P774:$P$2087,P773)+COUNTIF('TD-2R-EC'!$P$11:$P$612,P773))","v":""},""]
[null,null,null,null,null,null,null,"",null,"","","","","","","",{"$f":"IF(P774=\"\",\"\",COUNTIF(P775:$P$2087,P774)+COUNTIF('TD-2R-EC'!$P$11:$P$612,P774))","v":""},""]
[null,null,null,null,null,null,null,"",null,"","","","","","","",{"$f":"IF(P775=\"\",\"\",COUNTIF(P776:$P$2087,P775)+COUNTIF('TD-2R-EC'!$P$11:$P$612,P775))","v":""},""]
[null,null,null,null,null,null,null,"",null,"","","","","","","",{"$f":"IF(P776=\"\",\"\",COUNTIF(P777:$P$2087,P776)+COUNTIF('TD-2R-EC'!$P$11:$P$612,P776))","v":""},""]
[null,null,null,null,null,null,null,"",null,"","","","","","","",{"$f":"IF(P777=\"\",\"\",COUNTIF(P778:$P$2087,P777)+COUNTIF('TD-2R-EC'!$P$11:$P$612,P777))","v":""},""]
[null,null,null,null,null,null,null,"",null,"","","","","","","",{"$f":"IF(P778=\"\",\"\",COUNTIF(P779:$P$2087,P778)+COUNTIF('TD-2R-EC'!$P$11:$P$612,P778))","v":""},""]
[null,null,null,null,null,null,null,"",null,"","","","","","","",{"$f":"IF(P779=\"\",\"\",COUNTIF(P780:$P$2087,P779)+COUNTIF('TD-2R-EC'!$P$11:$P$612,P779))","v":""},""]
[null,null,null,null,null,null,null,"",null,"","","","","","","",{"$f":"IF(P780=\"\",\"\",COUNTIF(P781:$P$2087,P780)+COUNTIF('TD-2R-EC'!$P$11:$P$612,P780))","v":""},""]
[null,null,null,null,null,null,null,"",null,"","","","","","","",{"$f":"IF(P781=\"\",\"\",COUNTIF(P782:$P$2087,P781)+COUNTIF('TD-2R-EC'!$P$11:$P$612,P781))","v":""},""]
[null,null,null,null,null,null,null,{"$f":"IF(ISBLANK(F782),\"\",SUM(G782*60)/F782)","v":""},null,"","","","","","","",{"$f":"IF(P782=\"\",\"\",COUNTIF(P783:$P$2087,P782)+COUNTIF('TD-2R-EC'!$P$11:$P$612,P782))","v":""},""]
[null,null,null,null,null,null,null,"",null,{"$f":"IF(NOT(ISBLANK(G783)),G783*I783,\"\")","v":""},"","","",{"$f":"IF(NOT(ISBLANK(G783)),SUM(K783:M783),\"\")","v":""},{"$f":"IF(NOT(ISBLANK(I783)),I783*N783,\"\")","v":""},"",{"$f":"IF(P783=\"\",\"\",COUNTIF(P784:$P$2087,P783)+COUNTIF('TD-2R-EC'!$P$11:$P$612,P783))","v":""},{"$f":"IF(Q783>0,RIGHT(P783,2),\"\")","v":""}]
[null,null,null,null,null,null,null,"",null,"","","","","","","",{"$f":"IF(P784=\"\",\"\",COUNTIF(P785:$P$2087,P784)+COUNTIF('TD-2R-EC'!$P$11:$P$612,P784))","v":""},""]
[null,null,null,null,null,null,null,"",null,"","","","","","","",{"$f":"IF(P785=\"\",\"\",COUNTIF(P786:$P$2087,P785)+COUNTIF('TD-2R-EC'!$P$11:$P$612,P785))","v":""},""]
[null,null,null,null,null,null,null,"",null,"","","","","","","",{"$f":"IF(P786=\"\",\"\",COUNTIF(P787:$P$2087,P786)+COUNTIF('TD-2R-EC'!$P$11:$P$612,P786))","v":""},""]
[null,null,null,null,null,null,null,"",null,"","","","","","","",{"$f":"IF(P787=\"\",\"\",COUNTIF(P788:$P$2087,P787)+COUNTIF('TD-2R-EC'!$P$11:$P$612,P787))","v":""},""]
[null,null,null,null,null,null,null,"",null,"","","","","","","",{"$f":"IF(P788=\"\",\"\",COUNTIF(P789:$P$2087,P788)+COUNTIF('TD-2R-EC'!$P$11:$P$612,P788))","v":""},""]
[null,null,null,null,null,null,null,"",null,"","","","","","","",{"$f":"IF(P789=\"\",\"\",COUNTIF(P790:$P$2087,P789)+COUNTIF('TD-2R-EC'!$P$11:$P$612,P789))","v":""},""]
[null,null,null,null,null,null,null,"",null,"","","","","","","",{"$f":"IF(P790=\"\",\"\",COUNTIF(P791:$P$2087,P790)+COUNTIF('TD-2R-EC'!$P$11:$P$612,P790))","v":""},""]
[null,null,null,null,null,null,null,"",null,"","","","","","","",{"$f":"IF(P791=\"\",\"\",COUNTIF(P792:$P$2087,P791)+COUNTIF('TD-2R-EC'!$P$11:$P$612,P791))","v":""},""]
[null,null,null,null,null,null,null,"",null,"","","","","","","",{"$f":"IF(P792=\"\",\"\",COUNTIF(P793:$P$2087,P792)+COUNTIF('TD-2R-EC'!$P$11:$P$612,P792))","v":""},""]
[null,null,null,null,null,null,null,"",null,"","","","","","","",{"$f":"IF(P793=\"\",\"\",COUNTIF(P794:$P$2087,P793)+COUNTIF('TD-2R-EC'!$P$11:$P$612,P793))","v":""},""]
[null,null,null,null,null,null,null,"",null,"","","","","","","",{"$f":"IF(P794=\"\",\"\",COUNTIF(P795:$P$2087,P794)+COUNTIF('TD-2R-EC'!$P$11:$P$612,P794))","v":""},""]
[null,null,null,null,null,null,null,"",null,"","","","","","","",{"$f":"IF(P795=\"\",\"\",COUNTIF(P796:$P$2087,P795)+COUNTIF('TD-2R-EC'!$P$11:$P$612,P795))","v":""},""]
[null,null,null,null,null,null,null,"",null,"","","","","","","",{"$f":"IF(P796=\"\",\"\",COUNTIF(P797:$P$2087,P796)+COUNTIF('TD-2R-EC'!$P$11:$P$612,P796))","v":""},""]
[null,null,null,null,null,null,null,"",null,"","","","","","","",{"$f":"IF(P797=\"\",\"\",COUNTIF(P798:$P$2087,P797)+COUNTIF('TD-2R-EC'!$P$11:$P$612,P797))","v":""},""]
[null,null,null,null,null,null,null,"",null,"","","","","","","",{"$f":"IF(P798=\"\",\"\",COUNTIF(P799:$P$2087,P798)+COUNTIF('TD-2R-EC'!$P$11:$P$612,P798))","v":""},""]
[null,null,null,null,null,null,null,"",null,"","","","","","","",{"$f":"IF(P799=\"\",\"\",COUNTIF(P800:$P$2087,P799)+COUNTIF('TD-2R-EC'!$P$11:$P$612,P799))","v":""},""]
[null,null,null,null,null,null,null,"",null,"","","","","","","",{"$f":"IF(P800=\"\",\"\",COUNTIF(P801:$P$2087,P800)+COUNTIF('TD-2R-EC'!$P$11:$P$612,P800))","v":""},""]
[null,null,null,null,null,null,null,"",null,"","","","","","","",{"$f":"IF(P801=\"\",\"\",COUNTIF(P802:$P$2087,P801)+COUNTIF('TD-2R-EC'!$P$11:$P$612,P801))","v":""},""]
[null,null,null,null,null,null,null,"",null,"","","","","","","",{"$f":"IF(P802=\"\",\"\",COUNTIF(P803:$P$2087,P802)+COUNTIF('TD-2R-EC'!$P$11:$P$612,P802))","v":""},""]
[null,null,null,null,null,null,null,"",null,"","","","","","","",{"$f":"IF(P803=\"\",\"\",COUNTIF(P804:$P$2087,P803)+COUNTIF('TD-2R-EC'!$P$11:$P$612,P803))","v":""},""]
[null,null,null,null,null,null,null,"",null,"","","","","","","",{"$f":"IF(P804=\"\",\"\",COUNTIF(P805:$P$2087,P804)+COUNTIF('TD-2R-EC'!$P$11:$P$612,P804))","v":""},""]
[null,null,null,null,null,null,null,"",null,"","","","","","","",{"$f":"IF(P805=\"\",\"\",COUNTIF(P806:$P$2087,P805)+COUNTIF('TD-2R-EC'!$P$11:$P$612,P805))","v":""},""]
[null,null,null,null,null,null,null,"",null,"","","","","","","",{"$f":"IF(P806=\"\",\"\",COUNTIF(P807:$P$2087,P806)+COUNTIF('TD-2R-EC'!$P$11:$P$612,P806))","v":""},""]
[null,null,null,null,null,null,null,"",null,"","","","","","","",{"$f":"IF(P807=\"\",\"\",COUNTIF(P808:$P$2087,P807)+COUNTIF('TD-2R-EC'!$P$11:$P$612,P807))","v":""},""]
[null,null,null,null,null,null,null,"",null,"","","","","","","",{"$f":"IF(P808=\"\",\"\",COUNTIF(P809:$P$2087,P808)+COUNTIF('TD-2R-EC'!$P$11:$P$612,P808))","v":""},""]
[null,null,null,null,null,null,null,"",null,"","","","","","","",{"$f":"IF(P809=\"\",\"\",COUNTIF(P810:$P$2087,P809)+COUNTIF('TD-2R-EC'!$P$11:$P$612,P809))","v":""},""]
[null,null,null,null,null,null,null,"",null,"","","","","","","",{"$f":"IF(P810=\"\",\"\",COUNTIF(P811:$P$2087,P810)+COUNTIF('TD-2R-EC'!$P$11:$P$612,P810))","v":""},""]
[null,null,null,null,null,null,null,"",null,"","","","","","","",{"$f":"IF(P811=\"\",\"\",COUNTIF(P812:$P$2087,P811)+COUNTIF('TD-2R-EC'!$P$11:$P$612,P811))","v":""},""]
[null,null,null,null,null,null,null,"",null,"","","","","","","",{"$f":"IF(P812=\"\",\"\",COUNTIF(P813:$P$2087,P812)+COUNTIF('TD-2R-EC'!$P$11:$P$612,P812))","v":""},""]
[null,null,null,null,null,null,null,"",null,"","","","","","","",{"$f":"IF(P813=\"\",\"\",COUNTIF(P814:$P$2087,P813)+COUNTIF('TD-2R-EC'!$P$11:$P$612,P813))","v":""},""]
[null,null,null,null,null,null,null,"",null,"","","","","","","",{"$f":"IF(P814=\"\",\"\",COUNTIF(P815:$P$2087,P814)+COUNTIF('TD-2R-EC'!$P$11:$P$612,P814))","v":""},""]
[null,null,null,null,null,null,null,"",null,"","","","","","","",{"$f":"IF(P815=\"\",\"\",COUNTIF(P816:$P$2087,P815)+COUNTIF('TD-2R-EC'!$P$11:$P$612,P815))","v":""},""]
[null,null,null,null,null,null,null,"",null,"","","","","","","",{"$f":"IF(P816=\"\",\"\",COUNTIF(P817:$P$2087,P816)+COUNTIF('TD-2R-EC'!$P$11:$P$612,P816))","v":""},""]
[null,null,null,null,null,null,null,"",null,"","","","","","","",{"$f":"IF(P817=\"\",\"\",COUNTIF(P818:$P$2087,P817)+COUNTIF('TD-2R-EC'!$P$11:$P$612,P817))","v":""},""]
[null,null,null,null,null,null,null,"",null,"","","","","","","",{"$f":"IF(P818=\"\",\"\",COUNTIF(P819:$P$2087,P818)+COUNTIF('TD-2R-EC'!$P$11:$P$612,P818))","v":""},""]
[null,null,null,null,null,null,null,"",null,"","","","","","","",{"$f":"IF(P819=\"\",\"\",COUNTIF(P820:$P$2087,P819)+COUNTIF('TD-2R-EC'!$P$11:$P$612,P819))","v":""},""]
[null,null,null,null,null,null,null,"",null,"","","","","","","",{"$f":"IF(P820=\"\",\"\",COUNTIF(P821:$P$2087,P820)+COUNTIF('TD-2R-EC'!$P$11:$P$612,P820))","v":""},""]
[null,null,null,null,null,null,null,"",null,"","","","","","","",{"$f":"IF(P821=\"\",\"\",COUNTIF(P822:$P$2087,P821)+COUNTIF('TD-2R-EC'!$P$11:$P$612,P821))","v":""},""]
[null,null,null,null,null,null,null,"",null,"","","","","","","",{"$f":"IF(P822=\"\",\"\",COUNTIF(P823:$P$2087,P822)+COUNTIF('TD-2R-EC'!$P$11:$P$612,P822))","v":""},""]
[null,null,null,null,null,null,null,"",null,"","","","","","","",{"$f":"IF(P823=\"\",\"\",COUNTIF(P824:$P$2087,P823)+COUNTIF('TD-2R-EC'!$P$11:$P$612,P823))","v":""},""]
[null,null,null,null,null,null,null,"",null,"","","","","","","",{"$f":"IF(P824=\"\",\"\",COUNTIF(P825:$P$2087,P824)+COUNTIF('TD-2R-EC'!$P$11:$P$612,P824))","v":""},""]
[null,null,null,null,null,null,null,"",null,"","","","","","","",{"$f":"IF(P825=\"\",\"\",COUNTIF(P826:$P$2087,P825)+COUNTIF('TD-2R-EC'!$P$11:$P$612,P825))","v":""},""]
[null,null,null,null,null,null,null,"",null,"","","","","","","",{"$f":"IF(P826=\"\",\"\",COUNTIF(P827:$P$2087,P826)+COUNTIF('TD-2R-EC'!$P$11:$P$612,P826))","v":""},""]
[null,null,null,null,null,null,null,"",null,"","","","","","","",{"$f":"IF(P827=\"\",\"\",COUNTIF(P828:$P$2087,P827)+COUNTIF('TD-2R-EC'!$P$11:$P$612,P827))","v":""},""]
[null,null,null,null,null,null,null,"",null,"","","","","","","",{"$f":"IF(P828=\"\",\"\",COUNTIF(P829:$P$2087,P828)+COUNTIF('TD-2R-EC'!$P$11:$P$612,P828))","v":""},""]
[null,null,null,null,null,null,null,"",null,"","","","","","",{"$f":"A829&D829&E829","v":""},{"$f":"IF(P829=\"\",\"\",COUNTIF(P830:$P$2087,P829)+COUNTIF('TD-2R-EC'!$P$11:$P$612,P829))","v":""},""]
[null,null,null,null,null,null,null,"",null,"",{"$f":"IF(NOT(ISBLANK(G830)),IF(A830>0,10*G830,\"\"),\"\")","v":""},{"$f":"IF(NOT(ISBLANK(G830)),IF(A830> 0,10*SUM(A830*G830),\"\"),\"\")","v":""},{"$f":"IF(NOT(ISBLANK(H830)),IF(A830> 0,G830/2*10,\"\"),\"\")","v":""},"","","",{"$f":"IF(P830=\"\",\"\",COUNTIF(P831:$P$2087,P830)+COUNTIF('TD-2R-EC'!$P$11:$P$612,P830))","v":""},""]
[null,null,null,null,null,null,null,"",null,"","","","","","","",{"$f":"IF(P831=\"\",\"\",COUNTIF(P832:$P$2087,P831)+COUNTIF('TD-2R-EC'!$P$11:$P$612,P831))","v":""},""]
[null,null,null,null,null,null,null,"",null,"","","","","","","",{"$f":"IF(P832=\"\",\"\",COUNTIF(P833:$P$2087,P832)+COUNTIF('TD-2R-EC'!$P$11:$P$612,P832))","v":""},""]
[null,null,null,null,null,null,null,"",null,"","","","","","","",{"$f":"IF(P833=\"\",\"\",COUNTIF(P834:$P$2087,P833)+COUNTIF('TD-2R-EC'!$P$11:$P$612,P833))","v":""},""]
[null,null,null,null,null,null,null,"",null,"","","","","","","",{"$f":"IF(P834=\"\",\"\",COUNTIF(P835:$P$2087,P834)+COUNTIF('TD-2R-EC'!$P$11:$P$612,P834))","v":""},""]
[null,null,null,null,null,null,null,"",null,"","","","","","","",{"$f":"IF(P835=\"\",\"\",COUNTIF(P836:$P$2087,P835)+COUNTIF('TD-2R-EC'!$P$11:$P$612,P835))","v":""},""]
[null,null,null,null,null,null,null,"",null,"","","","","","","",{"$f":"IF(P836=\"\",\"\",COUNTIF(P837:$P$2087,P836)+COUNTIF('TD-2R-EC'!$P$11:$P$612,P836))","v":""},""]
[null,null,null,null,null,null,null,"",null,"","","","","","","",{"$f":"IF(P837=\"\",\"\",COUNTIF(P838:$P$2087,P837)+COUNTIF('TD-2R-EC'!$P$11:$P$612,P837))","v":""},""]
[null,null,null,null,null,null,null,"",null,"","","","","","","",{"$f":"IF(P838=\"\",\"\",COUNTIF(P839:$P$2087,P838)+COUNTIF('TD-2R-EC'!$P$11:$P$612,P838))","v":""},""]
[null,null,null,null,null,null,null,"",null,"","","","","","","",{"$f":"IF(P839=\"\",\"\",COUNTIF(P840:$P$2087,P839)+COUNTIF('TD-2R-EC'!$P$11:$P$612,P839))","v":""},""]
[null,null,null,null,null,null,null,"",null,"","","","","","","",{"$f":"IF(P840=\"\",\"\",COUNTIF(P841:$P$2087,P840)+COUNTIF('TD-2R-EC'!$P$11:$P$612,P840))","v":""},""]
[null,null,null,null,null,null,null,"",null,"","","","","","","",{"$f":"IF(P841=\"\",\"\",COUNTIF(P842:$P$2087,P841)+COUNTIF('TD-2R-EC'!$P$11:$P$612,P841))","v":""},""]
[null,null,null,null,null,null,null,"",null,"","","","","","","",{"$f":"IF(P842=\"\",\"\",COUNTIF(P843:$P$2087,P842)+COUNTIF('TD-2R-EC'!$P$11:$P$612,P842))","v":""},""]
[null,null,null,null,null,null,null,"",null,"","","","","","","",{"$f":"IF(P843=\"\",\"\",COUNTIF(P844:$P$2087,P843)+COUNTIF('TD-2R-EC'!$P$11:$P$612,P843))","v":""},""]
[null,null,null,null,null,null,null,"",null,"","","","","","","",{"$f":"IF(P844=\"\",\"\",COUNTIF(P845:$P$2087,P844)+COUNTIF('TD-2R-EC'!$P$11:$P$612,P844))","v":""},""]
[null,null,null,null,null,null,null,"",null,"","","","","","","",{"$f":"IF(P845=\"\",\"\",COUNTIF(P846:$P$2087,P845)+COUNTIF('TD-2R-EC'!$P$11:$P$612,P845))","v":""},""]
[null,null,null,null,null,null,null,{"$f":"IF(ISBLANK(F846),\"\",SUM(G846*60)/F846)","v":""},null,"","","","","","","",{"$f":"IF(P846=\"\",\"\",COUNTIF(P847:$P$2087,P846)+COUNTIF('TD-2R-EC'!$P$11:$P$612,P846))","v":""},""]
[null,null,null,null,null,null,null,"",null,{"$f":"IF(NOT(ISBLANK(G847)),G847*I847,\"\")","v":""},"","","",{"$f":"IF(NOT(ISBLANK(G847)),SUM(K847:M847),\"\")","v":""},{"$f":"IF(NOT(ISBLANK(I847)),I847*N847,\"\")","v":""},"",{"$f":"IF(P847=\"\",\"\",COUNTIF(P848:$P$2087,P847)+COUNTIF('TD-2R-EC'!$P$11:$P$612,P847))","v":""},{"$f":"IF(Q847>0,RIGHT(P847,2),\"\")","v":""}]
[null,null,null,null,null,null,null,"",null,"","","","","","","",{"$f":"IF(P848=\"\",\"\",COUNTIF(P849:$P$2087,P848)+COUNTIF('TD-2R-EC'!$P$11:$P$612,P848))","v":""},""]
[null,null,null,null,null,null,null,"",null,"","","","","","","",{"$f":"IF(P849=\"\",\"\",COUNTIF(P850:$P$2087,P849)+COUNTIF('TD-2R-EC'!$P$11:$P$612,P849))","v":""},""]
[null,null,null,null,null,null,null,"",null,"","","","","","","",{"$f":"IF(P850=\"\",\"\",COUNTIF(P851:$P$2087,P850)+COUNTIF('TD-2R-EC'!$P$11:$P$612,P850))","v":""},""]
[null,null,null,null,null,null,null,"",null,"","","","","","","",{"$f":"IF(P851=\"\",\"\",COUNTIF(P852:$P$2087,P851)+COUNTIF('TD-2R-EC'!$P$11:$P$612,P851))","v":""},""]
[null,null,null,null,null,null,null,"",null,"","","","","","","",{"$f":"IF(P852=\"\",\"\",COUNTIF(P853:$P$2087,P852)+COUNTIF('TD-2R-EC'!$P$11:$P$612,P852))","v":""},""]
[null,null,null,null,null,null,null,"",null,"","","","","","","",{"$f":"IF(P853=\"\",\"\",COUNTIF(P854:$P$2087,P853)+COUNTIF('TD-2R-EC'!$P$11:$P$612,P853))","v":""},""]
[null,null,null,null,null,null,null,"",null,"","","","","","","",{"$f":"IF(P854=\"\",\"\",COUNTIF(P855:$P$2087,P854)+COUNTIF('TD-2R-EC'!$P$11:$P$612,P854))","v":""},""]
[null,null,null,null,null,null,null,"",null,"","","","","","","",{"$f":"IF(P855=\"\",\"\",COUNTIF(P856:$P$2087,P855)+COUNTIF('TD-2R-EC'!$P$11:$P$612,P855))","v":""},""]
[null,null,null,null,null,null,null,"",null,"","","","","","","",{"$f":"IF(P856=\"\",\"\",COUNTIF(P857:$P$2087,P856)+COUNTIF('TD-2R-EC'!$P$11:$P$612,P856))","v":""},""]
[null,null,null,null,null,null,null,"",null,"","","","","","","",{"$f":"IF(P857=\"\",\"\",COUNTIF(P858:$P$2087,P857)+COUNTIF('TD-2R-EC'!$P$11:$P$612,P857))","v":""},""]
[null,null,null,null,null,null,null,"",null,"","","","","","","",{"$f":"IF(P858=\"\",\"\",COUNTIF(P859:$P$2087,P858)+COUNTIF('TD-2R-EC'!$P$11:$P$612,P858))","v":""},""]
[null,null,null,null,null,null,null,"",null,"","","","","","","",{"$f":"IF(P859=\"\",\"\",COUNTIF(P860:$P$2087,P859)+COUNTIF('TD-2R-EC'!$P$11:$P$612,P859))","v":""},""]
[null,null,null,null,null,null,null,"",null,"","","","","","","",{"$f":"IF(P860=\"\",\"\",COUNTIF(P861:$P$2087,P860)+COUNTIF('TD-2R-EC'!$P$11:$P$612,P860))","v":""},""]
[null,null,null,null,null,null,null,"",null,"","","","","","","",{"$f":"IF(P861=\"\",\"\",COUNTIF(P862:$P$2087,P861)+COUNTIF('TD-2R-EC'!$P$11:$P$612,P861))","v":""},""]
[null,null,null,null,null,null,null,"",null,"","","","","","","",{"$f":"IF(P862=\"\",\"\",COUNTIF(P863:$P$2087,P862)+COUNTIF('TD-2R-EC'!$P$11:$P$612,P862))","v":""},""]
[null,null,null,null,null,null,null,"",null,"","","","","","","",{"$f":"IF(P863=\"\",\"\",COUNTIF(P864:$P$2087,P863)+COUNTIF('TD-2R-EC'!$P$11:$P$612,P863))","v":""},""]
[null,null,null,null,null,null,null,"",null,"","","","","","","",{"$f":"IF(P864=\"\",\"\",COUNTIF(P865:$P$2087,P864)+COUNTIF('TD-2R-EC'!$P$11:$P$612,P864))","v":""},""]
[null,null,null,null,null,null,null,"",null,"","","","","","","",{"$f":"IF(P865=\"\",\"\",COUNTIF(P866:$P$2087,P865)+COUNTIF('TD-2R-EC'!$P$11:$P$612,P865))","v":""},""]
[null,null,null,null,null,null,null,"",null,"","","","","","","",{"$f":"IF(P866=\"\",\"\",COUNTIF(P867:$P$2087,P866)+COUNTIF('TD-2R-EC'!$P$11:$P$612,P866))","v":""},""]
[null,null,null,null,null,null,null,"",null,"","","","","","","",{"$f":"IF(P867=\"\",\"\",COUNTIF(P868:$P$2087,P867)+COUNTIF('TD-2R-EC'!$P$11:$P$612,P867))","v":""},""]
[null,null,null,null,null,null,null,"",null,"","","","","","","",{"$f":"IF(P868=\"\",\"\",COUNTIF(P869:$P$2087,P868)+COUNTIF('TD-2R-EC'!$P$11:$P$612,P868))","v":""},""]
[null,null,null,null,null,null,null,"",null,"","","","","","","",{"$f":"IF(P869=\"\",\"\",COUNTIF(P870:$P$2087,P869)+COUNTIF('TD-2R-EC'!$P$11:$P$612,P869))","v":""},""]
[null,null,null,null,null,null,null,"",null,"","","","","","","",{"$f":"IF(P870=\"\",\"\",COUNTIF(P871:$P$2087,P870)+COUNTIF('TD-2R-EC'!$P$11:$P$612,P870))","v":""},""]
[null,null,null,null,null,null,null,"",null,"","","","","","","",{"$f":"IF(P871=\"\",\"\",COUNTIF(P872:$P$2087,P871)+COUNTIF('TD-2R-EC'!$P$11:$P$612,P871))","v":""},""]
[null,null,null,null,null,null,null,"",null,"","","","","","","",{"$f":"IF(P872=\"\",\"\",COUNTIF(P873:$P$2087,P872)+COUNTIF('TD-2R-EC'!$P$11:$P$612,P872))","v":""},""]
[null,null,null,null,null,null,null,"",null,"","","","","","","",{"$f":"IF(P873=\"\",\"\",COUNTIF(P874:$P$2087,P873)+COUNTIF('TD-2R-EC'!$P$11:$P$612,P873))","v":""},""]
[null,null,null,null,null,null,null,"",null,"","","","","","","",{"$f":"IF(P874=\"\",\"\",COUNTIF(P875:$P$2087,P874)+COUNTIF('TD-2R-EC'!$P$11:$P$612,P874))","v":""},""]
[null,null,null,null,null,null,null,"",null,"","","","","","","",{"$f":"IF(P875=\"\",\"\",COUNTIF(P876:$P$2087,P875)+COUNTIF('TD-2R-EC'!$P$11:$P$612,P875))","v":""},""]
[null,null,null,null,null,null,null,"",null,"","","","","","","",{"$f":"IF(P876=\"\",\"\",COUNTIF(P877:$P$2087,P876)+COUNTIF('TD-2R-EC'!$P$11:$P$612,P876))","v":""},""]
[null,null,null,null,null,null,null,"",null,"","","","","","","",{"$f":"IF(P877=\"\",\"\",COUNTIF(P878:$P$2087,P877)+COUNTIF('TD-2R-EC'!$P$11:$P$612,P877))","v":""},""]
[null,null,null,null,null,null,null,"",null,"","","","","","","",{"$f":"IF(P878=\"\",\"\",COUNTIF(P879:$P$2087,P878)+COUNTIF('TD-2R-EC'!$P$11:$P$612,P878))","v":""},""]
[null,null,null,null,null,null,null,"",null,"","","","","","","",{"$f":"IF(P879=\"\",\"\",COUNTIF(P880:$P$2087,P879)+COUNTIF('TD-2R-EC'!$P$11:$P$612,P879))","v":""},""]
[null,null,null,null,null,null,null,"",null,"","","","","","","",{"$f":"IF(P880=\"\",\"\",COUNTIF(P881:$P$2087,P880)+COUNTIF('TD-2R-EC'!$P$11:$P$612,P880))","v":""},""]
[null,null,null,null,null,null,null,"",null,"","","","","","","",{"$f":"IF(P881=\"\",\"\",COUNTIF(P882:$P$2087,P881)+COUNTIF('TD-2R-EC'!$P$11:$P$612,P881))","v":""},""]
[null,null,null,null,null,null,null,"",null,"","","","","","","",{"$f":"IF(P882=\"\",\"\",COUNTIF(P883:$P$2087,P882)+COUNTIF('TD-2R-EC'!$P$11:$P$612,P882))","v":""},""]
[null,null,null,null,null,null,null,"",null,"","","","","","","",{"$f":"IF(P883=\"\",\"\",COUNTIF(P884:$P$2087,P883)+COUNTIF('TD-2R-EC'!$P$11:$P$612,P883))","v":""},""]
[null,null,null,null,null,null,null,"",null,"","","","","","","",{"$f":"IF(P884=\"\",\"\",COUNTIF(P885:$P$2087,P884)+COUNTIF('TD-2R-EC'!$P$11:$P$612,P884))","v":""},""]
[null,null,null,null,null,null,null,"",null,"","","","","","","",{"$f":"IF(P885=\"\",\"\",COUNTIF(P886:$P$2087,P885)+COUNTIF('TD-2R-EC'!$P$11:$P$612,P885))","v":""},""]
[null,null,null,null,null,null,null,"",null,"","","","","","","",{"$f":"IF(P886=\"\",\"\",COUNTIF(P887:$P$2087,P886)+COUNTIF('TD-2R-EC'!$P$11:$P$612,P886))","v":""},""]
[null,null,null,null,null,null,null,"",null,"","","","","","","",{"$f":"IF(P887=\"\",\"\",COUNTIF(P888:$P$2087,P887)+COUNTIF('TD-2R-EC'!$P$11:$P$612,P887))","v":""},""]
[null,null,null,null,null,null,null,"",null,"","","","","","","",{"$f":"IF(P888=\"\",\"\",COUNTIF(P889:$P$2087,P888)+COUNTIF('TD-2R-EC'!$P$11:$P$612,P888))","v":""},""]
[null,null,null,null,null,null,null,"",null,"","","","","","","",{"$f":"IF(P889=\"\",\"\",COUNTIF(P890:$P$2087,P889)+COUNTIF('TD-2R-EC'!$P$11:$P$612,P889))","v":""},""]
[null,null,null,null,null,null,null,"",null,"","","","","","","",{"$f":"IF(P890=\"\",\"\",COUNTIF(P891:$P$2087,P890)+COUNTIF('TD-2R-EC'!$P$11:$P$612,P890))","v":""},""]
[null,null,null,null,null,null,null,"",null,"","","","","","","",{"$f":"IF(P891=\"\",\"\",COUNTIF(P892:$P$2087,P891)+COUNTIF('TD-2R-EC'!$P$11:$P$612,P891))","v":""},""]
[null,null,null,null,null,null,null,"",null,"","","","","","","",{"$f":"IF(P892=\"\",\"\",COUNTIF(P893:$P$2087,P892)+COUNTIF('TD-2R-EC'!$P$11:$P$612,P892))","v":""},""]
[null,null,null,null,null,null,null,"",null,"","","","","","",{"$f":"A893&D893&E893","v":""},{"$f":"IF(P893=\"\",\"\",COUNTIF(P894:$P$2087,P893)+COUNTIF('TD-2R-EC'!$P$11:$P$612,P893))","v":""},""]
[null,null,null,null,null,null,null,"",null,"",{"$f":"IF(NOT(ISBLANK(G894)),IF(A894>0,10*G894,\"\"),\"\")","v":""},{"$f":"IF(NOT(ISBLANK(G894)),IF(A894> 0,10*SUM(A894*G894),\"\"),\"\")","v":""},{"$f":"IF(NOT(ISBLANK(H894)),IF(A894> 0,G894/2*10,\"\"),\"\")","v":""},"","","",{"$f":"IF(P894=\"\",\"\",COUNTIF(P895:$P$2087,P894)+COUNTIF('TD-2R-EC'!$P$11:$P$612,P894))","v":""},""]
[null,null,null,null,null,null,null,"",null,"","","","","","","",{"$f":"IF(P895=\"\",\"\",COUNTIF(P896:$P$2087,P895)+COUNTIF('TD-2R-EC'!$P$11:$P$612,P895))","v":""},""]
[null,null,null,null,null,null,null,"",null,"","","","","","","",{"$f":"IF(P896=\"\",\"\",COUNTIF(P897:$P$2087,P896)+COUNTIF('TD-2R-EC'!$P$11:$P$612,P896))","v":""},""]
[null,null,null,null,null,null,null,"",null,"","","","","","","",{"$f":"IF(P897=\"\",\"\",COUNTIF(P898:$P$2087,P897)+COUNTIF('TD-2R-EC'!$P$11:$P$612,P897))","v":""},""]
[null,null,null,null,null,null,null,"",null,"","","","","","","",{"$f":"IF(P898=\"\",\"\",COUNTIF(P899:$P$2087,P898)+COUNTIF('TD-2R-EC'!$P$11:$P$612,P898))","v":""},""]
[null,null,null,null,null,null,null,"",null,"","","","","","","",{"$f":"IF(P899=\"\",\"\",COUNTIF(P900:$P$2087,P899)+COUNTIF('TD-2R-EC'!$P$11:$P$612,P899))","v":""},""]
[null,null,null,null,null,null,null,"",null,"","","","","","","",{"$f":"IF(P900=\"\",\"\",COUNTIF(P901:$P$2087,P900)+COUNTIF('TD-2R-EC'!$P$11:$P$612,P900))","v":""},""]
[null,null,null,null,null,null,null,"",null,"","","","","","","",{"$f":"IF(P901=\"\",\"\",COUNTIF(P902:$P$2087,P901)+COUNTIF('TD-2R-EC'!$P$11:$P$612,P901))","v":""},""]
[null,null,null,null,null,null,null,"",null,"","","","","","","",{"$f":"IF(P902=\"\",\"\",COUNTIF(P903:$P$2087,P902)+COUNTIF('TD-2R-EC'!$P$11:$P$612,P902))","v":""},""]
[null,null,null,null,null,null,null,"",null,"","","","","","","",{"$f":"IF(P903=\"\",\"\",COUNTIF(P904:$P$2087,P903)+COUNTIF('TD-2R-EC'!$P$11:$P$612,P903))","v":""},""]
[null,null,null,null,null,null,null,"",null,"","","","","","","",{"$f":"IF(P904=\"\",\"\",COUNTIF(P905:$P$2087,P904)+COUNTIF('TD-2R-EC'!$P$11:$P$612,P904))","v":""},""]
[null,null,null,null,null,null,null,"",null,"","","","","","","",{"$f":"IF(P905=\"\",\"\",COUNTIF(P906:$P$2087,P905)+COUNTIF('TD-2R-EC'!$P$11:$P$612,P905))","v":""},""]
[null,null,null,null,null,null,null,"",null,"","","","","","","",{"$f":"IF(P906=\"\",\"\",COUNTIF(P907:$P$2087,P906)+COUNTIF('TD-2R-EC'!$P$11:$P$612,P906))","v":""},""]
[null,null,null,null,null,null,null,"",null,"","","","","","","",{"$f":"IF(P907=\"\",\"\",COUNTIF(P908:$P$2087,P907)+COUNTIF('TD-2R-EC'!$P$11:$P$612,P907))","v":""},""]
[null,null,null,null,null,null,null,"",null,"","","","","","","",{"$f":"IF(P908=\"\",\"\",COUNTIF(P909:$P$2087,P908)+COUNTIF('TD-2R-EC'!$P$11:$P$612,P908))","v":""},""]
[null,null,null,null,null,null,null,"",null,"","","","","","","",{"$f":"IF(P909=\"\",\"\",COUNTIF(P910:$P$2087,P909)+COUNTIF('TD-2R-EC'!$P$11:$P$612,P909))","v":""},""]
[null,null,null,null,null,null,null,{"$f":"IF(ISBLANK(F910),\"\",SUM(G910*60)/F910)","v":""},null,"","","","","","","",{"$f":"IF(P910=\"\",\"\",COUNTIF(P911:$P$2087,P910)+COUNTIF('TD-2R-EC'!$P$11:$P$612,P910))","v":""},""]
[null,null,null,null,null,null,null,"",null,{"$f":"IF(NOT(ISBLANK(G911)),G911*I911,\"\")","v":""},"","","",{"$f":"IF(NOT(ISBLANK(G911)),SUM(K911:M911),\"\")","v":""},{"$f":"IF(NOT(ISBLANK(I911)),I911*N911,\"\")","v":""},"",{"$f":"IF(P911=\"\",\"\",COUNTIF(P912:$P$2087,P911)+COUNTIF('TD-2R-EC'!$P$11:$P$612,P911))","v":""},{"$f":"IF(Q911>0,RIGHT(P911,2),\"\")","v":""}]
[null,null,null,null,null,null,null,"",null,"","","","","","","",{"$f":"IF(P912=\"\",\"\",COUNTIF(P913:$P$2087,P912)+COUNTIF('TD-2R-EC'!$P$11:$P$612,P912))","v":""},""]
[null,null,null,null,null,null,null,"",null,"","","","","","","",{"$f":"IF(P913=\"\",\"\",COUNTIF(P914:$P$2087,P913)+COUNTIF('TD-2R-EC'!$P$11:$P$612,P913))","v":""},""]
[null,null,null,null,null,null,null,"",null,"","","","","","","",{"$f":"IF(P914=\"\",\"\",COUNTIF(P915:$P$2087,P914)+COUNTIF('TD-2R-EC'!$P$11:$P$612,P914))","v":""},""]
[null,null,null,null,null,null,null,"",null,"","","","","","","",{"$f":"IF(P915=\"\",\"\",COUNTIF(P916:$P$2087,P915)+COUNTIF('TD-2R-EC'!$P$11:$P$612,P915))","v":""},""]
[null,null,null,null,null,null,null,"",null,"","","","","","","",{"$f":"IF(P916=\"\",\"\",COUNTIF(P917:$P$2087,P916)+COUNTIF('TD-2R-EC'!$P$11:$P$612,P916))","v":""},""]
[null,null,null,null,null,null,null,"",null,"","","","","","","",{"$f":"IF(P917=\"\",\"\",COUNTIF(P918:$P$2087,P917)+COUNTIF('TD-2R-EC'!$P$11:$P$612,P917))","v":""},""]
[null,null,null,null,null,null,null,"",null,"","","","","","","",{"$f":"IF(P918=\"\",\"\",COUNTIF(P919:$P$2087,P918)+COUNTIF('TD-2R-EC'!$P$11:$P$612,P918))","v":""},""]
[null,null,null,null,null,null,null,"",null,"","","","","","","",{"$f":"IF(P919=\"\",\"\",COUNTIF(P920:$P$2087,P919)+COUNTIF('TD-2R-EC'!$P$11:$P$612,P919))","v":""},""]
[null,null,null,null,null,null,null,"",null,"","","","","","","",{"$f":"IF(P920=\"\",\"\",COUNTIF(P921:$P$2087,P920)+COUNTIF('TD-2R-EC'!$P$11:$P$612,P920))","v":""},""]
[null,null,null,null,null,null,null,"",null,"","","","","","","",{"$f":"IF(P921=\"\",\"\",COUNTIF(P922:$P$2087,P921)+COUNTIF('TD-2R-EC'!$P$11:$P$612,P921))","v":""},""]
[null,null,null,null,null,null,null,"",null,"","","","","","","",{"$f":"IF(P922=\"\",\"\",COUNTIF(P923:$P$2087,P922)+COUNTIF('TD-2R-EC'!$P$11:$P$612,P922))","v":""},""]
[null,null,null,null,null,null,null,"",null,"","","","","","","",{"$f":"IF(P923=\"\",\"\",COUNTIF(P924:$P$2087,P923)+COUNTIF('TD-2R-EC'!$P$11:$P$612,P923))","v":""},""]
[null,null,null,null,null,null,null,"",null,"","","","","","","",{"$f":"IF(P924=\"\",\"\",COUNTIF(P925:$P$2087,P924)+COUNTIF('TD-2R-EC'!$P$11:$P$612,P924))","v":""},""]
[null,null,null,null,null,null,null,"",null,"","","","","","","",{"$f":"IF(P925=\"\",\"\",COUNTIF(P926:$P$2087,P925)+COUNTIF('TD-2R-EC'!$P$11:$P$612,P925))","v":""},""]
[null,null,null,null,null,null,null,"",null,"","","","","","","",{"$f":"IF(P926=\"\",\"\",COUNTIF(P927:$P$2087,P926)+COUNTIF('TD-2R-EC'!$P$11:$P$612,P926))","v":""},""]
[null,null,null,null,null,null,null,"",null,"","","","","","","",{"$f":"IF(P927=\"\",\"\",COUNTIF(P928:$P$2087,P927)+COUNTIF('TD-2R-EC'!$P$11:$P$612,P927))","v":""},""]
[null,null,null,null,null,null,null,"",null,"","","","","","","",{"$f":"IF(P928=\"\",\"\",COUNTIF(P929:$P$2087,P928)+COUNTIF('TD-2R-EC'!$P$11:$P$612,P928))","v":""},""]
[null,null,null,null,null,null,null,"",null,"","","","","","","",{"$f":"IF(P929=\"\",\"\",COUNTIF(P930:$P$2087,P929)+COUNTIF('TD-2R-EC'!$P$11:$P$612,P929))","v":""},""]
[null,null,null,null,null,null,null,"",null,"","","","","","","",{"$f":"IF(P930=\"\",\"\",COUNTIF(P931:$P$2087,P930)+COUNTIF('TD-2R-EC'!$P$11:$P$612,P930))","v":""},""]
[null,null,null,null,null,null,null,"",null,"","","","","","","",{"$f":"IF(P931=\"\",\"\",COUNTIF(P932:$P$2087,P931)+COUNTIF('TD-2R-EC'!$P$11:$P$612,P931))","v":""},""]
[null,null,null,null,null,null,null,"",null,"","","","","","","",{"$f":"IF(P932=\"\",\"\",COUNTIF(P933:$P$2087,P932)+COUNTIF('TD-2R-EC'!$P$11:$P$612,P932))","v":""},""]
[null,null,null,null,null,null,null,"",null,"","","","","","","",{"$f":"IF(P933=\"\",\"\",COUNTIF(P934:$P$2087,P933)+COUNTIF('TD-2R-EC'!$P$11:$P$612,P933))","v":""},""]
[null,null,null,null,null,null,null,"",null,"","","","","","","",{"$f":"IF(P934=\"\",\"\",COUNTIF(P935:$P$2087,P934)+COUNTIF('TD-2R-EC'!$P$11:$P$612,P934))","v":""},""]
[null,null,null,null,null,null,null,"",null,"","","","","","","",{"$f":"IF(P935=\"\",\"\",COUNTIF(P936:$P$2087,P935)+COUNTIF('TD-2R-EC'!$P$11:$P$612,P935))","v":""},""]
[null,null,null,null,null,null,null,"",null,"","","","","","","",{"$f":"IF(P936=\"\",\"\",COUNTIF(P937:$P$2087,P936)+COUNTIF('TD-2R-EC'!$P$11:$P$612,P936))","v":""},""]
[null,null,null,null,null,null,null,"",null,"","","","","","","",{"$f":"IF(P937=\"\",\"\",COUNTIF(P938:$P$2087,P937)+COUNTIF('TD-2R-EC'!$P$11:$P$612,P937))","v":""},""]
[null,null,null,null,null,null,null,"",null,"","","","","","","",{"$f":"IF(P938=\"\",\"\",COUNTIF(P939:$P$2087,P938)+COUNTIF('TD-2R-EC'!$P$11:$P$612,P938))","v":""},""]
[null,null,null,null,null,null,null,"",null,"","","","","","","",{"$f":"IF(P939=\"\",\"\",COUNTIF(P940:$P$2087,P939)+COUNTIF('TD-2R-EC'!$P$11:$P$612,P939))","v":""},""]
[null,null,null,null,null,null,null,"",null,"","","","","","","",{"$f":"IF(P940=\"\",\"\",COUNTIF(P941:$P$2087,P940)+COUNTIF('TD-2R-EC'!$P$11:$P$612,P940))","v":""},""]
[null,null,null,null,null,null,null,"",null,"","","","","","","",{"$f":"IF(P941=\"\",\"\",COUNTIF(P942:$P$2087,P941)+COUNTIF('TD-2R-EC'!$P$11:$P$612,P941))","v":""},""]
[null,null,null,null,null,null,null,"",null,"","","","","","","",{"$f":"IF(P942=\"\",\"\",COUNTIF(P943:$P$2087,P942)+COUNTIF('TD-2R-EC'!$P$11:$P$612,P942))","v":""},""]
[null,null,null,null,null,null,null,"",null,"","","","","","","",{"$f":"IF(P943=\"\",\"\",COUNTIF(P944:$P$2087,P943)+COUNTIF('TD-2R-EC'!$P$11:$P$612,P943))","v":""},""]
[null,null,null,null,null,null,null,"",null,"","","","","","","",{"$f":"IF(P944=\"\",\"\",COUNTIF(P945:$P$2087,P944)+COUNTIF('TD-2R-EC'!$P$11:$P$612,P944))","v":""},""]
[null,null,null,null,null,null,null,"",null,"","","","","","","",{"$f":"IF(P945=\"\",\"\",COUNTIF(P946:$P$2087,P945)+COUNTIF('TD-2R-EC'!$P$11:$P$612,P945))","v":""},""]
[null,null,null,null,null,null,null,"",null,"","","","","","","",{"$f":"IF(P946=\"\",\"\",COUNTIF(P947:$P$2087,P946)+COUNTIF('TD-2R-EC'!$P$11:$P$612,P946))","v":""},""]
[null,null,null,null,null,null,null,"",null,"","","","","","","",{"$f":"IF(P947=\"\",\"\",COUNTIF(P948:$P$2087,P947)+COUNTIF('TD-2R-EC'!$P$11:$P$612,P947))","v":""},""]
[null,null,null,null,null,null,null,"",null,"","","","","","","",{"$f":"IF(P948=\"\",\"\",COUNTIF(P949:$P$2087,P948)+COUNTIF('TD-2R-EC'!$P$11:$P$612,P948))","v":""},""]
[null,null,null,null,null,null,null,"",null,"","","","","","","",{"$f":"IF(P949=\"\",\"\",COUNTIF(P950:$P$2087,P949)+COUNTIF('TD-2R-EC'!$P$11:$P$612,P949))","v":""},""]
[null,null,null,null,null,null,null,"",null,"","","","","","","",{"$f":"IF(P950=\"\",\"\",COUNTIF(P951:$P$2087,P950)+COUNTIF('TD-2R-EC'!$P$11:$P$612,P950))","v":""},""]
[null,null,null,null,null,null,null,"",null,"","","","","","","",{"$f":"IF(P951=\"\",\"\",COUNTIF(P952:$P$2087,P951)+COUNTIF('TD-2R-EC'!$P$11:$P$612,P951))","v":""},""]
[null,null,null,null,null,null,null,"",null,"","","","","","","",{"$f":"IF(P952=\"\",\"\",COUNTIF(P953:$P$2087,P952)+COUNTIF('TD-2R-EC'!$P$11:$P$612,P952))","v":""},""]
[null,null,null,null,null,null,null,"",null,"","","","","","","",{"$f":"IF(P953=\"\",\"\",COUNTIF(P954:$P$2087,P953)+COUNTIF('TD-2R-EC'!$P$11:$P$612,P953))","v":""},""]
[null,null,null,null,null,null,null,"",null,"","","","","","","",{"$f":"IF(P954=\"\",\"\",COUNTIF(P955:$P$2087,P954)+COUNTIF('TD-2R-EC'!$P$11:$P$612,P954))","v":""},""]
[null,null,null,null,null,null,null,"",null,"","","","","","","",{"$f":"IF(P955=\"\",\"\",COUNTIF(P956:$P$2087,P955)+COUNTIF('TD-2R-EC'!$P$11:$P$612,P955))","v":""},""]
[null,null,null,null,null,null,null,"",null,"","","","","","","",{"$f":"IF(P956=\"\",\"\",COUNTIF(P957:$P$2087,P956)+COUNTIF('TD-2R-EC'!$P$11:$P$612,P956))","v":""},""]
[null,null,null,null,null,null,null,"",null,"","","","","","",{"$f":"A957&D957&E957","v":""},{"$f":"IF(P957=\"\",\"\",COUNTIF(P958:$P$2087,P957)+COUNTIF('TD-2R-EC'!$P$11:$P$612,P957))","v":""},""]
[null,null,null,null,null,null,null,"",null,"",{"$f":"IF(NOT(ISBLANK(G958)),IF(A958>0,10*G958,\"\"),\"\")","v":""},{"$f":"IF(NOT(ISBLANK(G958)),IF(A958> 0,10*SUM(A958*G958),\"\"),\"\")","v":""},{"$f":"IF(NOT(ISBLANK(H958)),IF(A958> 0,G958/2*10,\"\"),\"\")","v":""},"","","",{"$f":"IF(P958=\"\",\"\",COUNTIF(P959:$P$2087,P958)+COUNTIF('TD-2R-EC'!$P$11:$P$612,P958))","v":""},""]
[null,null,null,null,null,null,null,"",null,"","","","","","","",{"$f":"IF(P959=\"\",\"\",COUNTIF(P960:$P$2087,P959)+COUNTIF('TD-2R-EC'!$P$11:$P$612,P959))","v":""},""]
[null,null,null,null,null,null,null,"",null,"","","","","","","",{"$f":"IF(P960=\"\",\"\",COUNTIF(P961:$P$2087,P960)+COUNTIF('TD-2R-EC'!$P$11:$P$612,P960))","v":""},""]
[null,null,null,null,null,null,null,"",null,"","","","","","","",{"$f":"IF(P961=\"\",\"\",COUNTIF(P962:$P$2087,P961)+COUNTIF('TD-2R-EC'!$P$11:$P$612,P961))","v":""},""]
[null,null,null,null,null,null,null,"",null,"","","","","","","",{"$f":"IF(P962=\"\",\"\",COUNTIF(P963:$P$2087,P962)+COUNTIF('TD-2R-EC'!$P$11:$P$612,P962))","v":""},""]
[null,null,null,null,null,null,null,"",null,"","","","","","","",{"$f":"IF(P963=\"\",\"\",COUNTIF(P964:$P$2087,P963)+COUNTIF('TD-2R-EC'!$P$11:$P$612,P963))","v":""},""]
[null,null,null,null,null,null,null,"",null,"","","","","","","",{"$f":"IF(P964=\"\",\"\",COUNTIF(P965:$P$2087,P964)+COUNTIF('TD-2R-EC'!$P$11:$P$612,P964))","v":""},""]
[null,null,null,null,null,null,null,"",null,"","","","","","","",{"$f":"IF(P965=\"\",\"\",COUNTIF(P966:$P$2087,P965)+COUNTIF('TD-2R-EC'!$P$11:$P$612,P965))","v":""},""]
[null,null,null,null,null,null,null,"",null,"","","","","","","",{"$f":"IF(P966=\"\",\"\",COUNTIF(P967:$P$2087,P966)+COUNTIF('TD-2R-EC'!$P$11:$P$612,P966))","v":""},""]
[null,null,null,null,null,null,null,"",null,"","","","","","","",{"$f":"IF(P967=\"\",\"\",COUNTIF(P968:$P$2087,P967)+COUNTIF('TD-2R-EC'!$P$11:$P$612,P967))","v":""},""]
[null,null,null,null,null,null,null,"",null,"","","","","","","",{"$f":"IF(P968=\"\",\"\",COUNTIF(P969:$P$2087,P968)+COUNTIF('TD-2R-EC'!$P$11:$P$612,P968))","v":""},""]
[null,null,null,null,null,null,null,"",null,"","","","","","","",{"$f":"IF(P969=\"\",\"\",COUNTIF(P970:$P$2087,P969)+COUNTIF('TD-2R-EC'!$P$11:$P$612,P969))","v":""},""]
[null,null,null,null,null,null,null,"",null,"","","","","","","",{"$f":"IF(P970=\"\",\"\",COUNTIF(P971:$P$2087,P970)+COUNTIF('TD-2R-EC'!$P$11:$P$612,P970))","v":""},""]
[null,null,null,null,null,null,null,"",null,"","","","","","","",{"$f":"IF(P971=\"\",\"\",COUNTIF(P972:$P$2087,P971)+COUNTIF('TD-2R-EC'!$P$11:$P$612,P971))","v":""},""]
[null,null,null,null,null,null,null,"",null,"","","","","","","",{"$f":"IF(P972=\"\",\"\",COUNTIF(P973:$P$2087,P972)+COUNTIF('TD-2R-EC'!$P$11:$P$612,P972))","v":""},""]
[null,null,null,null,null,null,null,"",null,"","","","","","","",{"$f":"IF(P973=\"\",\"\",COUNTIF(P974:$P$2087,P973)+COUNTIF('TD-2R-EC'!$P$11:$P$612,P973))","v":""},""]
[null,null,null,null,null,null,null,{"$f":"IF(ISBLANK(F974),\"\",SUM(G974*60)/F974)","v":""},null,"","","","","","","",{"$f":"IF(P974=\"\",\"\",COUNTIF(P975:$P$2087,P974)+COUNTIF('TD-2R-EC'!$P$11:$P$612,P974))","v":""},""]
[null,null,null,null,null,null,null,"",null,{"$f":"IF(NOT(ISBLANK(G975)),G975*I975,\"\")","v":""},"","","",{"$f":"IF(NOT(ISBLANK(G975)),SUM(K975:M975),\"\")","v":""},{"$f":"IF(NOT(ISBLANK(I975)),I975*N975,\"\")","v":""},"",{"$f":"IF(P975=\"\",\"\",COUNTIF(P976:$P$2087,P975)+COUNTIF('TD-2R-EC'!$P$11:$P$612,P975))","v":""},{"$f":"IF(Q975>0,RIGHT(P975,2),\"\")","v":""}]
[null,null,null,null,null,null,null,"",null,"","","","","","","",{"$f":"IF(P976=\"\",\"\",COUNTIF(P977:$P$2087,P976)+COUNTIF('TD-2R-EC'!$P$11:$P$612,P976))","v":""},""]
[null,null,null,null,null,null,null,"",null,"","","","","","","",{"$f":"IF(P977=\"\",\"\",COUNTIF(P978:$P$2087,P977)+COUNTIF('TD-2R-EC'!$P$11:$P$612,P977))","v":""},""]
[null,null,null,null,null,null,null,"",null,"","","","","","","",{"$f":"IF(P978=\"\",\"\",COUNTIF(P979:$P$2087,P978)+COUNTIF('TD-2R-EC'!$P$11:$P$612,P978))","v":""},""]
[null,null,null,null,null,null,null,"",null,"","","","","","","",{"$f":"IF(P979=\"\",\"\",COUNTIF(P980:$P$2087,P979)+COUNTIF('TD-2R-EC'!$P$11:$P$612,P979))","v":""},""]
[null,null,null,null,null,null,null,"",null,"","","","","","","",{"$f":"IF(P980=\"\",\"\",COUNTIF(P981:$P$2087,P980)+COUNTIF('TD-2R-EC'!$P$11:$P$612,P980))","v":""},""]
[null,null,null,null,null,null,null,"",null,"","","","","","","",{"$f":"IF(P981=\"\",\"\",COUNTIF(P982:$P$2087,P981)+COUNTIF('TD-2R-EC'!$P$11:$P$612,P981))","v":""},""]
[null,null,null,null,null,null,null,"",null,"","","","","","","",{"$f":"IF(P982=\"\",\"\",COUNTIF(P983:$P$2087,P982)+COUNTIF('TD-2R-EC'!$P$11:$P$612,P982))","v":""},""]
[null,null,null,null,null,null,null,"",null,"","","","","","","",{"$f":"IF(P983=\"\",\"\",COUNTIF(P984:$P$2087,P983)+COUNTIF('TD-2R-EC'!$P$11:$P$612,P983))","v":""},""]
[null,null,null,null,null,null,null,"",null,"","","","","","","",{"$f":"IF(P984=\"\",\"\",COUNTIF(P985:$P$2087,P984)+COUNTIF('TD-2R-EC'!$P$11:$P$612,P984))","v":""},""]
[null,null,null,null,null,null,null,"",null,"","","","","","","",{"$f":"IF(P985=\"\",\"\",COUNTIF(P986:$P$2087,P985)+COUNTIF('TD-2R-EC'!$P$11:$P$612,P985))","v":""},""]
[null,null,null,null,null,null,null,"",null,"","","","","","","",{"$f":"IF(P986=\"\",\"\",COUNTIF(P987:$P$2087,P986)+COUNTIF('TD-2R-EC'!$P$11:$P$612,P986))","v":""},""]
[null,null,null,null,null,null,null,"",null,"","","","","","","",{"$f":"IF(P987=\"\",\"\",COUNTIF(P988:$P$2087,P987)+COUNTIF('TD-2R-EC'!$P$11:$P$612,P987))","v":""},""]
[null,null,null,null,null,null,null,"",null,"","","","","","","",{"$f":"IF(P988=\"\",\"\",COUNTIF(P989:$P$2087,P988)+COUNTIF('TD-2R-EC'!$P$11:$P$612,P988))","v":""},""]
[null,null,null,null,null,null,null,"",null,"","","","","","","",{"$f":"IF(P989=\"\",\"\",COUNTIF(P990:$P$2087,P989)+COUNTIF('TD-2R-EC'!$P$11:$P$612,P989))","v":""},""]
[null,null,null,null,null,null,null,"",null,"","","","","","","",{"$f":"IF(P990=\"\",\"\",COUNTIF(P991:$P$2087,P990)+COUNTIF('TD-2R-EC'!$P$11:$P$612,P990))","v":""},""]
[null,null,null,null,null,null,null,"",null,"","","","","","","",{"$f":"IF(P991=\"\",\"\",COUNTIF(P992:$P$2087,P991)+COUNTIF('TD-2R-EC'!$P$11:$P$612,P991))","v":""},""]
[null,null,null,null,null,null,null,"",null,"","","","","","","",{"$f":"IF(P992=\"\",\"\",COUNTIF(P993:$P$2087,P992)+COUNTIF('TD-2R-EC'!$P$11:$P$612,P992))","v":""},""]
[null,null,null,null,null,null,null,"",null,"","","","","","","",{"$f":"IF(P993=\"\",\"\",COUNTIF(P994:$P$2087,P993)+COUNTIF('TD-2R-EC'!$P$11:$P$612,P993))","v":""},""]
[null,null,null,null,null,null,null,"",null,"","","","","","","",{"$f":"IF(P994=\"\",\"\",COUNTIF(P995:$P$2087,P994)+COUNTIF('TD-2R-EC'!$P$11:$P$612,P994))","v":""},""]
[null,null,null,null,null,null,null,"",null,"","","","","","","",{"$f":"IF(P995=\"\",\"\",COUNTIF(P996:$P$2087,P995)+COUNTIF('TD-2R-EC'!$P$11:$P$612,P995))","v":""},""]
[null,null,null,null,null,null,null,"",null,"","","","","","","",{"$f":"IF(P996=\"\",\"\",COUNTIF(P997:$P$2087,P996)+COUNTIF('TD-2R-EC'!$P$11:$P$612,P996))","v":""},""]
[null,null,null,null,null,null,null,"",null,"","","","","","","",{"$f":"IF(P997=\"\",\"\",COUNTIF(P998:$P$2087,P997)+COUNTIF('TD-2R-EC'!$P$11:$P$612,P997))","v":""},""]
[null,null,null,null,null,null,null,"",null,"","","","","","","",{"$f":"IF(P998=\"\",\"\",COUNTIF(P999:$P$2087,P998)+COUNTIF('TD-2R-EC'!$P$11:$P$612,P998))","v":""},""]
[null,null,null,null,null,null,null,"",null,"","","","","","","",{"$f":"IF(P999=\"\",\"\",COUNTIF(P1000:$P$2087,P999)+COUNTIF('TD-2R-EC'!$P$11:$P$612,P999))","v":""},""]
[null,null,null,null,null,null,null,"",null,"","","","","","","",{"$f":"IF(P1000=\"\",\"\",COUNTIF(P1001:$P$2087,P1000)+COUNTIF('TD-2R-EC'!$P$11:$P$612,P1000))","v":""},""]
[null,null,null,null,null,null,null,"",null,"","","","","","","",{"$f":"IF(P1001=\"\",\"\",COUNTIF(P1002:$P$2087,P1001)+COUNTIF('TD-2R-EC'!$P$11:$P$612,P1001))","v":""},""]
[null,null,null,null,null,null,null,"",null,"","","","","","","",{"$f":"IF(P1002=\"\",\"\",COUNTIF(P1003:$P$2087,P1002)+COUNTIF('TD-2R-EC'!$P$11:$P$612,P1002))","v":""},""]
[null,null,null,null,null,null,null,"",null,"","","","","","","",{"$f":"IF(P1003=\"\",\"\",COUNTIF(P1004:$P$2087,P1003)+COUNTIF('TD-2R-EC'!$P$11:$P$612,P1003))","v":""},""]
[null,null,null,null,null,null,null,"",null,"","","","","","","",{"$f":"IF(P1004=\"\",\"\",COUNTIF(P1005:$P$2087,P1004)+COUNTIF('TD-2R-EC'!$P$11:$P$612,P1004))","v":""},""]
[null,null,null,null,null,null,null,"",null,"","","","","","","",{"$f":"IF(P1005=\"\",\"\",COUNTIF(P1006:$P$2087,P1005)+COUNTIF('TD-2R-EC'!$P$11:$P$612,P1005))","v":""},""]
[null,null,null,null,null,null,null,"",null,"","","","","","","",{"$f":"IF(P1006=\"\",\"\",COUNTIF(P1007:$P$2087,P1006)+COUNTIF('TD-2R-EC'!$P$11:$P$612,P1006))","v":""},""]
[null,null,null,null,null,null,null,"",null,"","","","","","","",{"$f":"IF(P1007=\"\",\"\",COUNTIF(P1008:$P$2087,P1007)+COUNTIF('TD-2R-EC'!$P$11:$P$612,P1007))","v":""},""]
[null,null,null,null,null,null,null,"",null,"","","","","","","",{"$f":"IF(P1008=\"\",\"\",COUNTIF(P1009:$P$2087,P1008)+COUNTIF('TD-2R-EC'!$P$11:$P$612,P1008))","v":""},""]
[null,null,null,null,null,null,null,"",null,"","","","","","","",{"$f":"IF(P1009=\"\",\"\",COUNTIF(P1010:$P$2087,P1009)+COUNTIF('TD-2R-EC'!$P$11:$P$612,P1009))","v":""},""]
[null,null,null,null,null,null,null,"",null,"","","","","","","",{"$f":"IF(P1010=\"\",\"\",COUNTIF(P1011:$P$2087,P1010)+COUNTIF('TD-2R-EC'!$P$11:$P$612,P1010))","v":""},""]
[null,null,null,null,null,null,null,"",null,"","","","","","","",{"$f":"IF(P1011=\"\",\"\",COUNTIF(P1012:$P$2087,P1011)+COUNTIF('TD-2R-EC'!$P$11:$P$612,P1011))","v":""},""]
[null,null,null,null,null,null,null,"",null,"","","","","","","",{"$f":"IF(P1012=\"\",\"\",COUNTIF(P1013:$P$2087,P1012)+COUNTIF('TD-2R-EC'!$P$11:$P$612,P1012))","v":""},""]
[null,null,null,null,null,null,null,"",null,"","","","","","","",{"$f":"IF(P1013=\"\",\"\",COUNTIF(P1014:$P$2087,P1013)+COUNTIF('TD-2R-EC'!$P$11:$P$612,P1013))","v":""},""]
[null,null,null,null,null,null,null,"",null,"","","","","","","",{"$f":"IF(P1014=\"\",\"\",COUNTIF(P1015:$P$2087,P1014)+COUNTIF('TD-2R-EC'!$P$11:$P$612,P1014))","v":""},""]
[null,null,null,null,null,null,null,"",null,"","","","","","","",{"$f":"IF(P1015=\"\",\"\",COUNTIF(P1016:$P$2087,P1015)+COUNTIF('TD-2R-EC'!$P$11:$P$612,P1015))","v":""},""]
[null,null,null,null,null,null,null,"",null,"","","","","","","",{"$f":"IF(P1016=\"\",\"\",COUNTIF(P1017:$P$2087,P1016)+COUNTIF('TD-2R-EC'!$P$11:$P$612,P1016))","v":""},""]
[null,null,null,null,null,null,null,"",null,"","","","","","","",{"$f":"IF(P1017=\"\",\"\",COUNTIF(P1018:$P$2087,P1017)+COUNTIF('TD-2R-EC'!$P$11:$P$612,P1017))","v":""},""]
[null,null,null,null,null,null,null,"",null,"","","","","","","",{"$f":"IF(P1018=\"\",\"\",COUNTIF(P1019:$P$2087,P1018)+COUNTIF('TD-2R-EC'!$P$11:$P$612,P1018))","v":""},""]
[null,null,null,null,null,null,null,"",null,"","","","","","","",{"$f":"IF(P1019=\"\",\"\",COUNTIF(P1020:$P$2087,P1019)+COUNTIF('TD-2R-EC'!$P$11:$P$612,P1019))","v":""},""]
[null,null,null,null,null,null,null,"",null,"","","","","","","",{"$f":"IF(P1020=\"\",\"\",COUNTIF(P1021:$P$2087,P1020)+COUNTIF('TD-2R-EC'!$P$11:$P$612,P1020))","v":""},""]
[null,null,null,null,null,null,null,"",null,"","","","","","",{"$f":"A1021&D1021&E1021","v":""},{"$f":"IF(P1021=\"\",\"\",COUNTIF(P1022:$P$2087,P1021)+COUNTIF('TD-2R-EC'!$P$11:$P$612,P1021))","v":""},""]
[null,null,null,null,null,null,null,"",null,"",{"$f":"IF(NOT(ISBLANK(G1022)),IF(A1022>0,10*G1022,\"\"),\"\")","v":""},{"$f":"IF(NOT(ISBLANK(G1022)),IF(A1022> 0,10*SUM(A1022*G1022),\"\"),\"\")","v":""},{"$f":"IF(NOT(ISBLANK(H1022)),IF(A1022> 0,G1022/2*10,\"\"),\"\")","v":""},"","","",{"$f":"IF(P1022=\"\",\"\",COUNTIF(P1023:$P$2087,P1022)+COUNTIF('TD-2R-EC'!$P$11:$P$612,P1022))","v":""},""]
[null,null,null,null,null,null,null,"",null,"","","","","","","",{"$f":"IF(P1023=\"\",\"\",COUNTIF(P1024:$P$2087,P1023)+COUNTIF('TD-2R-EC'!$P$11:$P$612,P1023))","v":""},""]
[null,null,null,null,null,null,null,"",null,"","","","","","","",{"$f":"IF(P1024=\"\",\"\",COUNTIF(P1025:$P$2087,P1024)+COUNTIF('TD-2R-EC'!$P$11:$P$612,P1024))","v":""},""]
[null,null,null,null,null,null,null,"",null,"","","","","","","",{"$f":"IF(P1025=\"\",\"\",COUNTIF(P1026:$P$2087,P1025)+COUNTIF('TD-2R-EC'!$P$11:$P$612,P1025))","v":""},""]
[null,null,null,null,null,null,null,"",null,"","","","","","","",{"$f":"IF(P1026=\"\",\"\",COUNTIF(P1027:$P$2087,P1026)+COUNTIF('TD-2R-EC'!$P$11:$P$612,P1026))","v":""},""]
[null,null,null,null,null,null,null,"",null,"","","","","","","",{"$f":"IF(P1027=\"\",\"\",COUNTIF(P1028:$P$2087,P1027)+COUNTIF('TD-2R-EC'!$P$11:$P$612,P1027))","v":""},""]
[null,null,null,null,null,null,null,"",null,"","","","","","","",{"$f":"IF(P1028=\"\",\"\",COUNTIF(P1029:$P$2087,P1028)+COUNTIF('TD-2R-EC'!$P$11:$P$612,P1028))","v":""},""]
[null,null,null,null,null,null,null,"",null,"","","","","","","",{"$f":"IF(P1029=\"\",\"\",COUNTIF(P1030:$P$2087,P1029)+COUNTIF('TD-2R-EC'!$P$11:$P$612,P1029))","v":""},""]
[null,null,null,null,null,null,null,"",null,"","","","","","","",{"$f":"IF(P1030=\"\",\"\",COUNTIF(P1031:$P$2087,P1030)+COUNTIF('TD-2R-EC'!$P$11:$P$612,P1030))","v":""},""]
[null,null,null,null,null,null,null,"",null,"","","","","","","",{"$f":"IF(P1031=\"\",\"\",COUNTIF(P1032:$P$2087,P1031)+COUNTIF('TD-2R-EC'!$P$11:$P$612,P1031))","v":""},""]
[null,null,null,null,null,null,null,"",null,"","","","","","","",{"$f":"IF(P1032=\"\",\"\",COUNTIF(P1033:$P$2087,P1032)+COUNTIF('TD-2R-EC'!$P$11:$P$612,P1032))","v":""},""]
[null,null,null,null,null,null,null,"",null,"","","","","","","",{"$f":"IF(P1033=\"\",\"\",COUNTIF(P1034:$P$2087,P1033)+COUNTIF('TD-2R-EC'!$P$11:$P$612,P1033))","v":""},""]
[null,null,null,null,null,null,null,"",null,"","","","","","","",{"$f":"IF(P1034=\"\",\"\",COUNTIF(P1035:$P$2087,P1034)+COUNTIF('TD-2R-EC'!$P$11:$P$612,P1034))","v":""},""]
[null,null,null,null,null,null,null,"",null,"","","","","","","",{"$f":"IF(P1035=\"\",\"\",COUNTIF(P1036:$P$2087,P1035)+COUNTIF('TD-2R-EC'!$P$11:$P$612,P1035))","v":""},""]
[null,null,null,null,null,null,null,"",null,"","","","","","","",{"$f":"IF(P1036=\"\",\"\",COUNTIF(P1037:$P$2087,P1036)+COUNTIF('TD-2R-EC'!$P$11:$P$612,P1036))","v":""},""]
[null,null,null,null,null,null,null,"",null,"","","","","","","",{"$f":"IF(P1037=\"\",\"\",COUNTIF(P1038:$P$2087,P1037)+COUNTIF('TD-2R-EC'!$P$11:$P$612,P1037))","v":""},""]
[null,null,null,null,null,null,null,{"$f":"IF(ISBLANK(F1038),\"\",SUM(G1038*60)/F1038)","v":""},null,"","","","","","","",{"$f":"IF(P1038=\"\",\"\",COUNTIF(P1039:$P$2087,P1038)+COUNTIF('TD-2R-EC'!$P$11:$P$612,P1038))","v":""},""]
[null,null,null,null,null,null,null,"",null,{"$f":"IF(NOT(ISBLANK(G1039)),G1039*I1039,\"\")","v":""},"","","",{"$f":"IF(NOT(ISBLANK(G1039)),SUM(K1039:M1039),\"\")","v":""},{"$f":"IF(NOT(ISBLANK(I1039)),I1039*N1039,\"\")","v":""},"",{"$f":"IF(P1039=\"\",\"\",COUNTIF(P1040:$P$2087,P1039)+COUNTIF('TD-2R-EC'!$P$11:$P$612,P1039))","v":""},{"$f":"IF(Q1039>0,RIGHT(P1039,2),\"\")","v":""}]
[null,null,null,null,null,null,null,"",null,"","","","","","","",{"$f":"IF(P1040=\"\",\"\",COUNTIF(P1041:$P$2087,P1040)+COUNTIF('TD-2R-EC'!$P$11:$P$612,P1040))","v":""},""]
[null,null,null,null,null,null,null,"",null,"","","","","","","",{"$f":"IF(P1041=\"\",\"\",COUNTIF(P1042:$P$2087,P1041)+COUNTIF('TD-2R-EC'!$P$11:$P$612,P1041))","v":""},""]
[null,null,null,null,null,null,null,"",null,"","","","","","","",{"$f":"IF(P1042=\"\",\"\",COUNTIF(P1043:$P$2087,P1042)+COUNTIF('TD-2R-EC'!$P$11:$P$612,P1042))","v":""},""]
[null,null,null,null,null,null,null,"",null,"","","","","","","",{"$f":"IF(P1043=\"\",\"\",COUNTIF(P1044:$P$2087,P1043)+COUNTIF('TD-2R-EC'!$P$11:$P$612,P1043))","v":""},""]
[null,null,null,null,null,null,null,"",null,"","","","","","","",{"$f":"IF(P1044=\"\",\"\",COUNTIF(P1045:$P$2087,P1044)+COUNTIF('TD-2R-EC'!$P$11:$P$612,P1044))","v":""},""]
[null,null,null,null,null,null,null,"",null,"","","","","","","",{"$f":"IF(P1045=\"\",\"\",COUNTIF(P1046:$P$2087,P1045)+COUNTIF('TD-2R-EC'!$P$11:$P$612,P1045))","v":""},""]
[null,null,null,null,null,null,null,"",null,"","","","","","","",{"$f":"IF(P1046=\"\",\"\",COUNTIF(P1047:$P$2087,P1046)+COUNTIF('TD-2R-EC'!$P$11:$P$612,P1046))","v":""},""]
[null,null,null,null,null,null,null,"",null,"","","","","","","",{"$f":"IF(P1047=\"\",\"\",COUNTIF(P1048:$P$2087,P1047)+COUNTIF('TD-2R-EC'!$P$11:$P$612,P1047))","v":""},""]
[null,null,null,null,null,null,null,"",null,"","","","","","","",{"$f":"IF(P1048=\"\",\"\",COUNTIF(P1049:$P$2087,P1048)+COUNTIF('TD-2R-EC'!$P$11:$P$612,P1048))","v":""},""]
[null,null,null,null,null,null,null,"",null,"","","","","","","",{"$f":"IF(P1049=\"\",\"\",COUNTIF(P1050:$P$2087,P1049)+COUNTIF('TD-2R-EC'!$P$11:$P$612,P1049))","v":""},""]
[null,null,null,null,null,null,null,"",null,"","","","","","","",{"$f":"IF(P1050=\"\",\"\",COUNTIF(P1051:$P$2087,P1050)+COUNTIF('TD-2R-EC'!$P$11:$P$612,P1050))","v":""},""]
[null,null,null,null,null,null,null,"",null,"","","","","","","",{"$f":"IF(P1051=\"\",\"\",COUNTIF(P1052:$P$2087,P1051)+COUNTIF('TD-2R-EC'!$P$11:$P$612,P1051))","v":""},""]
[null,null,null,null,null,null,null,"",null,"","","","","","","",{"$f":"IF(P1052=\"\",\"\",COUNTIF(P1053:$P$2087,P1052)+COUNTIF('TD-2R-EC'!$P$11:$P$612,P1052))","v":""},""]
[null,null,null,null,null,null,null,"",null,"","","","","","","",{"$f":"IF(P1053=\"\",\"\",COUNTIF(P1054:$P$2087,P1053)+COUNTIF('TD-2R-EC'!$P$11:$P$612,P1053))","v":""},""]
[null,null,null,null,null,null,null,"",null,"","","","","","","",{"$f":"IF(P1054=\"\",\"\",COUNTIF(P1055:$P$2087,P1054)+COUNTIF('TD-2R-EC'!$P$11:$P$612,P1054))","v":""},""]
[null,null,null,null,null,null,null,"",null,"","","","","","","",{"$f":"IF(P1055=\"\",\"\",COUNTIF(P1056:$P$2087,P1055)+COUNTIF('TD-2R-EC'!$P$11:$P$612,P1055))","v":""},""]
[null,null,null,null,null,null,null,"",null,"","","","","","","",{"$f":"IF(P1056=\"\",\"\",COUNTIF(P1057:$P$2087,P1056)+COUNTIF('TD-2R-EC'!$P$11:$P$612,P1056))","v":""},""]
[null,null,null,null,null,null,null,"",null,"","","","","","","",{"$f":"IF(P1057=\"\",\"\",COUNTIF(P1058:$P$2087,P1057)+COUNTIF('TD-2R-EC'!$P$11:$P$612,P1057))","v":""},""]
[null,null,null,null,null,null,null,"",null,"","","","","","","",{"$f":"IF(P1058=\"\",\"\",COUNTIF(P1059:$P$2087,P1058)+COUNTIF('TD-2R-EC'!$P$11:$P$612,P1058))","v":""},""]
[null,null,null,null,null,null,null,"",null,"","","","","","","",{"$f":"IF(P1059=\"\",\"\",COUNTIF(P1060:$P$2087,P1059)+COUNTIF('TD-2R-EC'!$P$11:$P$612,P1059))","v":""},""]
[null,null,null,null,null,null,null,"",null,"","","","","","","",{"$f":"IF(P1060=\"\",\"\",COUNTIF(P1061:$P$2087,P1060)+COUNTIF('TD-2R-EC'!$P$11:$P$612,P1060))","v":""},""]
[null,null,null,null,null,null,null,"",null,"","","","","","","",{"$f":"IF(P1061=\"\",\"\",COUNTIF(P1062:$P$2087,P1061)+COUNTIF('TD-2R-EC'!$P$11:$P$612,P1061))","v":""},""]
[null,null,null,null,null,null,null,"",null,"","","","","","","",{"$f":"IF(P1062=\"\",\"\",COUNTIF(P1063:$P$2087,P1062)+COUNTIF('TD-2R-EC'!$P$11:$P$612,P1062))","v":""},""]
[null,null,null,null,null,null,null,"",null,"","","","","","","",{"$f":"IF(P1063=\"\",\"\",COUNTIF(P1064:$P$2087,P1063)+COUNTIF('TD-2R-EC'!$P$11:$P$612,P1063))","v":""},""]
[null,null,null,null,null,null,null,"",null,"","","","","","","",{"$f":"IF(P1064=\"\",\"\",COUNTIF(P1065:$P$2087,P1064)+COUNTIF('TD-2R-EC'!$P$11:$P$612,P1064))","v":""},""]
[null,null,null,null,null,null,null,"",null,"","","","","","","",{"$f":"IF(P1065=\"\",\"\",COUNTIF(P1066:$P$2087,P1065)+COUNTIF('TD-2R-EC'!$P$11:$P$612,P1065))","v":""},""]
[null,null,null,null,null,null,null,"",null,"","","","","","","",{"$f":"IF(P1066=\"\",\"\",COUNTIF(P1067:$P$2087,P1066)+COUNTIF('TD-2R-EC'!$P$11:$P$612,P1066))","v":""},""]
[null,null,null,null,null,null,null,"",null,"","","","","","","",{"$f":"IF(P1067=\"\",\"\",COUNTIF(P1068:$P$2087,P1067)+COUNTIF('TD-2R-EC'!$P$11:$P$612,P1067))","v":""},""]
[null,null,null,null,null,null,null,"",null,"","","","","","","",{"$f":"IF(P1068=\"\",\"\",COUNTIF(P1069:$P$2087,P1068)+COUNTIF('TD-2R-EC'!$P$11:$P$612,P1068))","v":""},""]
[null,null,null,null,null,null,null,"",null,"","","","","","","",{"$f":"IF(P1069=\"\",\"\",COUNTIF(P1070:$P$2087,P1069)+COUNTIF('TD-2R-EC'!$P$11:$P$612,P1069))","v":""},""]
[null,null,null,null,null,null,null,"",null,"","","","","","","",{"$f":"IF(P1070=\"\",\"\",COUNTIF(P1071:$P$2087,P1070)+COUNTIF('TD-2R-EC'!$P$11:$P$612,P1070))","v":""},""]
[null,null,null,null,null,null,null,"",null,"","","","","","","",{"$f":"IF(P1071=\"\",\"\",COUNTIF(P1072:$P$2087,P1071)+COUNTIF('TD-2R-EC'!$P$11:$P$612,P1071))","v":""},""]
[null,null,null,null,null,null,null,"",null,"","","","","","","",{"$f":"IF(P1072=\"\",\"\",COUNTIF(P1073:$P$2087,P1072)+COUNTIF('TD-2R-EC'!$P$11:$P$612,P1072))","v":""},""]
[null,null,null,null,null,null,null,"",null,"","","","","","","",{"$f":"IF(P1073=\"\",\"\",COUNTIF(P1074:$P$2087,P1073)+COUNTIF('TD-2R-EC'!$P$11:$P$612,P1073))","v":""},""]
[null,null,null,null,null,null,null,"",null,"","","","","","","",{"$f":"IF(P1074=\"\",\"\",COUNTIF(P1075:$P$2087,P1074)+COUNTIF('TD-2R-EC'!$P$11:$P$612,P1074))","v":""},""]
[null,null,null,null,null,null,null,"",null,"","","","","","","",{"$f":"IF(P1075=\"\",\"\",COUNTIF(P1076:$P$2087,P1075)+COUNTIF('TD-2R-EC'!$P$11:$P$612,P1075))","v":""},""]
[null,null,null,null,null,null,null,"",null,"","","","","","","",{"$f":"IF(P1076=\"\",\"\",COUNTIF(P1077:$P$2087,P1076)+COUNTIF('TD-2R-EC'!$P$11:$P$612,P1076))","v":""},""]
[null,null,null,null,null,null,null,"",null,"","","","","","","",{"$f":"IF(P1077=\"\",\"\",COUNTIF(P1078:$P$2087,P1077)+COUNTIF('TD-2R-EC'!$P$11:$P$612,P1077))","v":""},""]
[null,null,null,null,null,null,null,"",null,"","","","","","","",{"$f":"IF(P1078=\"\",\"\",COUNTIF(P1079:$P$2087,P1078)+COUNTIF('TD-2R-EC'!$P$11:$P$612,P1078))","v":""},""]
[null,null,null,null,null,null,null,"",null,"","","","","","","",{"$f":"IF(P1079=\"\",\"\",COUNTIF(P1080:$P$2087,P1079)+COUNTIF('TD-2R-EC'!$P$11:$P$612,P1079))","v":""},""]
[null,null,null,null,null,null,null,"",null,"","","","","","","",{"$f":"IF(P1080=\"\",\"\",COUNTIF(P1081:$P$2087,P1080)+COUNTIF('TD-2R-EC'!$P$11:$P$612,P1080))","v":""},""]
[null,null,null,null,null,null,null,"",null,"","","","","","","",{"$f":"IF(P1081=\"\",\"\",COUNTIF(P1082:$P$2087,P1081)+COUNTIF('TD-2R-EC'!$P$11:$P$612,P1081))","v":""},""]
[null,null,null,null,null,null,null,"",null,"","","","","","","",{"$f":"IF(P1082=\"\",\"\",COUNTIF(P1083:$P$2087,P1082)+COUNTIF('TD-2R-EC'!$P$11:$P$612,P1082))","v":""},""]
[null,null,null,null,null,null,null,"",null,"","","","","","","",{"$f":"IF(P1083=\"\",\"\",COUNTIF(P1084:$P$2087,P1083)+COUNTIF('TD-2R-EC'!$P$11:$P$612,P1083))","v":""},""]
[null,null,null,null,null,null,null,"",null,"","","","","","","",{"$f":"IF(P1084=\"\",\"\",COUNTIF(P1085:$P$2087,P1084)+COUNTIF('TD-2R-EC'!$P$11:$P$612,P1084))","v":""},""]
[null,null,null,null,null,null,null,"",null,"","","","","","",{"$f":"A1085&D1085&E1085","v":""},{"$f":"IF(P1085=\"\",\"\",COUNTIF(P1086:$P$2087,P1085)+COUNTIF('TD-2R-EC'!$P$11:$P$612,P1085))","v":""},""]
[null,null,null,null,null,null,null,"",null,"",{"$f":"IF(NOT(ISBLANK(G1086)),IF(A1086>0,10*G1086,\"\"),\"\")","v":""},{"$f":"IF(NOT(ISBLANK(G1086)),IF(A1086> 0,10*SUM(A1086*G1086),\"\"),\"\")","v":""},{"$f":"IF(NOT(ISBLANK(H1086)),IF(A1086> 0,G1086/2*10,\"\"),\"\")","v":""},"","","",{"$f":"IF(P1086=\"\",\"\",COUNTIF(P1087:$P$2087,P1086)+COUNTIF('TD-2R-EC'!$P$11:$P$612,P1086))","v":""},""]
[null,null,null,null,null,null,null,"",null,"","","","","","","",{"$f":"IF(P1087=\"\",\"\",COUNTIF(P1088:$P$2087,P1087)+COUNTIF('TD-2R-EC'!$P$11:$P$612,P1087))","v":""},""]
[null,null,null,null,null,null,null,"",null,"","","","","","","",{"$f":"IF(P1088=\"\",\"\",COUNTIF(P1089:$P$2087,P1088)+COUNTIF('TD-2R-EC'!$P$11:$P$612,P1088))","v":""},""]
[null,null,null,null,null,null,null,"",null,"","","","","","","",{"$f":"IF(P1089=\"\",\"\",COUNTIF(P1090:$P$2087,P1089)+COUNTIF('TD-2R-EC'!$P$11:$P$612,P1089))","v":""},""]
[null,null,null,null,null,null,null,"",null,"","","","","","","",{"$f":"IF(P1090=\"\",\"\",COUNTIF(P1091:$P$2087,P1090)+COUNTIF('TD-2R-EC'!$P$11:$P$612,P1090))","v":""},""]
[null,null,null,null,null,null,null,"",null,"","","","","","","",{"$f":"IF(P1091=\"\",\"\",COUNTIF(P1092:$P$2087,P1091)+COUNTIF('TD-2R-EC'!$P$11:$P$612,P1091))","v":""},""]
[null,null,null,null,null,null,null,"",null,"","","","","","","",{"$f":"IF(P1092=\"\",\"\",COUNTIF(P1093:$P$2087,P1092)+COUNTIF('TD-2R-EC'!$P$11:$P$612,P1092))","v":""},""]
[null,null,null,null,null,null,null,"",null,"","","","","","","",{"$f":"IF(P1093=\"\",\"\",COUNTIF(P1094:$P$2087,P1093)+COUNTIF('TD-2R-EC'!$P$11:$P$612,P1093))","v":""},""]
[null,null,null,null,null,null,null,"",null,"","","","","","","",{"$f":"IF(P1094=\"\",\"\",COUNTIF(P1095:$P$2087,P1094)+COUNTIF('TD-2R-EC'!$P$11:$P$612,P1094))","v":""},""]
[null,null,null,null,null,null,null,"",null,"","","","","","","",{"$f":"IF(P1095=\"\",\"\",COUNTIF(P1096:$P$2087,P1095)+COUNTIF('TD-2R-EC'!$P$11:$P$612,P1095))","v":""},""]
[null,null,null,null,null,null,null,"",null,"","","","","","","",{"$f":"IF(P1096=\"\",\"\",COUNTIF(P1097:$P$2087,P1096)+COUNTIF('TD-2R-EC'!$P$11:$P$612,P1096))","v":""},""]
[null,null,null,null,null,null,null,"",null,"","","","","","","",{"$f":"IF(P1097=\"\",\"\",COUNTIF(P1098:$P$2087,P1097)+COUNTIF('TD-2R-EC'!$P$11:$P$612,P1097))","v":""},""]
[null,null,null,null,null,null,null,"",null,"","","","","","","",{"$f":"IF(P1098=\"\",\"\",COUNTIF(P1099:$P$2087,P1098)+COUNTIF('TD-2R-EC'!$P$11:$P$612,P1098))","v":""},""]
[null,null,null,null,null,null,null,"",null,"","","","","","","",{"$f":"IF(P1099=\"\",\"\",COUNTIF(P1100:$P$2087,P1099)+COUNTIF('TD-2R-EC'!$P$11:$P$612,P1099))","v":""},""]
[null,null,null,null,null,null,null,"",null,"","","","","","","",{"$f":"IF(P1100=\"\",\"\",COUNTIF(P1101:$P$2087,P1100)+COUNTIF('TD-2R-EC'!$P$11:$P$612,P1100))","v":""},""]
[null,null,null,null,null,null,null,"",null,"","","","","","","",{"$f":"IF(P1101=\"\",\"\",COUNTIF(P1102:$P$2087,P1101)+COUNTIF('TD-2R-EC'!$P$11:$P$612,P1101))","v":""},""]
[null,null,null,null,null,null,null,{"$f":"IF(ISBLANK(F1102),\"\",SUM(G1102*60)/F1102)","v":""},null,"","","","","","","",{"$f":"IF(P1102=\"\",\"\",COUNTIF(P1103:$P$2087,P1102)+COUNTIF('TD-2R-EC'!$P$11:$P$612,P1102))","v":""},""]
[null,null,null,null,null,null,null,"",null,{"$f":"IF(NOT(ISBLANK(G1103)),G1103*I1103,\"\")","v":""},"","","",{"$f":"IF(NOT(ISBLANK(G1103)),SUM(K1103:M1103),\"\")","v":""},{"$f":"IF(NOT(ISBLANK(I1103)),I1103*N1103,\"\")","v":""},"",{"$f":"IF(P1103=\"\",\"\",COUNTIF(P1104:$P$2087,P1103)+COUNTIF('TD-2R-EC'!$P$11:$P$612,P1103))","v":""},{"$f":"IF(Q1103>0,RIGHT(P1103,2),\"\")","v":""}]
[null,null,null,null,null,null,null,"",null,"","","","","","","",{"$f":"IF(P1104=\"\",\"\",COUNTIF(P1105:$P$2087,P1104)+COUNTIF('TD-2R-EC'!$P$11:$P$612,P1104))","v":""},""]
[null,null,null,null,null,null,null,"",null,"","","","","","","",{"$f":"IF(P1105=\"\",\"\",COUNTIF(P1106:$P$2087,P1105)+COUNTIF('TD-2R-EC'!$P$11:$P$612,P1105))","v":""},""]
[null,null,null,null,null,null,null,"",null,"","","","","","","",{"$f":"IF(P1106=\"\",\"\",COUNTIF(P1107:$P$2087,P1106)+COUNTIF('TD-2R-EC'!$P$11:$P$612,P1106))","v":""},""]
[null,null,null,null,null,null,null,"",null,"","","","","","","",{"$f":"IF(P1107=\"\",\"\",COUNTIF(P1108:$P$2087,P1107)+COUNTIF('TD-2R-EC'!$P$11:$P$612,P1107))","v":""},""]
[null,null,null,null,null,null,null,"",null,"","","","","","","",{"$f":"IF(P1108=\"\",\"\",COUNTIF(P1109:$P$2087,P1108)+COUNTIF('TD-2R-EC'!$P$11:$P$612,P1108))","v":""},""]
[null,null,null,null,null,null,null,"",null,"","","","","","","",{"$f":"IF(P1109=\"\",\"\",COUNTIF(P1110:$P$2087,P1109)+COUNTIF('TD-2R-EC'!$P$11:$P$612,P1109))","v":""},""]
[null,null,null,null,null,null,null,"",null,"","","","","","","",{"$f":"IF(P1110=\"\",\"\",COUNTIF(P1111:$P$2087,P1110)+COUNTIF('TD-2R-EC'!$P$11:$P$612,P1110))","v":""},""]
[null,null,null,null,null,null,null,"",null,"","","","","","","",{"$f":"IF(P1111=\"\",\"\",COUNTIF(P1112:$P$2087,P1111)+COUNTIF('TD-2R-EC'!$P$11:$P$612,P1111))","v":""},""]
[null,null,null,null,null,null,null,"",null,"","","","","","","",{"$f":"IF(P1112=\"\",\"\",COUNTIF(P1113:$P$2087,P1112)+COUNTIF('TD-2R-EC'!$P$11:$P$612,P1112))","v":""},""]
[null,null,null,null,null,null,null,"",null,"","","","","","","",{"$f":"IF(P1113=\"\",\"\",COUNTIF(P1114:$P$2087,P1113)+COUNTIF('TD-2R-EC'!$P$11:$P$612,P1113))","v":""},""]
[null,null,null,null,null,null,null,"",null,"","","","","","","",{"$f":"IF(P1114=\"\",\"\",COUNTIF(P1115:$P$2087,P1114)+COUNTIF('TD-2R-EC'!$P$11:$P$612,P1114))","v":""},""]
[null,null,null,null,null,null,null,"",null,"","","","","","","",{"$f":"IF(P1115=\"\",\"\",COUNTIF(P1116:$P$2087,P1115)+COUNTIF('TD-2R-EC'!$P$11:$P$612,P1115))","v":""},""]
[null,null,null,null,null,null,null,"",null,"","","","","","","",{"$f":"IF(P1116=\"\",\"\",COUNTIF(P1117:$P$2087,P1116)+COUNTIF('TD-2R-EC'!$P$11:$P$612,P1116))","v":""},""]
[null,null,null,null,null,null,null,"",null,"","","","","","","",{"$f":"IF(P1117=\"\",\"\",COUNTIF(P1118:$P$2087,P1117)+COUNTIF('TD-2R-EC'!$P$11:$P$612,P1117))","v":""},""]
[null,null,null,null,null,null,null,"",null,"","","","","","","",{"$f":"IF(P1118=\"\",\"\",COUNTIF(P1119:$P$2087,P1118)+COUNTIF('TD-2R-EC'!$P$11:$P$612,P1118))","v":""},""]
[null,null,null,null,null,null,null,"",null,"","","","","","","",{"$f":"IF(P1119=\"\",\"\",COUNTIF(P1120:$P$2087,P1119)+COUNTIF('TD-2R-EC'!$P$11:$P$612,P1119))","v":""},""]
[null,null,null,null,null,null,null,"",null,"","","","","","","",{"$f":"IF(P1120=\"\",\"\",COUNTIF(P1121:$P$2087,P1120)+COUNTIF('TD-2R-EC'!$P$11:$P$612,P1120))","v":""},""]
[null,null,null,null,null,null,null,"",null,"","","","","","","",{"$f":"IF(P1121=\"\",\"\",COUNTIF(P1122:$P$2087,P1121)+COUNTIF('TD-2R-EC'!$P$11:$P$612,P1121))","v":""},""]
[null,null,null,null,null,null,null,"",null,"","","","","","","",{"$f":"IF(P1122=\"\",\"\",COUNTIF(P1123:$P$2087,P1122)+COUNTIF('TD-2R-EC'!$P$11:$P$612,P1122))","v":""},""]
[null,null,null,null,null,null,null,"",null,"","","","","","","",{"$f":"IF(P1123=\"\",\"\",COUNTIF(P1124:$P$2087,P1123)+COUNTIF('TD-2R-EC'!$P$11:$P$612,P1123))","v":""},""]
[null,null,null,null,null,null,null,"",null,"","","","","","","",{"$f":"IF(P1124=\"\",\"\",COUNTIF(P1125:$P$2087,P1124)+COUNTIF('TD-2R-EC'!$P$11:$P$612,P1124))","v":""},""]
[null,null,null,null,null,null,null,"",null,"","","","","","","",{"$f":"IF(P1125=\"\",\"\",COUNTIF(P1126:$P$2087,P1125)+COUNTIF('TD-2R-EC'!$P$11:$P$612,P1125))","v":""},""]
[null,null,null,null,null,null,null,"",null,"","","","","","","",{"$f":"IF(P1126=\"\",\"\",COUNTIF(P1127:$P$2087,P1126)+COUNTIF('TD-2R-EC'!$P$11:$P$612,P1126))","v":""},""]
[null,null,null,null,null,null,null,"",null,"","","","","","","",{"$f":"IF(P1127=\"\",\"\",COUNTIF(P1128:$P$2087,P1127)+COUNTIF('TD-2R-EC'!$P$11:$P$612,P1127))","v":""},""]
[null,null,null,null,null,null,null,"",null,"","","","","","","",{"$f":"IF(P1128=\"\",\"\",COUNTIF(P1129:$P$2087,P1128)+COUNTIF('TD-2R-EC'!$P$11:$P$612,P1128))","v":""},""]
[null,null,null,null,null,null,null,"",null,"","","","","","","",{"$f":"IF(P1129=\"\",\"\",COUNTIF(P1130:$P$2087,P1129)+COUNTIF('TD-2R-EC'!$P$11:$P$612,P1129))","v":""},""]
[null,null,null,null,null,null,null,"",null,"","","","","","","",{"$f":"IF(P1130=\"\",\"\",COUNTIF(P1131:$P$2087,P1130)+COUNTIF('TD-2R-EC'!$P$11:$P$612,P1130))","v":""},""]
[null,null,null,null,null,null,null,"",null,"","","","","","","",{"$f":"IF(P1131=\"\",\"\",COUNTIF(P1132:$P$2087,P1131)+COUNTIF('TD-2R-EC'!$P$11:$P$612,P1131))","v":""},""]
[null,null,null,null,null,null,null,"",null,"","","","","","","",{"$f":"IF(P1132=\"\",\"\",COUNTIF(P1133:$P$2087,P1132)+COUNTIF('TD-2R-EC'!$P$11:$P$612,P1132))","v":""},""]
[null,null,null,null,null,null,null,"",null,"","","","","","","",{"$f":"IF(P1133=\"\",\"\",COUNTIF(P1134:$P$2087,P1133)+COUNTIF('TD-2R-EC'!$P$11:$P$612,P1133))","v":""},""]
[null,null,null,null,null,null,null,"",null,"","","","","","","",{"$f":"IF(P1134=\"\",\"\",COUNTIF(P1135:$P$2087,P1134)+COUNTIF('TD-2R-EC'!$P$11:$P$612,P1134))","v":""},""]
[null,null,null,null,null,null,null,"",null,"","","","","","","",{"$f":"IF(P1135=\"\",\"\",COUNTIF(P1136:$P$2087,P1135)+COUNTIF('TD-2R-EC'!$P$11:$P$612,P1135))","v":""},""]
[null,null,null,null,null,null,null,"",null,"","","","","","","",{"$f":"IF(P1136=\"\",\"\",COUNTIF(P1137:$P$2087,P1136)+COUNTIF('TD-2R-EC'!$P$11:$P$612,P1136))","v":""},""]
[null,null,null,null,null,null,null,"",null,"","","","","","","",{"$f":"IF(P1137=\"\",\"\",COUNTIF(P1138:$P$2087,P1137)+COUNTIF('TD-2R-EC'!$P$11:$P$612,P1137))","v":""},""]
[null,null,null,null,null,null,null,"",null,"","","","","","","",{"$f":"IF(P1138=\"\",\"\",COUNTIF(P1139:$P$2087,P1138)+COUNTIF('TD-2R-EC'!$P$11:$P$612,P1138))","v":""},""]
[null,null,null,null,null,null,null,"",null,"","","","","","","",{"$f":"IF(P1139=\"\",\"\",COUNTIF(P1140:$P$2087,P1139)+COUNTIF('TD-2R-EC'!$P$11:$P$612,P1139))","v":""},""]
[null,null,null,null,null,null,null,"",null,"","","","","","","",{"$f":"IF(P1140=\"\",\"\",COUNTIF(P1141:$P$2087,P1140)+COUNTIF('TD-2R-EC'!$P$11:$P$612,P1140))","v":""},""]
[null,null,null,null,null,null,null,"",null,"","","","","","","",{"$f":"IF(P1141=\"\",\"\",COUNTIF(P1142:$P$2087,P1141)+COUNTIF('TD-2R-EC'!$P$11:$P$612,P1141))","v":""},""]
[null,null,null,null,null,null,null,"",null,"","","","","","","",{"$f":"IF(P1142=\"\",\"\",COUNTIF(P1143:$P$2087,P1142)+COUNTIF('TD-2R-EC'!$P$11:$P$612,P1142))","v":""},""]
[null,null,null,null,null,null,null,"",null,"","","","","","","",{"$f":"IF(P1143=\"\",\"\",COUNTIF(P1144:$P$2087,P1143)+COUNTIF('TD-2R-EC'!$P$11:$P$612,P1143))","v":""},""]
[null,null,null,null,null,null,null,"",null,"","","","","","","",{"$f":"IF(P1144=\"\",\"\",COUNTIF(P1145:$P$2087,P1144)+COUNTIF('TD-2R-EC'!$P$11:$P$612,P1144))","v":""},""]
[null,null,null,null,null,null,null,"",null,"","","","","","","",{"$f":"IF(P1145=\"\",\"\",COUNTIF(P1146:$P$2087,P1145)+COUNTIF('TD-2R-EC'!$P$11:$P$612,P1145))","v":""},""]
[null,null,null,null,null,null,null,"",null,"","","","","","","",{"$f":"IF(P1146=\"\",\"\",COUNTIF(P1147:$P$2087,P1146)+COUNTIF('TD-2R-EC'!$P$11:$P$612,P1146))","v":""},""]
[null,null,null,null,null,null,null,"",null,"","","","","","","",{"$f":"IF(P1147=\"\",\"\",COUNTIF(P1148:$P$2087,P1147)+COUNTIF('TD-2R-EC'!$P$11:$P$612,P1147))","v":""},""]
[null,null,null,null,null,null,null,"",null,"","","","","","","",{"$f":"IF(P1148=\"\",\"\",COUNTIF(P1149:$P$2087,P1148)+COUNTIF('TD-2R-EC'!$P$11:$P$612,P1148))","v":""},""]
[null,null,null,null,null,null,null,"",null,"","","","","","",{"$f":"A1149&D1149&E1149","v":""},{"$f":"IF(P1149=\"\",\"\",COUNTIF(P1150:$P$2087,P1149)+COUNTIF('TD-2R-EC'!$P$11:$P$612,P1149))","v":""},""]
[null,null,null,null,null,null,null,"",null,"",{"$f":"IF(NOT(ISBLANK(G1150)),IF(A1150>0,10*G1150,\"\"),\"\")","v":""},{"$f":"IF(NOT(ISBLANK(G1150)),IF(A1150> 0,10*SUM(A1150*G1150),\"\"),\"\")","v":""},{"$f":"IF(NOT(ISBLANK(H1150)),IF(A1150> 0,G1150/2*10,\"\"),\"\")","v":""},"","","",{"$f":"IF(P1150=\"\",\"\",COUNTIF(P1151:$P$2087,P1150)+COUNTIF('TD-2R-EC'!$P$11:$P$612,P1150))","v":""},""]
[null,null,null,null,null,null,null,"",null,"","","","","","","",{"$f":"IF(P1151=\"\",\"\",COUNTIF(P1152:$P$2087,P1151)+COUNTIF('TD-2R-EC'!$P$11:$P$612,P1151))","v":""},""]
[null,null,null,null,null,null,null,"",null,"","","","","","","",{"$f":"IF(P1152=\"\",\"\",COUNTIF(P1153:$P$2087,P1152)+COUNTIF('TD-2R-EC'!$P$11:$P$612,P1152))","v":""},""]
[null,null,null,null,null,null,null,"",null,"","","","","","","",{"$f":"IF(P1153=\"\",\"\",COUNTIF(P1154:$P$2087,P1153)+COUNTIF('TD-2R-EC'!$P$11:$P$612,P1153))","v":""},""]
[null,null,null,null,null,null,null,"",null,"","","","","","","",{"$f":"IF(P1154=\"\",\"\",COUNTIF(P1155:$P$2087,P1154)+COUNTIF('TD-2R-EC'!$P$11:$P$612,P1154))","v":""},""]
[null,null,null,null,null,null,null,"",null,"","","","","","","",{"$f":"IF(P1155=\"\",\"\",COUNTIF(P1156:$P$2087,P1155)+COUNTIF('TD-2R-EC'!$P$11:$P$612,P1155))","v":""},""]
[null,null,null,null,null,null,null,"",null,"","","","","","","",{"$f":"IF(P1156=\"\",\"\",COUNTIF(P1157:$P$2087,P1156)+COUNTIF('TD-2R-EC'!$P$11:$P$612,P1156))","v":""},""]
[null,null,null,null,null,null,null,"",null,"","","","","","","",{"$f":"IF(P1157=\"\",\"\",COUNTIF(P1158:$P$2087,P1157)+COUNTIF('TD-2R-EC'!$P$11:$P$612,P1157))","v":""},""]
[null,null,null,null,null,null,null,"",null,"","","","","","","",{"$f":"IF(P1158=\"\",\"\",COUNTIF(P1159:$P$2087,P1158)+COUNTIF('TD-2R-EC'!$P$11:$P$612,P1158))","v":""},""]
[null,null,null,null,null,null,null,"",null,"","","","","","","",{"$f":"IF(P1159=\"\",\"\",COUNTIF(P1160:$P$2087,P1159)+COUNTIF('TD-2R-EC'!$P$11:$P$612,P1159))","v":""},""]
[null,null,null,null,null,null,null,"",null,"","","","","","","",{"$f":"IF(P1160=\"\",\"\",COUNTIF(P1161:$P$2087,P1160)+COUNTIF('TD-2R-EC'!$P$11:$P$612,P1160))","v":""},""]
[null,null,null,null,null,null,null,"",null,"","","","","","","",{"$f":"IF(P1161=\"\",\"\",COUNTIF(P1162:$P$2087,P1161)+COUNTIF('TD-2R-EC'!$P$11:$P$612,P1161))","v":""},""]
[null,null,null,null,null,null,null,"",null,"","","","","","","",{"$f":"IF(P1162=\"\",\"\",COUNTIF(P1163:$P$2087,P1162)+COUNTIF('TD-2R-EC'!$P$11:$P$612,P1162))","v":""},""]
[null,null,null,null,null,null,null,"",null,"","","","","","","",{"$f":"IF(P1163=\"\",\"\",COUNTIF(P1164:$P$2087,P1163)+COUNTIF('TD-2R-EC'!$P$11:$P$612,P1163))","v":""},""]
[null,null,null,null,null,null,null,"",null,"","","","","","","",{"$f":"IF(P1164=\"\",\"\",COUNTIF(P1165:$P$2087,P1164)+COUNTIF('TD-2R-EC'!$P$11:$P$612,P1164))","v":""},""]
[null,null,null,null,null,null,null,"",null,"","","","","","","",{"$f":"IF(P1165=\"\",\"\",COUNTIF(P1166:$P$2087,P1165)+COUNTIF('TD-2R-EC'!$P$11:$P$612,P1165))","v":""},""]
[null,null,null,null,null,null,null,{"$f":"IF(ISBLANK(F1166),\"\",SUM(G1166*60)/F1166)","v":""},null,"","","","","","","",{"$f":"IF(P1166=\"\",\"\",COUNTIF(P1167:$P$2087,P1166)+COUNTIF('TD-2R-EC'!$P$11:$P$612,P1166))","v":""},""]
[null,null,null,null,null,null,null,"",null,{"$f":"IF(NOT(ISBLANK(G1167)),G1167*I1167,\"\")","v":""},"","","",{"$f":"IF(NOT(ISBLANK(G1167)),SUM(K1167:M1167),\"\")","v":""},{"$f":"IF(NOT(ISBLANK(I1167)),I1167*N1167,\"\")","v":""},"",{"$f":"IF(P1167=\"\",\"\",COUNTIF(P1168:$P$2087,P1167)+COUNTIF('TD-2R-EC'!$P$11:$P$612,P1167))","v":""},{"$f":"IF(Q1167>0,RIGHT(P1167,2),\"\")","v":""}]
[null,null,null,null,null,null,null,"",null,"","","","","","","",{"$f":"IF(P1168=\"\",\"\",COUNTIF(P1169:$P$2087,P1168)+COUNTIF('TD-2R-EC'!$P$11:$P$612,P1168))","v":""},""]
[null,null,null,null,null,null,null,"",null,"","","","","","","",{"$f":"IF(P1169=\"\",\"\",COUNTIF(P1170:$P$2087,P1169)+COUNTIF('TD-2R-EC'!$P$11:$P$612,P1169))","v":""},""]
[null,null,null,null,null,null,null,"",null,"","","","","","","",{"$f":"IF(P1170=\"\",\"\",COUNTIF(P1171:$P$2087,P1170)+COUNTIF('TD-2R-EC'!$P$11:$P$612,P1170))","v":""},""]
[null,null,null,null,null,null,null,"",null,"","","","","","","",{"$f":"IF(P1171=\"\",\"\",COUNTIF(P1172:$P$2087,P1171)+COUNTIF('TD-2R-EC'!$P$11:$P$612,P1171))","v":""},""]
[null,null,null,null,null,null,null,"",null,"","","","","","","",{"$f":"IF(P1172=\"\",\"\",COUNTIF(P1173:$P$2087,P1172)+COUNTIF('TD-2R-EC'!$P$11:$P$612,P1172))","v":""},""]
[null,null,null,null,null,null,null,"",null,"","","","","","","",{"$f":"IF(P1173=\"\",\"\",COUNTIF(P1174:$P$2087,P1173)+COUNTIF('TD-2R-EC'!$P$11:$P$612,P1173))","v":""},""]
[null,null,null,null,null,null,null,"",null,"","","","","","","",{"$f":"IF(P1174=\"\",\"\",COUNTIF(P1175:$P$2087,P1174)+COUNTIF('TD-2R-EC'!$P$11:$P$612,P1174))","v":""},""]
[null,null,null,null,null,null,null,"",null,"","","","","","","",{"$f":"IF(P1175=\"\",\"\",COUNTIF(P1176:$P$2087,P1175)+COUNTIF('TD-2R-EC'!$P$11:$P$612,P1175))","v":""},""]
[null,null,null,null,null,null,null,"",null,"","","","","","","",{"$f":"IF(P1176=\"\",\"\",COUNTIF(P1177:$P$2087,P1176)+COUNTIF('TD-2R-EC'!$P$11:$P$612,P1176))","v":""},""]
[null,null,null,null,null,null,null,"",null,"","","","","","","",{"$f":"IF(P1177=\"\",\"\",COUNTIF(P1178:$P$2087,P1177)+COUNTIF('TD-2R-EC'!$P$11:$P$612,P1177))","v":""},""]
[null,null,null,null,null,null,null,"",null,"","","","","","","",{"$f":"IF(P1178=\"\",\"\",COUNTIF(P1179:$P$2087,P1178)+COUNTIF('TD-2R-EC'!$P$11:$P$612,P1178))","v":""},""]
[null,null,null,null,null,null,null,"",null,"","","","","","","",{"$f":"IF(P1179=\"\",\"\",COUNTIF(P1180:$P$2087,P1179)+COUNTIF('TD-2R-EC'!$P$11:$P$612,P1179))","v":""},""]
[null,null,null,null,null,null,null,"",null,"","","","","","","",{"$f":"IF(P1180=\"\",\"\",COUNTIF(P1181:$P$2087,P1180)+COUNTIF('TD-2R-EC'!$P$11:$P$612,P1180))","v":""},""]
[null,null,null,null,null,null,null,"",null,"","","","","","","",{"$f":"IF(P1181=\"\",\"\",COUNTIF(P1182:$P$2087,P1181)+COUNTIF('TD-2R-EC'!$P$11:$P$612,P1181))","v":""},""]
[null,null,null,null,null,null,null,"",null,"","","","","","","",{"$f":"IF(P1182=\"\",\"\",COUNTIF(P1183:$P$2087,P1182)+COUNTIF('TD-2R-EC'!$P$11:$P$612,P1182))","v":""},""]
[null,null,null,null,null,null,null,"",null,"","","","","","","",{"$f":"IF(P1183=\"\",\"\",COUNTIF(P1184:$P$2087,P1183)+COUNTIF('TD-2R-EC'!$P$11:$P$612,P1183))","v":""},""]
[null,null,null,null,null,null,null,"",null,"","","","","","","",{"$f":"IF(P1184=\"\",\"\",COUNTIF(P1185:$P$2087,P1184)+COUNTIF('TD-2R-EC'!$P$11:$P$612,P1184))","v":""},""]
[null,null,null,null,null,null,null,"",null,"","","","","","","",{"$f":"IF(P1185=\"\",\"\",COUNTIF(P1186:$P$2087,P1185)+COUNTIF('TD-2R-EC'!$P$11:$P$612,P1185))","v":""},""]
[null,null,null,null,null,null,null,"",null,"","","","","","","",{"$f":"IF(P1186=\"\",\"\",COUNTIF(P1187:$P$2087,P1186)+COUNTIF('TD-2R-EC'!$P$11:$P$612,P1186))","v":""},""]
[null,null,null,null,null,null,null,"",null,"","","","","","","",{"$f":"IF(P1187=\"\",\"\",COUNTIF(P1188:$P$2087,P1187)+COUNTIF('TD-2R-EC'!$P$11:$P$612,P1187))","v":""},""]
[null,null,null,null,null,null,null,"",null,"","","","","","","",{"$f":"IF(P1188=\"\",\"\",COUNTIF(P1189:$P$2087,P1188)+COUNTIF('TD-2R-EC'!$P$11:$P$612,P1188))","v":""},""]
[null,null,null,null,null,null,null,"",null,"","","","","","","",{"$f":"IF(P1189=\"\",\"\",COUNTIF(P1190:$P$2087,P1189)+COUNTIF('TD-2R-EC'!$P$11:$P$612,P1189))","v":""},""]
[null,null,null,null,null,null,null,"",null,"","","","","","","",{"$f":"IF(P1190=\"\",\"\",COUNTIF(P1191:$P$2087,P1190)+COUNTIF('TD-2R-EC'!$P$11:$P$612,P1190))","v":""},""]
[null,null,null,null,null,null,null,"",null,"","","","","","","",{"$f":"IF(P1191=\"\",\"\",COUNTIF(P1192:$P$2087,P1191)+COUNTIF('TD-2R-EC'!$P$11:$P$612,P1191))","v":""},""]
[null,null,null,null,null,null,null,"",null,"","","","","","","",{"$f":"IF(P1192=\"\",\"\",COUNTIF(P1193:$P$2087,P1192)+COUNTIF('TD-2R-EC'!$P$11:$P$612,P1192))","v":""},""]
[null,null,null,null,null,null,null,"",null,"","","","","","","",{"$f":"IF(P1193=\"\",\"\",COUNTIF(P1194:$P$2087,P1193)+COUNTIF('TD-2R-EC'!$P$11:$P$612,P1193))","v":""},""]
[null,null,null,null,null,null,null,"",null,"","","","","","","",{"$f":"IF(P1194=\"\",\"\",COUNTIF(P1195:$P$2087,P1194)+COUNTIF('TD-2R-EC'!$P$11:$P$612,P1194))","v":""},""]
[null,null,null,null,null,null,null,"",null,"","","","","","","",{"$f":"IF(P1195=\"\",\"\",COUNTIF(P1196:$P$2087,P1195)+COUNTIF('TD-2R-EC'!$P$11:$P$612,P1195))","v":""},""]
[null,null,null,null,null,null,null,"",null,"","","","","","","",{"$f":"IF(P1196=\"\",\"\",COUNTIF(P1197:$P$2087,P1196)+COUNTIF('TD-2R-EC'!$P$11:$P$612,P1196))","v":""},""]
[null,null,null,null,null,null,null,"",null,"","","","","","","",{"$f":"IF(P1197=\"\",\"\",COUNTIF(P1198:$P$2087,P1197)+COUNTIF('TD-2R-EC'!$P$11:$P$612,P1197))","v":""},""]
[null,null,null,null,null,null,null,"",null,"","","","","","","",{"$f":"IF(P1198=\"\",\"\",COUNTIF(P1199:$P$2087,P1198)+COUNTIF('TD-2R-EC'!$P$11:$P$612,P1198))","v":""},""]
[null,null,null,null,null,null,null,"",null,"","","","","","","",{"$f":"IF(P1199=\"\",\"\",COUNTIF(P1200:$P$2087,P1199)+COUNTIF('TD-2R-EC'!$P$11:$P$612,P1199))","v":""},""]
[null,null,null,null,null,null,null,"",null,"","","","","","","",{"$f":"IF(P1200=\"\",\"\",COUNTIF(P1201:$P$2087,P1200)+COUNTIF('TD-2R-EC'!$P$11:$P$612,P1200))","v":""},""]
[null,null,null,null,null,null,null,"",null,"","","","","","","",{"$f":"IF(P1201=\"\",\"\",COUNTIF(P1202:$P$2087,P1201)+COUNTIF('TD-2R-EC'!$P$11:$P$612,P1201))","v":""},""]
[null,null,null,null,null,null,null,"",null,"","","","","","","",{"$f":"IF(P1202=\"\",\"\",COUNTIF(P1203:$P$2087,P1202)+COUNTIF('TD-2R-EC'!$P$11:$P$612,P1202))","v":""},""]
[null,null,null,null,null,null,null,"",null,"","","","","","","",{"$f":"IF(P1203=\"\",\"\",COUNTIF(P1204:$P$2087,P1203)+COUNTIF('TD-2R-EC'!$P$11:$P$612,P1203))","v":""},""]
[null,null,null,null,null,null,null,"",null,"","","","","","","",{"$f":"IF(P1204=\"\",\"\",COUNTIF(P1205:$P$2087,P1204)+COUNTIF('TD-2R-EC'!$P$11:$P$612,P1204))","v":""},""]
[null,null,null,null,null,null,null,"",null,"","","","","","","",{"$f":"IF(P1205=\"\",\"\",COUNTIF(P1206:$P$2087,P1205)+COUNTIF('TD-2R-EC'!$P$11:$P$612,P1205))","v":""},""]
[null,null,null,null,null,null,null,"",null,"","","","","","","",{"$f":"IF(P1206=\"\",\"\",COUNTIF(P1207:$P$2087,P1206)+COUNTIF('TD-2R-EC'!$P$11:$P$612,P1206))","v":""},""]
[null,null,null,null,null,null,null,"",null,"","","","","","","",{"$f":"IF(P1207=\"\",\"\",COUNTIF(P1208:$P$2087,P1207)+COUNTIF('TD-2R-EC'!$P$11:$P$612,P1207))","v":""},""]
[null,null,null,null,null,null,null,"",null,"","","","","","","",{"$f":"IF(P1208=\"\",\"\",COUNTIF(P1209:$P$2087,P1208)+COUNTIF('TD-2R-EC'!$P$11:$P$612,P1208))","v":""},""]
[null,null,null,null,null,null,null,"",null,"","","","","","","",{"$f":"IF(P1209=\"\",\"\",COUNTIF(P1210:$P$2087,P1209)+COUNTIF('TD-2R-EC'!$P$11:$P$612,P1209))","v":""},""]
[null,null,null,null,null,null,null,"",null,"","","","","","","",{"$f":"IF(P1210=\"\",\"\",COUNTIF(P1211:$P$2087,P1210)+COUNTIF('TD-2R-EC'!$P$11:$P$612,P1210))","v":""},""]
[null,null,null,null,null,null,null,"",null,"","","","","","","",{"$f":"IF(P1211=\"\",\"\",COUNTIF(P1212:$P$2087,P1211)+COUNTIF('TD-2R-EC'!$P$11:$P$612,P1211))","v":""},""]
[null,null,null,null,null,null,null,"",null,"","","","","","","",{"$f":"IF(P1212=\"\",\"\",COUNTIF(P1213:$P$2087,P1212)+COUNTIF('TD-2R-EC'!$P$11:$P$612,P1212))","v":""},""]
[null,null,null,null,null,null,null,"",null,"","","","","","",{"$f":"A1213&D1213&E1213","v":""},{"$f":"IF(P1213=\"\",\"\",COUNTIF(P1214:$P$2087,P1213)+COUNTIF('TD-2R-EC'!$P$11:$P$612,P1213))","v":""},""]
[null,null,null,null,null,null,null,"",null,"",{"$f":"IF(NOT(ISBLANK(G1214)),IF(A1214>0,10*G1214,\"\"),\"\")","v":""},{"$f":"IF(NOT(ISBLANK(G1214)),IF(A1214> 0,10*SUM(A1214*G1214),\"\"),\"\")","v":""},{"$f":"IF(NOT(ISBLANK(H1214)),IF(A1214> 0,G1214/2*10,\"\"),\"\")","v":""},"","","",{"$f":"IF(P1214=\"\",\"\",COUNTIF(P1215:$P$2087,P1214)+COUNTIF('TD-2R-EC'!$P$11:$P$612,P1214))","v":""},""]
[null,null,null,null,null,null,null,"",null,"","","","","","","",{"$f":"IF(P1215=\"\",\"\",COUNTIF(P1216:$P$2087,P1215)+COUNTIF('TD-2R-EC'!$P$11:$P$612,P1215))","v":""},""]
[null,null,null,null,null,null,null,"",null,"","","","","","","",{"$f":"IF(P1216=\"\",\"\",COUNTIF(P1217:$P$2087,P1216)+COUNTIF('TD-2R-EC'!$P$11:$P$612,P1216))","v":""},""]
[null,null,null,null,null,null,null,"",null,"","","","","","","",{"$f":"IF(P1217=\"\",\"\",COUNTIF(P1218:$P$2087,P1217)+COUNTIF('TD-2R-EC'!$P$11:$P$612,P1217))","v":""},""]
[null,null,null,null,null,null,null,"",null,"","","","","","","",{"$f":"IF(P1218=\"\",\"\",COUNTIF(P1219:$P$2087,P1218)+COUNTIF('TD-2R-EC'!$P$11:$P$612,P1218))","v":""},""]
[null,null,null,null,null,null,null,"",null,"","","","","","","",{"$f":"IF(P1219=\"\",\"\",COUNTIF(P1220:$P$2087,P1219)+COUNTIF('TD-2R-EC'!$P$11:$P$612,P1219))","v":""},""]
[null,null,null,null,null,null,null,"",null,"","","","","","","",{"$f":"IF(P1220=\"\",\"\",COUNTIF(P1221:$P$2087,P1220)+COUNTIF('TD-2R-EC'!$P$11:$P$612,P1220))","v":""},""]
[null,null,null,null,null,null,null,"",null,"","","","","","","",{"$f":"IF(P1221=\"\",\"\",COUNTIF(P1222:$P$2087,P1221)+COUNTIF('TD-2R-EC'!$P$11:$P$612,P1221))","v":""},""]
[null,null,null,null,null,null,null,"",null,"","","","","","","",{"$f":"IF(P1222=\"\",\"\",COUNTIF(P1223:$P$2087,P1222)+COUNTIF('TD-2R-EC'!$P$11:$P$612,P1222))","v":""},""]
[null,null,null,null,null,null,null,"",null,"","","","","","","",{"$f":"IF(P1223=\"\",\"\",COUNTIF(P1224:$P$2087,P1223)+COUNTIF('TD-2R-EC'!$P$11:$P$612,P1223))","v":""},""]
[null,null,null,null,null,null,null,"",null,"","","","","","","",{"$f":"IF(P1224=\"\",\"\",COUNTIF(P1225:$P$2087,P1224)+COUNTIF('TD-2R-EC'!$P$11:$P$612,P1224))","v":""},""]
[null,null,null,null,null,null,null,"",null,"","","","","","","",{"$f":"IF(P1225=\"\",\"\",COUNTIF(P1226:$P$2087,P1225)+COUNTIF('TD-2R-EC'!$P$11:$P$612,P1225))","v":""},""]
[null,null,null,null,null,null,null,"",null,"","","","","","","",{"$f":"IF(P1226=\"\",\"\",COUNTIF(P1227:$P$2087,P1226)+COUNTIF('TD-2R-EC'!$P$11:$P$612,P1226))","v":""},""]
[null,null,null,null,null,null,null,"",null,"","","","","","","",{"$f":"IF(P1227=\"\",\"\",COUNTIF(P1228:$P$2087,P1227)+COUNTIF('TD-2R-EC'!$P$11:$P$612,P1227))","v":""},""]
[null,null,null,null,null,null,null,"",null,"","","","","","","",{"$f":"IF(P1228=\"\",\"\",COUNTIF(P1229:$P$2087,P1228)+COUNTIF('TD-2R-EC'!$P$11:$P$612,P1228))","v":""},""]
[null,null,null,null,null,null,null,"",null,"","","","","","","",{"$f":"IF(P1229=\"\",\"\",COUNTIF(P1230:$P$2087,P1229)+COUNTIF('TD-2R-EC'!$P$11:$P$612,P1229))","v":""},""]
[null,null,null,null,null,null,null,{"$f":"IF(ISBLANK(F1230),\"\",SUM(G1230*60)/F1230)","v":""},null,"","","","","","","",{"$f":"IF(P1230=\"\",\"\",COUNTIF(P1231:$P$2087,P1230)+COUNTIF('TD-2R-EC'!$P$11:$P$612,P1230))","v":""},""]
[null,null,null,null,null,null,null,"",null,{"$f":"IF(NOT(ISBLANK(G1231)),G1231*I1231,\"\")","v":""},"","","",{"$f":"IF(NOT(ISBLANK(G1231)),SUM(K1231:M1231),\"\")","v":""},{"$f":"IF(NOT(ISBLANK(I1231)),I1231*N1231,\"\")","v":""},"",{"$f":"IF(P1231=\"\",\"\",COUNTIF(P1232:$P$2087,P1231)+COUNTIF('TD-2R-EC'!$P$11:$P$612,P1231))","v":""},{"$f":"IF(Q1231>0,RIGHT(P1231,2),\"\")","v":""}]
[null,null,null,null,null,null,null,"",null,"","","","","","","",{"$f":"IF(P1232=\"\",\"\",COUNTIF(P1233:$P$2087,P1232)+COUNTIF('TD-2R-EC'!$P$11:$P$612,P1232))","v":""},""]
[null,null,null,null,null,null,null,"",null,"","","","","","","",{"$f":"IF(P1233=\"\",\"\",COUNTIF(P1234:$P$2087,P1233)+COUNTIF('TD-2R-EC'!$P$11:$P$612,P1233))","v":""},""]
[null,null,null,null,null,null,null,"",null,"","","","","","","",{"$f":"IF(P1234=\"\",\"\",COUNTIF(P1235:$P$2087,P1234)+COUNTIF('TD-2R-EC'!$P$11:$P$612,P1234))","v":""},""]
[null,null,null,null,null,null,null,"",null,"","","","","","","",{"$f":"IF(P1235=\"\",\"\",COUNTIF(P1236:$P$2087,P1235)+COUNTIF('TD-2R-EC'!$P$11:$P$612,P1235))","v":""},""]
[null,null,null,null,null,null,null,"",null,"","","","","","","",{"$f":"IF(P1236=\"\",\"\",COUNTIF(P1237:$P$2087,P1236)+COUNTIF('TD-2R-EC'!$P$11:$P$612,P1236))","v":""},""]
[null,null,null,null,null,null,null,"",null,"","","","","","","",{"$f":"IF(P1237=\"\",\"\",COUNTIF(P1238:$P$2087,P1237)+COUNTIF('TD-2R-EC'!$P$11:$P$612,P1237))","v":""},""]
[null,null,null,null,null,null,null,"",null,"","","","","","","",{"$f":"IF(P1238=\"\",\"\",COUNTIF(P1239:$P$2087,P1238)+COUNTIF('TD-2R-EC'!$P$11:$P$612,P1238))","v":""},""]
[null,null,null,null,null,null,null,"",null,"","","","","","","",{"$f":"IF(P1239=\"\",\"\",COUNTIF(P1240:$P$2087,P1239)+COUNTIF('TD-2R-EC'!$P$11:$P$612,P1239))","v":""},""]
[null,null,null,null,null,null,null,"",null,"","","","","","","",{"$f":"IF(P1240=\"\",\"\",COUNTIF(P1241:$P$2087,P1240)+COUNTIF('TD-2R-EC'!$P$11:$P$612,P1240))","v":""},""]
[null,null,null,null,null,null,null,"",null,"","","","","","","",{"$f":"IF(P1241=\"\",\"\",COUNTIF(P1242:$P$2087,P1241)+COUNTIF('TD-2R-EC'!$P$11:$P$612,P1241))","v":""},""]
[null,null,null,null,null,null,null,"",null,"","","","","","","",{"$f":"IF(P1242=\"\",\"\",COUNTIF(P1243:$P$2087,P1242)+COUNTIF('TD-2R-EC'!$P$11:$P$612,P1242))","v":""},""]
[null,null,null,null,null,null,null,"",null,"","","","","","","",{"$f":"IF(P1243=\"\",\"\",COUNTIF(P1244:$P$2087,P1243)+COUNTIF('TD-2R-EC'!$P$11:$P$612,P1243))","v":""},""]
[null,null,null,null,null,null,null,"",null,"","","","","","","",{"$f":"IF(P1244=\"\",\"\",COUNTIF(P1245:$P$2087,P1244)+COUNTIF('TD-2R-EC'!$P$11:$P$612,P1244))","v":""},""]
[null,null,null,null,null,null,null,"",null,"","","","","","","",{"$f":"IF(P1245=\"\",\"\",COUNTIF(P1246:$P$2087,P1245)+COUNTIF('TD-2R-EC'!$P$11:$P$612,P1245))","v":""},""]
[null,null,null,null,null,null,null,"",null,"","","","","","","",{"$f":"IF(P1246=\"\",\"\",COUNTIF(P1247:$P$2087,P1246)+COUNTIF('TD-2R-EC'!$P$11:$P$612,P1246))","v":""},""]
[null,null,null,null,null,null,null,"",null,"","","","","","","",{"$f":"IF(P1247=\"\",\"\",COUNTIF(P1248:$P$2087,P1247)+COUNTIF('TD-2R-EC'!$P$11:$P$612,P1247))","v":""},""]
[null,null,null,null,null,null,null,"",null,"","","","","","","",{"$f":"IF(P1248=\"\",\"\",COUNTIF(P1249:$P$2087,P1248)+COUNTIF('TD-2R-EC'!$P$11:$P$612,P1248))","v":""},""]
[null,null,null,null,null,null,null,"",null,"","","","","","","",{"$f":"IF(P1249=\"\",\"\",COUNTIF(P1250:$P$2087,P1249)+COUNTIF('TD-2R-EC'!$P$11:$P$612,P1249))","v":""},""]
[null,null,null,null,null,null,null,"",null,"","","","","","","",{"$f":"IF(P1250=\"\",\"\",COUNTIF(P1251:$P$2087,P1250)+COUNTIF('TD-2R-EC'!$P$11:$P$612,P1250))","v":""},""]
[null,null,null,null,null,null,null,"",null,"","","","","","","",{"$f":"IF(P1251=\"\",\"\",COUNTIF(P1252:$P$2087,P1251)+COUNTIF('TD-2R-EC'!$P$11:$P$612,P1251))","v":""},""]
[null,null,null,null,null,null,null,"",null,"","","","","","","",{"$f":"IF(P1252=\"\",\"\",COUNTIF(P1253:$P$2087,P1252)+COUNTIF('TD-2R-EC'!$P$11:$P$612,P1252))","v":""},""]
[null,null,null,null,null,null,null,"",null,"","","","","","","",{"$f":"IF(P1253=\"\",\"\",COUNTIF(P1254:$P$2087,P1253)+COUNTIF('TD-2R-EC'!$P$11:$P$612,P1253))","v":""},""]
[null,null,null,null,null,null,null,"",null,"","","","","","","",{"$f":"IF(P1254=\"\",\"\",COUNTIF(P1255:$P$2087,P1254)+COUNTIF('TD-2R-EC'!$P$11:$P$612,P1254))","v":""},""]
[null,null,null,null,null,null,null,"",null,"","","","","","","",{"$f":"IF(P1255=\"\",\"\",COUNTIF(P1256:$P$2087,P1255)+COUNTIF('TD-2R-EC'!$P$11:$P$612,P1255))","v":""},""]
[null,null,null,null,null,null,null,"",null,"","","","","","","",{"$f":"IF(P1256=\"\",\"\",COUNTIF(P1257:$P$2087,P1256)+COUNTIF('TD-2R-EC'!$P$11:$P$612,P1256))","v":""},""]
[null,null,null,null,null,null,null,"",null,"","","","","","","",{"$f":"IF(P1257=\"\",\"\",COUNTIF(P1258:$P$2087,P1257)+COUNTIF('TD-2R-EC'!$P$11:$P$612,P1257))","v":""},""]
[null,null,null,null,null,null,null,"",null,"","","","","","","",{"$f":"IF(P1258=\"\",\"\",COUNTIF(P1259:$P$2087,P1258)+COUNTIF('TD-2R-EC'!$P$11:$P$612,P1258))","v":""},""]
[null,null,null,null,null,null,null,"",null,"","","","","","","",{"$f":"IF(P1259=\"\",\"\",COUNTIF(P1260:$P$2087,P1259)+COUNTIF('TD-2R-EC'!$P$11:$P$612,P1259))","v":""},""]
[null,null,null,null,null,null,null,"",null,"","","","","","","",{"$f":"IF(P1260=\"\",\"\",COUNTIF(P1261:$P$2087,P1260)+COUNTIF('TD-2R-EC'!$P$11:$P$612,P1260))","v":""},""]
[null,null,null,null,null,null,null,"",null,"","","","","","","",{"$f":"IF(P1261=\"\",\"\",COUNTIF(P1262:$P$2087,P1261)+COUNTIF('TD-2R-EC'!$P$11:$P$612,P1261))","v":""},""]
[null,null,null,null,null,null,null,"",null,"","","","","","","",{"$f":"IF(P1262=\"\",\"\",COUNTIF(P1263:$P$2087,P1262)+COUNTIF('TD-2R-EC'!$P$11:$P$612,P1262))","v":""},""]
[null,null,null,null,null,null,null,"",null,"","","","","","","",{"$f":"IF(P1263=\"\",\"\",COUNTIF(P1264:$P$2087,P1263)+COUNTIF('TD-2R-EC'!$P$11:$P$612,P1263))","v":""},""]
[null,null,null,null,null,null,null,"",null,"","","","","","","",{"$f":"IF(P1264=\"\",\"\",COUNTIF(P1265:$P$2087,P1264)+COUNTIF('TD-2R-EC'!$P$11:$P$612,P1264))","v":""},""]
[null,null,null,null,null,null,null,"",null,"","","","","","","",{"$f":"IF(P1265=\"\",\"\",COUNTIF(P1266:$P$2087,P1265)+COUNTIF('TD-2R-EC'!$P$11:$P$612,P1265))","v":""},""]
[null,null,null,null,null,null,null,"",null,"","","","","","","",{"$f":"IF(P1266=\"\",\"\",COUNTIF(P1267:$P$2087,P1266)+COUNTIF('TD-2R-EC'!$P$11:$P$612,P1266))","v":""},""]
[null,null,null,null,null,null,null,"",null,"","","","","","","",{"$f":"IF(P1267=\"\",\"\",COUNTIF(P1268:$P$2087,P1267)+COUNTIF('TD-2R-EC'!$P$11:$P$612,P1267))","v":""},""]
[null,null,null,null,null,null,null,"",null,"","","","","","","",{"$f":"IF(P1268=\"\",\"\",COUNTIF(P1269:$P$2087,P1268)+COUNTIF('TD-2R-EC'!$P$11:$P$612,P1268))","v":""},""]
[null,null,null,null,null,null,null,"",null,"","","","","","","",{"$f":"IF(P1269=\"\",\"\",COUNTIF(P1270:$P$2087,P1269)+COUNTIF('TD-2R-EC'!$P$11:$P$612,P1269))","v":""},""]
[null,null,null,null,null,null,null,"",null,"","","","","","","",{"$f":"IF(P1270=\"\",\"\",COUNTIF(P1271:$P$2087,P1270)+COUNTIF('TD-2R-EC'!$P$11:$P$612,P1270))","v":""},""]
[null,null,null,null,null,null,null,"",null,"","","","","","","",{"$f":"IF(P1271=\"\",\"\",COUNTIF(P1272:$P$2087,P1271)+COUNTIF('TD-2R-EC'!$P$11:$P$612,P1271))","v":""},""]
[null,null,null,null,null,null,null,"",null,"","","","","","","",{"$f":"IF(P1272=\"\",\"\",COUNTIF(P1273:$P$2087,P1272)+COUNTIF('TD-2R-EC'!$P$11:$P$612,P1272))","v":""},""]
[null,null,null,null,null,null,null,"",null,"","","","","","","",{"$f":"IF(P1273=\"\",\"\",COUNTIF(P1274:$P$2087,P1273)+COUNTIF('TD-2R-EC'!$P$11:$P$612,P1273))","v":""},""]
[null,null,null,null,null,null,null,"",null,"","","","","","","",{"$f":"IF(P1274=\"\",\"\",COUNTIF(P1275:$P$2087,P1274)+COUNTIF('TD-2R-EC'!$P$11:$P$612,P1274))","v":""},""]
[null,null,null,null,null,null,null,"",null,"","","","","","","",{"$f":"IF(P1275=\"\",\"\",COUNTIF(P1276:$P$2087,P1275)+COUNTIF('TD-2R-EC'!$P$11:$P$612,P1275))","v":""},""]
[null,null,null,null,null,null,null,"",null,"","","","","","","",{"$f":"IF(P1276=\"\",\"\",COUNTIF(P1277:$P$2087,P1276)+COUNTIF('TD-2R-EC'!$P$11:$P$612,P1276))","v":""},""]
[null,null,null,null,null,null,null,"",null,"","","","","","",{"$f":"A1277&D1277&E1277","v":""},{"$f":"IF(P1277=\"\",\"\",COUNTIF(P1278:$P$2087,P1277)+COUNTIF('TD-2R-EC'!$P$11:$P$612,P1277))","v":""},""]
[null,null,null,null,null,null,null,"",null,"",{"$f":"IF(NOT(ISBLANK(G1278)),IF(A1278>0,10*G1278,\"\"),\"\")","v":""},{"$f":"IF(NOT(ISBLANK(G1278)),IF(A1278> 0,10*SUM(A1278*G1278),\"\"),\"\")","v":""},{"$f":"IF(NOT(ISBLANK(H1278)),IF(A1278> 0,G1278/2*10,\"\"),\"\")","v":""},"","","",{"$f":"IF(P1278=\"\",\"\",COUNTIF(P1279:$P$2087,P1278)+COUNTIF('TD-2R-EC'!$P$11:$P$612,P1278))","v":""},""]
[null,null,null,null,null,null,null,"",null,"","","","","","","",{"$f":"IF(P1279=\"\",\"\",COUNTIF(P1280:$P$2087,P1279)+COUNTIF('TD-2R-EC'!$P$11:$P$612,P1279))","v":""},""]
[null,null,null,null,null,null,null,"",null,"","","","","","","",{"$f":"IF(P1280=\"\",\"\",COUNTIF(P1281:$P$2087,P1280)+COUNTIF('TD-2R-EC'!$P$11:$P$612,P1280))","v":""},""]
[null,null,null,null,null,null,null,"",null,"","","","","","","",{"$f":"IF(P1281=\"\",\"\",COUNTIF(P1282:$P$2087,P1281)+COUNTIF('TD-2R-EC'!$P$11:$P$612,P1281))","v":""},""]
[null,null,null,null,null,null,null,"",null,"","","","","","","",{"$f":"IF(P1282=\"\",\"\",COUNTIF(P1283:$P$2087,P1282)+COUNTIF('TD-2R-EC'!$P$11:$P$612,P1282))","v":""},""]
[null,null,null,null,null,null,null,"",null,"","","","","","","",{"$f":"IF(P1283=\"\",\"\",COUNTIF(P1284:$P$2087,P1283)+COUNTIF('TD-2R-EC'!$P$11:$P$612,P1283))","v":""},""]
[null,null,null,null,null,null,null,"",null,"","","","","","","",{"$f":"IF(P1284=\"\",\"\",COUNTIF(P1285:$P$2087,P1284)+COUNTIF('TD-2R-EC'!$P$11:$P$612,P1284))","v":""},""]
[null,null,null,null,null,null,null,"",null,"","","","","","","",{"$f":"IF(P1285=\"\",\"\",COUNTIF(P1286:$P$2087,P1285)+COUNTIF('TD-2R-EC'!$P$11:$P$612,P1285))","v":""},""]
[null,null,null,null,null,null,null,"",null,"","","","","","","",{"$f":"IF(P1286=\"\",\"\",COUNTIF(P1287:$P$2087,P1286)+COUNTIF('TD-2R-EC'!$P$11:$P$612,P1286))","v":""},""]
[null,null,null,null,null,null,null,"",null,"","","","","","","",{"$f":"IF(P1287=\"\",\"\",COUNTIF(P1288:$P$2087,P1287)+COUNTIF('TD-2R-EC'!$P$11:$P$612,P1287))","v":""},""]
[null,null,null,null,null,null,null,"",null,"","","","","","","",{"$f":"IF(P1288=\"\",\"\",COUNTIF(P1289:$P$2087,P1288)+COUNTIF('TD-2R-EC'!$P$11:$P$612,P1288))","v":""},""]
[null,null,null,null,null,null,null,"",null,"","","","","","","",{"$f":"IF(P1289=\"\",\"\",COUNTIF(P1290:$P$2087,P1289)+COUNTIF('TD-2R-EC'!$P$11:$P$612,P1289))","v":""},""]
[null,null,null,null,null,null,null,"",null,"","","","","","","",{"$f":"IF(P1290=\"\",\"\",COUNTIF(P1291:$P$2087,P1290)+COUNTIF('TD-2R-EC'!$P$11:$P$612,P1290))","v":""},""]
[null,null,null,null,null,null,null,"",null,"","","","","","","",{"$f":"IF(P1291=\"\",\"\",COUNTIF(P1292:$P$2087,P1291)+COUNTIF('TD-2R-EC'!$P$11:$P$612,P1291))","v":""},""]
[null,null,null,null,null,null,null,"",null,"","","","","","","",{"$f":"IF(P1292=\"\",\"\",COUNTIF(P1293:$P$2087,P1292)+COUNTIF('TD-2R-EC'!$P$11:$P$612,P1292))","v":""},""]
[null,null,null,null,null,null,null,"",null,"","","","","","","",{"$f":"IF(P1293=\"\",\"\",COUNTIF(P1294:$P$2087,P1293)+COUNTIF('TD-2R-EC'!$P$11:$P$612,P1293))","v":""},""]
[null,null,null,null,null,null,null,{"$f":"IF(ISBLANK(F1294),\"\",SUM(G1294*60)/F1294)","v":""},null,"","","","","","","",{"$f":"IF(P1294=\"\",\"\",COUNTIF(P1295:$P$2087,P1294)+COUNTIF('TD-2R-EC'!$P$11:$P$612,P1294))","v":""},""]
[null,null,null,null,null,null,null,"",null,{"$f":"IF(NOT(ISBLANK(G1295)),G1295*I1295,\"\")","v":""},"","","",{"$f":"IF(NOT(ISBLANK(G1295)),SUM(K1295:M1295),\"\")","v":""},{"$f":"IF(NOT(ISBLANK(I1295)),I1295*N1295,\"\")","v":""},"",{"$f":"IF(P1295=\"\",\"\",COUNTIF(P1296:$P$2087,P1295)+COUNTIF('TD-2R-EC'!$P$11:$P$612,P1295))","v":""},{"$f":"IF(Q1295>0,RIGHT(P1295,2),\"\")","v":""}]
[null,null,null,null,null,null,null,"",null,"","","","","","","",{"$f":"IF(P1296=\"\",\"\",COUNTIF(P1297:$P$2087,P1296)+COUNTIF('TD-2R-EC'!$P$11:$P$612,P1296))","v":""},""]
[null,null,null,null,null,null,null,"",null,"","","","","","","",{"$f":"IF(P1297=\"\",\"\",COUNTIF(P1298:$P$2087,P1297)+COUNTIF('TD-2R-EC'!$P$11:$P$612,P1297))","v":""},""]
[null,null,null,null,null,null,null,"",null,"","","","","","","",{"$f":"IF(P1298=\"\",\"\",COUNTIF(P1299:$P$2087,P1298)+COUNTIF('TD-2R-EC'!$P$11:$P$612,P1298))","v":""},""]
[null,null,null,null,null,null,null,"",null,"","","","","","","",{"$f":"IF(P1299=\"\",\"\",COUNTIF(P1300:$P$2087,P1299)+COUNTIF('TD-2R-EC'!$P$11:$P$612,P1299))","v":""},""]
[null,null,null,null,null,null,null,"",null,"","","","","","","",{"$f":"IF(P1300=\"\",\"\",COUNTIF(P1301:$P$2087,P1300)+COUNTIF('TD-2R-EC'!$P$11:$P$612,P1300))","v":""},""]
[null,null,null,null,null,null,null,"",null,"","","","","","","",{"$f":"IF(P1301=\"\",\"\",COUNTIF(P1302:$P$2087,P1301)+COUNTIF('TD-2R-EC'!$P$11:$P$612,P1301))","v":""},""]
[null,null,null,null,null,null,null,"",null,"","","","","","","",{"$f":"IF(P1302=\"\",\"\",COUNTIF(P1303:$P$2087,P1302)+COUNTIF('TD-2R-EC'!$P$11:$P$612,P1302))","v":""},""]
[null,null,null,null,null,null,null,"",null,"","","","","","","",{"$f":"IF(P1303=\"\",\"\",COUNTIF(P1304:$P$2087,P1303)+COUNTIF('TD-2R-EC'!$P$11:$P$612,P1303))","v":""},""]
[null,null,null,null,null,null,null,"",null,"","","","","","","",{"$f":"IF(P1304=\"\",\"\",COUNTIF(P1305:$P$2087,P1304)+COUNTIF('TD-2R-EC'!$P$11:$P$612,P1304))","v":""},""]
[null,null,null,null,null,null,null,"",null,"","","","","","","",{"$f":"IF(P1305=\"\",\"\",COUNTIF(P1306:$P$2087,P1305)+COUNTIF('TD-2R-EC'!$P$11:$P$612,P1305))","v":""},""]
[null,null,null,null,null,null,null,"",null,"","","","","","","",{"$f":"IF(P1306=\"\",\"\",COUNTIF(P1307:$P$2087,P1306)+COUNTIF('TD-2R-EC'!$P$11:$P$612,P1306))","v":""},""]
[null,null,null,null,null,null,null,"",null,"","","","","","","",{"$f":"IF(P1307=\"\",\"\",COUNTIF(P1308:$P$2087,P1307)+COUNTIF('TD-2R-EC'!$P$11:$P$612,P1307))","v":""},""]
[null,null,null,null,null,null,null,"",null,"","","","","","","",{"$f":"IF(P1308=\"\",\"\",COUNTIF(P1309:$P$2087,P1308)+COUNTIF('TD-2R-EC'!$P$11:$P$612,P1308))","v":""},""]
[null,null,null,null,null,null,null,"",null,"","","","","","","",{"$f":"IF(P1309=\"\",\"\",COUNTIF(P1310:$P$2087,P1309)+COUNTIF('TD-2R-EC'!$P$11:$P$612,P1309))","v":""},""]
[null,null,null,null,null,null,null,"",null,"","","","","","","",{"$f":"IF(P1310=\"\",\"\",COUNTIF(P1311:$P$2087,P1310)+COUNTIF('TD-2R-EC'!$P$11:$P$612,P1310))","v":""},""]
[null,null,null,null,null,null,null,"",null,"","","","","","","",{"$f":"IF(P1311=\"\",\"\",COUNTIF(P1312:$P$2087,P1311)+COUNTIF('TD-2R-EC'!$P$11:$P$612,P1311))","v":""},""]
[null,null,null,null,null,null,null,"",null,"","","","","","","",{"$f":"IF(P1312=\"\",\"\",COUNTIF(P1313:$P$2087,P1312)+COUNTIF('TD-2R-EC'!$P$11:$P$612,P1312))","v":""},""]
[null,null,null,null,null,null,null,"",null,"","","","","","","",{"$f":"IF(P1313=\"\",\"\",COUNTIF(P1314:$P$2087,P1313)+COUNTIF('TD-2R-EC'!$P$11:$P$612,P1313))","v":""},""]
[null,null,null,null,null,null,null,"",null,"","","","","","","",{"$f":"IF(P1314=\"\",\"\",COUNTIF(P1315:$P$2087,P1314)+COUNTIF('TD-2R-EC'!$P$11:$P$612,P1314))","v":""},""]
[null,null,null,null,null,null,null,"",null,"","","","","","","",{"$f":"IF(P1315=\"\",\"\",COUNTIF(P1316:$P$2087,P1315)+COUNTIF('TD-2R-EC'!$P$11:$P$612,P1315))","v":""},""]
[null,null,null,null,null,null,null,"",null,"","","","","","","",{"$f":"IF(P1316=\"\",\"\",COUNTIF(P1317:$P$2087,P1316)+COUNTIF('TD-2R-EC'!$P$11:$P$612,P1316))","v":""},""]
[null,null,null,null,null,null,null,"",null,"","","","","","","",{"$f":"IF(P1317=\"\",\"\",COUNTIF(P1318:$P$2087,P1317)+COUNTIF('TD-2R-EC'!$P$11:$P$612,P1317))","v":""},""]
[null,null,null,null,null,null,null,"",null,"","","","","","","",{"$f":"IF(P1318=\"\",\"\",COUNTIF(P1319:$P$2087,P1318)+COUNTIF('TD-2R-EC'!$P$11:$P$612,P1318))","v":""},""]
[null,null,null,null,null,null,null,"",null,"","","","","","","",{"$f":"IF(P1319=\"\",\"\",COUNTIF(P1320:$P$2087,P1319)+COUNTIF('TD-2R-EC'!$P$11:$P$612,P1319))","v":""},""]
[null,null,null,null,null,null,null,"",null,"","","","","","","",{"$f":"IF(P1320=\"\",\"\",COUNTIF(P1321:$P$2087,P1320)+COUNTIF('TD-2R-EC'!$P$11:$P$612,P1320))","v":""},""]
[null,null,null,null,null,null,null,"",null,"","","","","","","",{"$f":"IF(P1321=\"\",\"\",COUNTIF(P1322:$P$2087,P1321)+COUNTIF('TD-2R-EC'!$P$11:$P$612,P1321))","v":""},""]
[null,null,null,null,null,null,null,"",null,"","","","","","","",{"$f":"IF(P1322=\"\",\"\",COUNTIF(P1323:$P$2087,P1322)+COUNTIF('TD-2R-EC'!$P$11:$P$612,P1322))","v":""},""]
[null,null,null,null,null,null,null,"",null,"","","","","","","",{"$f":"IF(P1323=\"\",\"\",COUNTIF(P1324:$P$2087,P1323)+COUNTIF('TD-2R-EC'!$P$11:$P$612,P1323))","v":""},""]
[null,null,null,null,null,null,null,"",null,"","","","","","","",{"$f":"IF(P1324=\"\",\"\",COUNTIF(P1325:$P$2087,P1324)+COUNTIF('TD-2R-EC'!$P$11:$P$612,P1324))","v":""},""]
[null,null,null,null,null,null,null,"",null,"","","","","","","",{"$f":"IF(P1325=\"\",\"\",COUNTIF(P1326:$P$2087,P1325)+COUNTIF('TD-2R-EC'!$P$11:$P$612,P1325))","v":""},""]
[null,null,null,null,null,null,null,"",null,"","","","","","","",{"$f":"IF(P1326=\"\",\"\",COUNTIF(P1327:$P$2087,P1326)+COUNTIF('TD-2R-EC'!$P$11:$P$612,P1326))","v":""},""]
[null,null,null,null,null,null,null,"",null,"","","","","","","",{"$f":"IF(P1327=\"\",\"\",COUNTIF(P1328:$P$2087,P1327)+COUNTIF('TD-2R-EC'!$P$11:$P$612,P1327))","v":""},""]
[null,null,null,null,null,null,null,"",null,"","","","","","","",{"$f":"IF(P1328=\"\",\"\",COUNTIF(P1329:$P$2087,P1328)+COUNTIF('TD-2R-EC'!$P$11:$P$612,P1328))","v":""},""]
[null,null,null,null,null,null,null,"",null,"","","","","","","",{"$f":"IF(P1329=\"\",\"\",COUNTIF(P1330:$P$2087,P1329)+COUNTIF('TD-2R-EC'!$P$11:$P$612,P1329))","v":""},""]
[null,null,null,null,null,null,null,"",null,"","","","","","","",{"$f":"IF(P1330=\"\",\"\",COUNTIF(P1331:$P$2087,P1330)+COUNTIF('TD-2R-EC'!$P$11:$P$612,P1330))","v":""},""]
[null,null,null,null,null,null,null,"",null,"","","","","","","",{"$f":"IF(P1331=\"\",\"\",COUNTIF(P1332:$P$2087,P1331)+COUNTIF('TD-2R-EC'!$P$11:$P$612,P1331))","v":""},""]
[null,null,null,null,null,null,null,"",null,"","","","","","","",{"$f":"IF(P1332=\"\",\"\",COUNTIF(P1333:$P$2087,P1332)+COUNTIF('TD-2R-EC'!$P$11:$P$612,P1332))","v":""},""]
[null,null,null,null,null,null,null,"",null,"","","","","","","",{"$f":"IF(P1333=\"\",\"\",COUNTIF(P1334:$P$2087,P1333)+COUNTIF('TD-2R-EC'!$P$11:$P$612,P1333))","v":""},""]
[null,null,null,null,null,null,null,"",null,"","","","","","","",{"$f":"IF(P1334=\"\",\"\",COUNTIF(P1335:$P$2087,P1334)+COUNTIF('TD-2R-EC'!$P$11:$P$612,P1334))","v":""},""]
[null,null,null,null,null,null,null,"",null,"","","","","","","",{"$f":"IF(P1335=\"\",\"\",COUNTIF(P1336:$P$2087,P1335)+COUNTIF('TD-2R-EC'!$P$11:$P$612,P1335))","v":""},""]
[null,null,null,null,null,null,null,"",null,"","","","","","","",{"$f":"IF(P1336=\"\",\"\",COUNTIF(P1337:$P$2087,P1336)+COUNTIF('TD-2R-EC'!$P$11:$P$612,P1336))","v":""},""]
[null,null,null,null,null,null,null,"",null,"","","","","","","",{"$f":"IF(P1337=\"\",\"\",COUNTIF(P1338:$P$2087,P1337)+COUNTIF('TD-2R-EC'!$P$11:$P$612,P1337))","v":""},""]
[null,null,null,null,null,null,null,"",null,"","","","","","","",{"$f":"IF(P1338=\"\",\"\",COUNTIF(P1339:$P$2087,P1338)+COUNTIF('TD-2R-EC'!$P$11:$P$612,P1338))","v":""},""]
[null,null,null,null,null,null,null,"",null,"","","","","","","",{"$f":"IF(P1339=\"\",\"\",COUNTIF(P1340:$P$2087,P1339)+COUNTIF('TD-2R-EC'!$P$11:$P$612,P1339))","v":""},""]
[null,null,null,null,null,null,null,"",null,"","","","","","","",{"$f":"IF(P1340=\"\",\"\",COUNTIF(P1341:$P$2087,P1340)+COUNTIF('TD-2R-EC'!$P$11:$P$612,P1340))","v":""},""]
[null,null,null,null,null,null,null,"",null,"","","","","","",{"$f":"A1341&D1341&E1341","v":""},{"$f":"IF(P1341=\"\",\"\",COUNTIF(P1342:$P$2087,P1341)+COUNTIF('TD-2R-EC'!$P$11:$P$612,P1341))","v":""},""]
[null,null,null,null,null,null,null,"",null,"",{"$f":"IF(NOT(ISBLANK(G1342)),IF(A1342>0,10*G1342,\"\"),\"\")","v":""},{"$f":"IF(NOT(ISBLANK(G1342)),IF(A1342> 0,10*SUM(A1342*G1342),\"\"),\"\")","v":""},{"$f":"IF(NOT(ISBLANK(H1342)),IF(A1342> 0,G1342/2*10,\"\"),\"\")","v":""},"","","",{"$f":"IF(P1342=\"\",\"\",COUNTIF(P1343:$P$2087,P1342)+COUNTIF('TD-2R-EC'!$P$11:$P$612,P1342))","v":""},""]
[null,null,null,null,null,null,null,"",null,"","","","","","","",{"$f":"IF(P1343=\"\",\"\",COUNTIF(P1344:$P$2087,P1343)+COUNTIF('TD-2R-EC'!$P$11:$P$612,P1343))","v":""},""]
[null,null,null,null,null,null,null,"",null,"","","","","","","",{"$f":"IF(P1344=\"\",\"\",COUNTIF(P1345:$P$2087,P1344)+COUNTIF('TD-2R-EC'!$P$11:$P$612,P1344))","v":""},""]
[null,null,null,null,null,null,null,"",null,"","","","","","","",{"$f":"IF(P1345=\"\",\"\",COUNTIF(P1346:$P$2087,P1345)+COUNTIF('TD-2R-EC'!$P$11:$P$612,P1345))","v":""},""]
[null,null,null,null,null,null,null,"",null,"","","","","","","",{"$f":"IF(P1346=\"\",\"\",COUNTIF(P1347:$P$2087,P1346)+COUNTIF('TD-2R-EC'!$P$11:$P$612,P1346))","v":""},""]
[null,null,null,null,null,null,null,"",null,"","","","","","","",{"$f":"IF(P1347=\"\",\"\",COUNTIF(P1348:$P$2087,P1347)+COUNTIF('TD-2R-EC'!$P$11:$P$612,P1347))","v":""},""]
[null,null,null,null,null,null,null,"",null,"","","","","","","",{"$f":"IF(P1348=\"\",\"\",COUNTIF(P1349:$P$2087,P1348)+COUNTIF('TD-2R-EC'!$P$11:$P$612,P1348))","v":""},""]
[null,null,null,null,null,null,null,"",null,"","","","","","","",{"$f":"IF(P1349=\"\",\"\",COUNTIF(P1350:$P$2087,P1349)+COUNTIF('TD-2R-EC'!$P$11:$P$612,P1349))","v":""},""]
[null,null,null,null,null,null,null,"",null,"","","","","","","",{"$f":"IF(P1350=\"\",\"\",COUNTIF(P1351:$P$2087,P1350)+COUNTIF('TD-2R-EC'!$P$11:$P$612,P1350))","v":""},""]
[null,null,null,null,null,null,null,"",null,"","","","","","","",{"$f":"IF(P1351=\"\",\"\",COUNTIF(P1352:$P$2087,P1351)+COUNTIF('TD-2R-EC'!$P$11:$P$612,P1351))","v":""},""]
[null,null,null,null,null,null,null,"",null,"","","","","","","",{"$f":"IF(P1352=\"\",\"\",COUNTIF(P1353:$P$2087,P1352)+COUNTIF('TD-2R-EC'!$P$11:$P$612,P1352))","v":""},""]
[null,null,null,null,null,null,null,"",null,"","","","","","","",{"$f":"IF(P1353=\"\",\"\",COUNTIF(P1354:$P$2087,P1353)+COUNTIF('TD-2R-EC'!$P$11:$P$612,P1353))","v":""},""]
[null,null,null,null,null,null,null,"",null,"","","","","","","",{"$f":"IF(P1354=\"\",\"\",COUNTIF(P1355:$P$2087,P1354)+COUNTIF('TD-2R-EC'!$P$11:$P$612,P1354))","v":""},""]
[null,null,null,null,null,null,null,"",null,"","","","","","","",{"$f":"IF(P1355=\"\",\"\",COUNTIF(P1356:$P$2087,P1355)+COUNTIF('TD-2R-EC'!$P$11:$P$612,P1355))","v":""},""]
[null,null,null,null,null,null,null,"",null,"","","","","","","",{"$f":"IF(P1356=\"\",\"\",COUNTIF(P1357:$P$2087,P1356)+COUNTIF('TD-2R-EC'!$P$11:$P$612,P1356))","v":""},""]
[null,null,null,null,null,null,null,"",null,"","","","","","","",{"$f":"IF(P1357=\"\",\"\",COUNTIF(P1358:$P$2087,P1357)+COUNTIF('TD-2R-EC'!$P$11:$P$612,P1357))","v":""},""]
[null,null,null,null,null,null,null,{"$f":"IF(ISBLANK(F1358),\"\",SUM(G1358*60)/F1358)","v":""},null,"","","","","","","",{"$f":"IF(P1358=\"\",\"\",COUNTIF(P1359:$P$2087,P1358)+COUNTIF('TD-2R-EC'!$P$11:$P$612,P1358))","v":""},""]
[null,null,null,null,null,null,null,"",null,{"$f":"IF(NOT(ISBLANK(G1359)),G1359*I1359,\"\")","v":""},"","","",{"$f":"IF(NOT(ISBLANK(G1359)),SUM(K1359:M1359),\"\")","v":""},{"$f":"IF(NOT(ISBLANK(I1359)),I1359*N1359,\"\")","v":""},"",{"$f":"IF(P1359=\"\",\"\",COUNTIF(P1360:$P$2087,P1359)+COUNTIF('TD-2R-EC'!$P$11:$P$612,P1359))","v":""},{"$f":"IF(Q1359>0,RIGHT(P1359,2),\"\")","v":""}]
[null,null,null,null,null,null,null,"",null,"","","","","","","",{"$f":"IF(P1360=\"\",\"\",COUNTIF(P1361:$P$2087,P1360)+COUNTIF('TD-2R-EC'!$P$11:$P$612,P1360))","v":""},""]
[null,null,null,null,null,null,null,"",null,"","","","","","","",{"$f":"IF(P1361=\"\",\"\",COUNTIF(P1362:$P$2087,P1361)+COUNTIF('TD-2R-EC'!$P$11:$P$612,P1361))","v":""},""]
[null,null,null,null,null,null,null,"",null,"","","","","","","",{"$f":"IF(P1362=\"\",\"\",COUNTIF(P1363:$P$2087,P1362)+COUNTIF('TD-2R-EC'!$P$11:$P$612,P1362))","v":""},""]
[null,null,null,null,null,null,null,"",null,"","","","","","","",{"$f":"IF(P1363=\"\",\"\",COUNTIF(P1364:$P$2087,P1363)+COUNTIF('TD-2R-EC'!$P$11:$P$612,P1363))","v":""},""]
[null,null,null,null,null,null,null,"",null,"","","","","","","",{"$f":"IF(P1364=\"\",\"\",COUNTIF(P1365:$P$2087,P1364)+COUNTIF('TD-2R-EC'!$P$11:$P$612,P1364))","v":""},""]
[null,null,null,null,null,null,null,"",null,"","","","","","","",{"$f":"IF(P1365=\"\",\"\",COUNTIF(P1366:$P$2087,P1365)+COUNTIF('TD-2R-EC'!$P$11:$P$612,P1365))","v":""},""]
[null,null,null,null,null,null,null,"",null,"","","","","","","",{"$f":"IF(P1366=\"\",\"\",COUNTIF(P1367:$P$2087,P1366)+COUNTIF('TD-2R-EC'!$P$11:$P$612,P1366))","v":""},""]
[null,null,null,null,null,null,null,"",null,"","","","","","","",{"$f":"IF(P1367=\"\",\"\",COUNTIF(P1368:$P$2087,P1367)+COUNTIF('TD-2R-EC'!$P$11:$P$612,P1367))","v":""},""]
[null,null,null,null,null,null,null,"",null,"","","","","","","",{"$f":"IF(P1368=\"\",\"\",COUNTIF(P1369:$P$2087,P1368)+COUNTIF('TD-2R-EC'!$P$11:$P$612,P1368))","v":""},""]
[null,null,null,null,null,null,null,"",null,"","","","","","","",{"$f":"IF(P1369=\"\",\"\",COUNTIF(P1370:$P$2087,P1369)+COUNTIF('TD-2R-EC'!$P$11:$P$612,P1369))","v":""},""]
[null,null,null,null,null,null,null,"",null,"","","","","","","",{"$f":"IF(P1370=\"\",\"\",COUNTIF(P1371:$P$2087,P1370)+COUNTIF('TD-2R-EC'!$P$11:$P$612,P1370))","v":""},""]
[null,null,null,null,null,null,null,"",null,"","","","","","","",{"$f":"IF(P1371=\"\",\"\",COUNTIF(P1372:$P$2087,P1371)+COUNTIF('TD-2R-EC'!$P$11:$P$612,P1371))","v":""},""]
[null,null,null,null,null,null,null,"",null,"","","","","","","",{"$f":"IF(P1372=\"\",\"\",COUNTIF(P1373:$P$2087,P1372)+COUNTIF('TD-2R-EC'!$P$11:$P$612,P1372))","v":""},""]
[null,null,null,null,null,null,null,"",null,"","","","","","","",{"$f":"IF(P1373=\"\",\"\",COUNTIF(P1374:$P$2087,P1373)+COUNTIF('TD-2R-EC'!$P$11:$P$612,P1373))","v":""},""]
[null,null,null,null,null,null,null,"",null,"","","","","","","",{"$f":"IF(P1374=\"\",\"\",COUNTIF(P1375:$P$2087,P1374)+COUNTIF('TD-2R-EC'!$P$11:$P$612,P1374))","v":""},""]
[null,null,null,null,null,null,null,"",null,"","","","","","","",{"$f":"IF(P1375=\"\",\"\",COUNTIF(P1376:$P$2087,P1375)+COUNTIF('TD-2R-EC'!$P$11:$P$612,P1375))","v":""},""]
[null,null,null,null,null,null,null,"",null,"","","","","","","",{"$f":"IF(P1376=\"\",\"\",COUNTIF(P1377:$P$2087,P1376)+COUNTIF('TD-2R-EC'!$P$11:$P$612,P1376))","v":""},""]
[null,null,null,null,null,null,null,"",null,"","","","","","","",{"$f":"IF(P1377=\"\",\"\",COUNTIF(P1378:$P$2087,P1377)+COUNTIF('TD-2R-EC'!$P$11:$P$612,P1377))","v":""},""]
[null,null,null,null,null,null,null,"",null,"","","","","","","",{"$f":"IF(P1378=\"\",\"\",COUNTIF(P1379:$P$2087,P1378)+COUNTIF('TD-2R-EC'!$P$11:$P$612,P1378))","v":""},""]
[null,null,null,null,null,null,null,"",null,"","","","","","","",{"$f":"IF(P1379=\"\",\"\",COUNTIF(P1380:$P$2087,P1379)+COUNTIF('TD-2R-EC'!$P$11:$P$612,P1379))","v":""},""]
[null,null,null,null,null,null,null,"",null,"","","","","","","",{"$f":"IF(P1380=\"\",\"\",COUNTIF(P1381:$P$2087,P1380)+COUNTIF('TD-2R-EC'!$P$11:$P$612,P1380))","v":""},""]
[null,null,null,null,null,null,null,"",null,"","","","","","","",{"$f":"IF(P1381=\"\",\"\",COUNTIF(P1382:$P$2087,P1381)+COUNTIF('TD-2R-EC'!$P$11:$P$612,P1381))","v":""},""]
[null,null,null,null,null,null,null,"",null,"","","","","","","",{"$f":"IF(P1382=\"\",\"\",COUNTIF(P1383:$P$2087,P1382)+COUNTIF('TD-2R-EC'!$P$11:$P$612,P1382))","v":""},""]
[null,null,null,null,null,null,null,"",null,"","","","","","","",{"$f":"IF(P1383=\"\",\"\",COUNTIF(P1384:$P$2087,P1383)+COUNTIF('TD-2R-EC'!$P$11:$P$612,P1383))","v":""},""]
[null,null,null,null,null,null,null,"",null,"","","","","","","",{"$f":"IF(P1384=\"\",\"\",COUNTIF(P1385:$P$2087,P1384)+COUNTIF('TD-2R-EC'!$P$11:$P$612,P1384))","v":""},""]
[null,null,null,null,null,null,null,"",null,"","","","","","","",{"$f":"IF(P1385=\"\",\"\",COUNTIF(P1386:$P$2087,P1385)+COUNTIF('TD-2R-EC'!$P$11:$P$612,P1385))","v":""},""]
[null,null,null,null,null,null,null,"",null,"","","","","","","",{"$f":"IF(P1386=\"\",\"\",COUNTIF(P1387:$P$2087,P1386)+COUNTIF('TD-2R-EC'!$P$11:$P$612,P1386))","v":""},""]
[null,null,null,null,null,null,null,"",null,"","","","","","","",{"$f":"IF(P1387=\"\",\"\",COUNTIF(P1388:$P$2087,P1387)+COUNTIF('TD-2R-EC'!$P$11:$P$612,P1387))","v":""},""]
[null,null,null,null,null,null,null,"",null,"","","","","","","",{"$f":"IF(P1388=\"\",\"\",COUNTIF(P1389:$P$2087,P1388)+COUNTIF('TD-2R-EC'!$P$11:$P$612,P1388))","v":""},""]
[null,null,null,null,null,null,null,"",null,"","","","","","","",{"$f":"IF(P1389=\"\",\"\",COUNTIF(P1390:$P$2087,P1389)+COUNTIF('TD-2R-EC'!$P$11:$P$612,P1389))","v":""},""]
[null,null,null,null,null,null,null,"",null,"","","","","","","",{"$f":"IF(P1390=\"\",\"\",COUNTIF(P1391:$P$2087,P1390)+COUNTIF('TD-2R-EC'!$P$11:$P$612,P1390))","v":""},""]
[null,null,null,null,null,null,null,"",null,"","","","","","","",{"$f":"IF(P1391=\"\",\"\",COUNTIF(P1392:$P$2087,P1391)+COUNTIF('TD-2R-EC'!$P$11:$P$612,P1391))","v":""},""]
[null,null,null,null,null,null,null,"",null,"","","","","","","",{"$f":"IF(P1392=\"\",\"\",COUNTIF(P1393:$P$2087,P1392)+COUNTIF('TD-2R-EC'!$P$11:$P$612,P1392))","v":""},""]
[null,null,null,null,null,null,null,"",null,"","","","","","","",{"$f":"IF(P1393=\"\",\"\",COUNTIF(P1394:$P$2087,P1393)+COUNTIF('TD-2R-EC'!$P$11:$P$612,P1393))","v":""},""]
[null,null,null,null,null,null,null,"",null,"","","","","","","",{"$f":"IF(P1394=\"\",\"\",COUNTIF(P1395:$P$2087,P1394)+COUNTIF('TD-2R-EC'!$P$11:$P$612,P1394))","v":""},""]
[null,null,null,null,null,null,null,"",null,"","","","","","","",{"$f":"IF(P1395=\"\",\"\",COUNTIF(P1396:$P$2087,P1395)+COUNTIF('TD-2R-EC'!$P$11:$P$612,P1395))","v":""},""]
[null,null,null,null,null,null,null,"",null,"","","","","","","",{"$f":"IF(P1396=\"\",\"\",COUNTIF(P1397:$P$2087,P1396)+COUNTIF('TD-2R-EC'!$P$11:$P$612,P1396))","v":""},""]
[null,null,null,null,null,null,null,"",null,"","","","","","","",{"$f":"IF(P1397=\"\",\"\",COUNTIF(P1398:$P$2087,P1397)+COUNTIF('TD-2R-EC'!$P$11:$P$612,P1397))","v":""},""]
[null,null,null,null,null,null,null,"",null,"","","","","","","",{"$f":"IF(P1398=\"\",\"\",COUNTIF(P1399:$P$2087,P1398)+COUNTIF('TD-2R-EC'!$P$11:$P$612,P1398))","v":""},""]
[null,null,null,null,null,null,null,"",null,"","","","","","","",{"$f":"IF(P1399=\"\",\"\",COUNTIF(P1400:$P$2087,P1399)+COUNTIF('TD-2R-EC'!$P$11:$P$612,P1399))","v":""},""]
[null,null,null,null,null,null,null,"",null,"","","","","","","",{"$f":"IF(P1400=\"\",\"\",COUNTIF(P1401:$P$2087,P1400)+COUNTIF('TD-2R-EC'!$P$11:$P$612,P1400))","v":""},""]
[null,null,null,null,null,null,null,"",null,"","","","","","","",{"$f":"IF(P1401=\"\",\"\",COUNTIF(P1402:$P$2087,P1401)+COUNTIF('TD-2R-EC'!$P$11:$P$612,P1401))","v":""},""]
[null,null,null,null,null,null,null,"",null,"","","","","","","",{"$f":"IF(P1402=\"\",\"\",COUNTIF(P1403:$P$2087,P1402)+COUNTIF('TD-2R-EC'!$P$11:$P$612,P1402))","v":""},""]
[null,null,null,null,null,null,null,"",null,"","","","","","","",{"$f":"IF(P1403=\"\",\"\",COUNTIF(P1404:$P$2087,P1403)+COUNTIF('TD-2R-EC'!$P$11:$P$612,P1403))","v":""},""]
[null,null,null,null,null,null,null,"",null,"","","","","","","",{"$f":"IF(P1404=\"\",\"\",COUNTIF(P1405:$P$2087,P1404)+COUNTIF('TD-2R-EC'!$P$11:$P$612,P1404))","v":""},""]
[null,null,null,null,null,null,null,"",null,"","","","","","",{"$f":"A1405&D1405&E1405","v":""},{"$f":"IF(P1405=\"\",\"\",COUNTIF(P1406:$P$2087,P1405)+COUNTIF('TD-2R-EC'!$P$11:$P$612,P1405))","v":""},""]
[null,null,null,null,null,null,null,"",null,"",{"$f":"IF(NOT(ISBLANK(G1406)),IF(A1406>0,10*G1406,\"\"),\"\")","v":""},{"$f":"IF(NOT(ISBLANK(G1406)),IF(A1406> 0,10*SUM(A1406*G1406),\"\"),\"\")","v":""},{"$f":"IF(NOT(ISBLANK(H1406)),IF(A1406> 0,G1406/2*10,\"\"),\"\")","v":""},"","","",{"$f":"IF(P1406=\"\",\"\",COUNTIF(P1407:$P$2087,P1406)+COUNTIF('TD-2R-EC'!$P$11:$P$612,P1406))","v":""},""]
[null,null,null,null,null,null,null,"",null,"","","","","","","",{"$f":"IF(P1407=\"\",\"\",COUNTIF(P1408:$P$2087,P1407)+COUNTIF('TD-2R-EC'!$P$11:$P$612,P1407))","v":""},""]
[null,null,null,null,null,null,null,"",null,"","","","","","","",{"$f":"IF(P1408=\"\",\"\",COUNTIF(P1409:$P$2087,P1408)+COUNTIF('TD-2R-EC'!$P$11:$P$612,P1408))","v":""},""]
[null,null,null,null,null,null,null,"",null,"","","","","","","",{"$f":"IF(P1409=\"\",\"\",COUNTIF(P1410:$P$2087,P1409)+COUNTIF('TD-2R-EC'!$P$11:$P$612,P1409))","v":""},""]
[null,null,null,null,null,null,null,"",null,"","","","","","","",{"$f":"IF(P1410=\"\",\"\",COUNTIF(P1411:$P$2087,P1410)+COUNTIF('TD-2R-EC'!$P$11:$P$612,P1410))","v":""},""]
[null,null,null,null,null,null,null,"",null,"","","","","","","",{"$f":"IF(P1411=\"\",\"\",COUNTIF(P1412:$P$2087,P1411)+COUNTIF('TD-2R-EC'!$P$11:$P$612,P1411))","v":""},""]
[null,null,null,null,null,null,null,"",null,"","","","","","","",{"$f":"IF(P1412=\"\",\"\",COUNTIF(P1413:$P$2087,P1412)+COUNTIF('TD-2R-EC'!$P$11:$P$612,P1412))","v":""},""]
[null,null,null,null,null,null,null,"",null,"","","","","","","",{"$f":"IF(P1413=\"\",\"\",COUNTIF(P1414:$P$2087,P1413)+COUNTIF('TD-2R-EC'!$P$11:$P$612,P1413))","v":""},""]
[null,null,null,null,null,null,null,"",null,"","","","","","","",{"$f":"IF(P1414=\"\",\"\",COUNTIF(P1415:$P$2087,P1414)+COUNTIF('TD-2R-EC'!$P$11:$P$612,P1414))","v":""},""]
[null,null,null,null,null,null,null,"",null,"","","","","","","",{"$f":"IF(P1415=\"\",\"\",COUNTIF(P1416:$P$2087,P1415)+COUNTIF('TD-2R-EC'!$P$11:$P$612,P1415))","v":""},""]
[null,null,null,null,null,null,null,"",null,"","","","","","","",{"$f":"IF(P1416=\"\",\"\",COUNTIF(P1417:$P$2087,P1416)+COUNTIF('TD-2R-EC'!$P$11:$P$612,P1416))","v":""},""]
[null,null,null,null,null,null,null,"",null,"","","","","","","",{"$f":"IF(P1417=\"\",\"\",COUNTIF(P1418:$P$2087,P1417)+COUNTIF('TD-2R-EC'!$P$11:$P$612,P1417))","v":""},""]
[null,null,null,null,null,null,null,"",null,"","","","","","","",{"$f":"IF(P1418=\"\",\"\",COUNTIF(P1419:$P$2087,P1418)+COUNTIF('TD-2R-EC'!$P$11:$P$612,P1418))","v":""},""]
[null,null,null,null,null,null,null,"",null,"","","","","","","",{"$f":"IF(P1419=\"\",\"\",COUNTIF(P1420:$P$2087,P1419)+COUNTIF('TD-2R-EC'!$P$11:$P$612,P1419))","v":""},""]
[null,null,null,null,null,null,null,"",null,"","","","","","","",{"$f":"IF(P1420=\"\",\"\",COUNTIF(P1421:$P$2087,P1420)+COUNTIF('TD-2R-EC'!$P$11:$P$612,P1420))","v":""},""]
[null,null,null,null,null,null,null,"",null,"","","","","","","",{"$f":"IF(P1421=\"\",\"\",COUNTIF(P1422:$P$2087,P1421)+COUNTIF('TD-2R-EC'!$P$11:$P$612,P1421))","v":""},""]
[null,null,null,null,null,null,null,{"$f":"IF(ISBLANK(F1422),\"\",SUM(G1422*60)/F1422)","v":""},null,"","","","","","","",{"$f":"IF(P1422=\"\",\"\",COUNTIF(P1423:$P$2087,P1422)+COUNTIF('TD-2R-EC'!$P$11:$P$612,P1422))","v":""},""]
[null,null,null,null,null,null,null,"",null,{"$f":"IF(NOT(ISBLANK(G1423)),G1423*I1423,\"\")","v":""},"","","",{"$f":"IF(NOT(ISBLANK(G1423)),SUM(K1423:M1423),\"\")","v":""},{"$f":"IF(NOT(ISBLANK(I1423)),I1423*N1423,\"\")","v":""},"",{"$f":"IF(P1423=\"\",\"\",COUNTIF(P1424:$P$2087,P1423)+COUNTIF('TD-2R-EC'!$P$11:$P$612,P1423))","v":""},{"$f":"IF(Q1423>0,RIGHT(P1423,2),\"\")","v":""}]
[null,null,null,null,null,null,null,"",null,"","","","","","","",{"$f":"IF(P1424=\"\",\"\",COUNTIF(P1425:$P$2087,P1424)+COUNTIF('TD-2R-EC'!$P$11:$P$612,P1424))","v":""},""]
[null,null,null,null,null,null,null,"",null,"","","","","","","",{"$f":"IF(P1425=\"\",\"\",COUNTIF(P1426:$P$2087,P1425)+COUNTIF('TD-2R-EC'!$P$11:$P$612,P1425))","v":""},""]
[null,null,null,null,null,null,null,"",null,"","","","","","","",{"$f":"IF(P1426=\"\",\"\",COUNTIF(P1427:$P$2087,P1426)+COUNTIF('TD-2R-EC'!$P$11:$P$612,P1426))","v":""},""]
[null,null,null,null,null,null,null,"",null,"","","","","","","",{"$f":"IF(P1427=\"\",\"\",COUNTIF(P1428:$P$2087,P1427)+COUNTIF('TD-2R-EC'!$P$11:$P$612,P1427))","v":""},""]
[null,null,null,null,null,null,null,"",null,"","","","","","","",{"$f":"IF(P1428=\"\",\"\",COUNTIF(P1429:$P$2087,P1428)+COUNTIF('TD-2R-EC'!$P$11:$P$612,P1428))","v":""},""]
[null,null,null,null,null,null,null,"",null,"","","","","","","",{"$f":"IF(P1429=\"\",\"\",COUNTIF(P1430:$P$2087,P1429)+COUNTIF('TD-2R-EC'!$P$11:$P$612,P1429))","v":""},""]
[null,null,null,null,null,null,null,"",null,"","","","","","","",{"$f":"IF(P1430=\"\",\"\",COUNTIF(P1431:$P$2087,P1430)+COUNTIF('TD-2R-EC'!$P$11:$P$612,P1430))","v":""},""]
[null,null,null,null,null,null,null,"",null,"","","","","","","",{"$f":"IF(P1431=\"\",\"\",COUNTIF(P1432:$P$2087,P1431)+COUNTIF('TD-2R-EC'!$P$11:$P$612,P1431))","v":""},""]
[null,null,null,null,null,null,null,"",null,"","","","","","","",{"$f":"IF(P1432=\"\",\"\",COUNTIF(P1433:$P$2087,P1432)+COUNTIF('TD-2R-EC'!$P$11:$P$612,P1432))","v":""},""]
[null,null,null,null,null,null,null,"",null,"","","","","","","",{"$f":"IF(P1433=\"\",\"\",COUNTIF(P1434:$P$2087,P1433)+COUNTIF('TD-2R-EC'!$P$11:$P$612,P1433))","v":""},""]
[null,null,null,null,null,null,null,"",null,"","","","","","","",{"$f":"IF(P1434=\"\",\"\",COUNTIF(P1435:$P$2087,P1434)+COUNTIF('TD-2R-EC'!$P$11:$P$612,P1434))","v":""},""]
[null,null,null,null,null,null,null,"",null,"","","","","","","",{"$f":"IF(P1435=\"\",\"\",COUNTIF(P1436:$P$2087,P1435)+COUNTIF('TD-2R-EC'!$P$11:$P$612,P1435))","v":""},""]
[null,null,null,null,null,null,null,"",null,"","","","","","","",{"$f":"IF(P1436=\"\",\"\",COUNTIF(P1437:$P$2087,P1436)+COUNTIF('TD-2R-EC'!$P$11:$P$612,P1436))","v":""},""]
[null,null,null,null,null,null,null,"",null,"","","","","","","",{"$f":"IF(P1437=\"\",\"\",COUNTIF(P1438:$P$2087,P1437)+COUNTIF('TD-2R-EC'!$P$11:$P$612,P1437))","v":""},""]
[null,null,null,null,null,null,null,"",null,"","","","","","","",{"$f":"IF(P1438=\"\",\"\",COUNTIF(P1439:$P$2087,P1438)+COUNTIF('TD-2R-EC'!$P$11:$P$612,P1438))","v":""},""]
[null,null,null,null,null,null,null,"",null,"","","","","","","",{"$f":"IF(P1439=\"\",\"\",COUNTIF(P1440:$P$2087,P1439)+COUNTIF('TD-2R-EC'!$P$11:$P$612,P1439))","v":""},""]
[null,null,null,null,null,null,null,"",null,"","","","","","","",{"$f":"IF(P1440=\"\",\"\",COUNTIF(P1441:$P$2087,P1440)+COUNTIF('TD-2R-EC'!$P$11:$P$612,P1440))","v":""},""]
[null,null,null,null,null,null,null,"",null,"","","","","","","",{"$f":"IF(P1441=\"\",\"\",COUNTIF(P1442:$P$2087,P1441)+COUNTIF('TD-2R-EC'!$P$11:$P$612,P1441))","v":""},""]
[null,null,null,null,null,null,null,"",null,"","","","","","","",{"$f":"IF(P1442=\"\",\"\",COUNTIF(P1443:$P$2087,P1442)+COUNTIF('TD-2R-EC'!$P$11:$P$612,P1442))","v":""},""]
[null,null,null,null,null,null,null,"",null,"","","","","","","",{"$f":"IF(P1443=\"\",\"\",COUNTIF(P1444:$P$2087,P1443)+COUNTIF('TD-2R-EC'!$P$11:$P$612,P1443))","v":""},""]
[null,null,null,null,null,null,null,"",null,"","","","","","","",{"$f":"IF(P1444=\"\",\"\",COUNTIF(P1445:$P$2087,P1444)+COUNTIF('TD-2R-EC'!$P$11:$P$612,P1444))","v":""},""]
[null,null,null,null,null,null,null,"",null,"","","","","","","",{"$f":"IF(P1445=\"\",\"\",COUNTIF(P1446:$P$2087,P1445)+COUNTIF('TD-2R-EC'!$P$11:$P$612,P1445))","v":""},""]
[null,null,null,null,null,null,null,"",null,"","","","","","","",{"$f":"IF(P1446=\"\",\"\",COUNTIF(P1447:$P$2087,P1446)+COUNTIF('TD-2R-EC'!$P$11:$P$612,P1446))","v":""},""]
[null,null,null,null,null,null,null,"",null,"","","","","","","",{"$f":"IF(P1447=\"\",\"\",COUNTIF(P1448:$P$2087,P1447)+COUNTIF('TD-2R-EC'!$P$11:$P$612,P1447))","v":""},""]
[null,null,null,null,null,null,null,"",null,"","","","","","","",{"$f":"IF(P1448=\"\",\"\",COUNTIF(P1449:$P$2087,P1448)+COUNTIF('TD-2R-EC'!$P$11:$P$612,P1448))","v":""},""]
[null,null,null,null,null,null,null,"",null,"","","","","","","",{"$f":"IF(P1449=\"\",\"\",COUNTIF(P1450:$P$2087,P1449)+COUNTIF('TD-2R-EC'!$P$11:$P$612,P1449))","v":""},""]
[null,null,null,null,null,null,null,"",null,"","","","","","","",{"$f":"IF(P1450=\"\",\"\",COUNTIF(P1451:$P$2087,P1450)+COUNTIF('TD-2R-EC'!$P$11:$P$612,P1450))","v":""},""]
[null,null,null,null,null,null,null,"",null,"","","","","","","",{"$f":"IF(P1451=\"\",\"\",COUNTIF(P1452:$P$2087,P1451)+COUNTIF('TD-2R-EC'!$P$11:$P$612,P1451))","v":""},""]
[null,null,null,null,null,null,null,"",null,"","","","","","","",{"$f":"IF(P1452=\"\",\"\",COUNTIF(P1453:$P$2087,P1452)+COUNTIF('TD-2R-EC'!$P$11:$P$612,P1452))","v":""},""]
[null,null,null,null,null,null,null,"",null,"","","","","","","",{"$f":"IF(P1453=\"\",\"\",COUNTIF(P1454:$P$2087,P1453)+COUNTIF('TD-2R-EC'!$P$11:$P$612,P1453))","v":""},""]
[null,null,null,null,null,null,null,"",null,"","","","","","","",{"$f":"IF(P1454=\"\",\"\",COUNTIF(P1455:$P$2087,P1454)+COUNTIF('TD-2R-EC'!$P$11:$P$612,P1454))","v":""},""]
[null,null,null,null,null,null,null,"",null,"","","","","","","",{"$f":"IF(P1455=\"\",\"\",COUNTIF(P1456:$P$2087,P1455)+COUNTIF('TD-2R-EC'!$P$11:$P$612,P1455))","v":""},""]
[null,null,null,null,null,null,null,"",null,"","","","","","","",{"$f":"IF(P1456=\"\",\"\",COUNTIF(P1457:$P$2087,P1456)+COUNTIF('TD-2R-EC'!$P$11:$P$612,P1456))","v":""},""]
[null,null,null,null,null,null,null,"",null,"","","","","","","",{"$f":"IF(P1457=\"\",\"\",COUNTIF(P1458:$P$2087,P1457)+COUNTIF('TD-2R-EC'!$P$11:$P$612,P1457))","v":""},""]
[null,null,null,null,null,null,null,"",null,"","","","","","","",{"$f":"IF(P1458=\"\",\"\",COUNTIF(P1459:$P$2087,P1458)+COUNTIF('TD-2R-EC'!$P$11:$P$612,P1458))","v":""},""]
[null,null,null,null,null,null,null,"",null,"","","","","","","",{"$f":"IF(P1459=\"\",\"\",COUNTIF(P1460:$P$2087,P1459)+COUNTIF('TD-2R-EC'!$P$11:$P$612,P1459))","v":""},""]
[null,null,null,null,null,null,null,"",null,"","","","","","","",{"$f":"IF(P1460=\"\",\"\",COUNTIF(P1461:$P$2087,P1460)+COUNTIF('TD-2R-EC'!$P$11:$P$612,P1460))","v":""},""]
[null,null,null,null,null,null,null,"",null,"","","","","","","",{"$f":"IF(P1461=\"\",\"\",COUNTIF(P1462:$P$2087,P1461)+COUNTIF('TD-2R-EC'!$P$11:$P$612,P1461))","v":""},""]
[null,null,null,null,null,null,null,"",null,"","","","","","","",{"$f":"IF(P1462=\"\",\"\",COUNTIF(P1463:$P$2087,P1462)+COUNTIF('TD-2R-EC'!$P$11:$P$612,P1462))","v":""},""]
[null,null,null,null,null,null,null,"",null,"","","","","","","",{"$f":"IF(P1463=\"\",\"\",COUNTIF(P1464:$P$2087,P1463)+COUNTIF('TD-2R-EC'!$P$11:$P$612,P1463))","v":""},""]
[null,null,null,null,null,null,null,"",null,"","","","","","","",{"$f":"IF(P1464=\"\",\"\",COUNTIF(P1465:$P$2087,P1464)+COUNTIF('TD-2R-EC'!$P$11:$P$612,P1464))","v":""},""]
[null,null,null,null,null,null,null,"",null,"","","","","","","",{"$f":"IF(P1465=\"\",\"\",COUNTIF(P1466:$P$2087,P1465)+COUNTIF('TD-2R-EC'!$P$11:$P$612,P1465))","v":""},""]
[null,null,null,null,null,null,null,"",null,"","","","","","","",{"$f":"IF(P1466=\"\",\"\",COUNTIF(P1467:$P$2087,P1466)+COUNTIF('TD-2R-EC'!$P$11:$P$612,P1466))","v":""},""]
[null,null,null,null,null,null,null,"",null,"","","","","","","",{"$f":"IF(P1467=\"\",\"\",COUNTIF(P1468:$P$2087,P1467)+COUNTIF('TD-2R-EC'!$P$11:$P$612,P1467))","v":""},""]
[null,null,null,null,null,null,null,"",null,"","","","","","","",{"$f":"IF(P1468=\"\",\"\",COUNTIF(P1469:$P$2087,P1468)+COUNTIF('TD-2R-EC'!$P$11:$P$612,P1468))","v":""},""]
[null,null,null,null,null,null,null,"",null,"","","","","","",{"$f":"A1469&D1469&E1469","v":""},{"$f":"IF(P1469=\"\",\"\",COUNTIF(P1470:$P$2087,P1469)+COUNTIF('TD-2R-EC'!$P$11:$P$612,P1469))","v":""},""]
[null,null,null,null,null,null,null,"",null,"",{"$f":"IF(NOT(ISBLANK(G1470)),IF(A1470>0,10*G1470,\"\"),\"\")","v":""},{"$f":"IF(NOT(ISBLANK(G1470)),IF(A1470> 0,10*SUM(A1470*G1470),\"\"),\"\")","v":""},{"$f":"IF(NOT(ISBLANK(H1470)),IF(A1470> 0,G1470/2*10,\"\"),\"\")","v":""},"","","",{"$f":"IF(P1470=\"\",\"\",COUNTIF(P1471:$P$2087,P1470)+COUNTIF('TD-2R-EC'!$P$11:$P$612,P1470))","v":""},""]
[null,null,null,null,null,null,null,"",null,"","","","","","","",{"$f":"IF(P1471=\"\",\"\",COUNTIF(P1472:$P$2087,P1471)+COUNTIF('TD-2R-EC'!$P$11:$P$612,P1471))","v":""},""]
[null,null,null,null,null,null,null,"",null,"","","","","","","",{"$f":"IF(P1472=\"\",\"\",COUNTIF(P1473:$P$2087,P1472)+COUNTIF('TD-2R-EC'!$P$11:$P$612,P1472))","v":""},""]
[null,null,null,null,null,null,null,"",null,"","","","","","","",{"$f":"IF(P1473=\"\",\"\",COUNTIF(P1474:$P$2087,P1473)+COUNTIF('TD-2R-EC'!$P$11:$P$612,P1473))","v":""},""]
[null,null,null,null,null,null,null,"",null,"","","","","","","",{"$f":"IF(P1474=\"\",\"\",COUNTIF(P1475:$P$2087,P1474)+COUNTIF('TD-2R-EC'!$P$11:$P$612,P1474))","v":""},""]
[null,null,null,null,null,null,null,"",null,"","","","","","","",{"$f":"IF(P1475=\"\",\"\",COUNTIF(P1476:$P$2087,P1475)+COUNTIF('TD-2R-EC'!$P$11:$P$612,P1475))","v":""},""]
[null,null,null,null,null,null,null,"",null,"","","","","","","",{"$f":"IF(P1476=\"\",\"\",COUNTIF(P1477:$P$2087,P1476)+COUNTIF('TD-2R-EC'!$P$11:$P$612,P1476))","v":""},""]
[null,null,null,null,null,null,null,"",null,"","","","","","","",{"$f":"IF(P1477=\"\",\"\",COUNTIF(P1478:$P$2087,P1477)+COUNTIF('TD-2R-EC'!$P$11:$P$612,P1477))","v":""},""]
[null,null,null,null,null,null,null,"",null,"","","","","","","",{"$f":"IF(P1478=\"\",\"\",COUNTIF(P1479:$P$2087,P1478)+COUNTIF('TD-2R-EC'!$P$11:$P$612,P1478))","v":""},""]
[null,null,null,null,null,null,null,"",null,"","","","","","","",{"$f":"IF(P1479=\"\",\"\",COUNTIF(P1480:$P$2087,P1479)+COUNTIF('TD-2R-EC'!$P$11:$P$612,P1479))","v":""},""]
[null,null,null,null,null,null,null,"",null,"","","","","","","",{"$f":"IF(P1480=\"\",\"\",COUNTIF(P1481:$P$2087,P1480)+COUNTIF('TD-2R-EC'!$P$11:$P$612,P1480))","v":""},""]
[null,null,null,null,null,null,null,"",null,"","","","","","","",{"$f":"IF(P1481=\"\",\"\",COUNTIF(P1482:$P$2087,P1481)+COUNTIF('TD-2R-EC'!$P$11:$P$612,P1481))","v":""},""]
[null,null,null,null,null,null,null,"",null,"","","","","","","",{"$f":"IF(P1482=\"\",\"\",COUNTIF(P1483:$P$2087,P1482)+COUNTIF('TD-2R-EC'!$P$11:$P$612,P1482))","v":""},""]
[null,null,null,null,null,null,null,"",null,"","","","","","","",{"$f":"IF(P1483=\"\",\"\",COUNTIF(P1484:$P$2087,P1483)+COUNTIF('TD-2R-EC'!$P$11:$P$612,P1483))","v":""},""]
[null,null,null,null,null,null,null,"",null,"","","","","","","",{"$f":"IF(P1484=\"\",\"\",COUNTIF(P1485:$P$2087,P1484)+COUNTIF('TD-2R-EC'!$P$11:$P$612,P1484))","v":""},""]
[null,null,null,null,null,null,null,"",null,"","","","","","","",{"$f":"IF(P1485=\"\",\"\",COUNTIF(P1486:$P$2087,P1485)+COUNTIF('TD-2R-EC'!$P$11:$P$612,P1485))","v":""},""]
[null,null,null,null,null,null,null,{"$f":"IF(ISBLANK(F1486),\"\",SUM(G1486*60)/F1486)","v":""},null,"","","","","","","",{"$f":"IF(P1486=\"\",\"\",COUNTIF(P1487:$P$2087,P1486)+COUNTIF('TD-2R-EC'!$P$11:$P$612,P1486))","v":""},""]
[null,null,null,null,null,null,null,"",null,{"$f":"IF(NOT(ISBLANK(G1487)),G1487*I1487,\"\")","v":""},"","","",{"$f":"IF(NOT(ISBLANK(G1487)),SUM(K1487:M1487),\"\")","v":""},{"$f":"IF(NOT(ISBLANK(I1487)),I1487*N1487,\"\")","v":""},"",{"$f":"IF(P1487=\"\",\"\",COUNTIF(P1488:$P$2087,P1487)+COUNTIF('TD-2R-EC'!$P$11:$P$612,P1487))","v":""},{"$f":"IF(Q1487>0,RIGHT(P1487,2),\"\")","v":""}]
[null,null,null,null,null,null,null,"",null,"","","","","","","",{"$f":"IF(P1488=\"\",\"\",COUNTIF(P1489:$P$2087,P1488)+COUNTIF('TD-2R-EC'!$P$11:$P$612,P1488))","v":""},""]
[null,null,null,null,null,null,null,"",null,"","","","","","","",{"$f":"IF(P1489=\"\",\"\",COUNTIF(P1490:$P$2087,P1489)+COUNTIF('TD-2R-EC'!$P$11:$P$612,P1489))","v":""},""]
[null,null,null,null,null,null,null,"",null,"","","","","","","",{"$f":"IF(P1490=\"\",\"\",COUNTIF(P1491:$P$2087,P1490)+COUNTIF('TD-2R-EC'!$P$11:$P$612,P1490))","v":""},""]
[null,null,null,null,null,null,null,"",null,"","","","","","","",{"$f":"IF(P1491=\"\",\"\",COUNTIF(P1492:$P$2087,P1491)+COUNTIF('TD-2R-EC'!$P$11:$P$612,P1491))","v":""},""]
[null,null,null,null,null,null,null,"",null,"","","","","","","",{"$f":"IF(P1492=\"\",\"\",COUNTIF(P1493:$P$2087,P1492)+COUNTIF('TD-2R-EC'!$P$11:$P$612,P1492))","v":""},""]
[null,null,null,null,null,null,null,"",null,"","","","","","","",{"$f":"IF(P1493=\"\",\"\",COUNTIF(P1494:$P$2087,P1493)+COUNTIF('TD-2R-EC'!$P$11:$P$612,P1493))","v":""},""]
[null,null,null,null,null,null,null,"",null,"","","","","","","",{"$f":"IF(P1494=\"\",\"\",COUNTIF(P1495:$P$2087,P1494)+COUNTIF('TD-2R-EC'!$P$11:$P$612,P1494))","v":""},""]
[null,null,null,null,null,null,null,"",null,"","","","","","","",{"$f":"IF(P1495=\"\",\"\",COUNTIF(P1496:$P$2087,P1495)+COUNTIF('TD-2R-EC'!$P$11:$P$612,P1495))","v":""},""]
[null,null,null,null,null,null,null,"",null,"","","","","","","",{"$f":"IF(P1496=\"\",\"\",COUNTIF(P1497:$P$2087,P1496)+COUNTIF('TD-2R-EC'!$P$11:$P$612,P1496))","v":""},""]
[null,null,null,null,null,null,null,"",null,"","","","","","","",{"$f":"IF(P1497=\"\",\"\",COUNTIF(P1498:$P$2087,P1497)+COUNTIF('TD-2R-EC'!$P$11:$P$612,P1497))","v":""},""]
[null,null,null,null,null,null,null,"",null,"","","","","","","",{"$f":"IF(P1498=\"\",\"\",COUNTIF(P1499:$P$2087,P1498)+COUNTIF('TD-2R-EC'!$P$11:$P$612,P1498))","v":""},""]
[null,null,null,null,null,null,null,"",null,"","","","","","","",{"$f":"IF(P1499=\"\",\"\",COUNTIF(P1500:$P$2087,P1499)+COUNTIF('TD-2R-EC'!$P$11:$P$612,P1499))","v":""},""]
[null,null,null,null,null,null,null,"",null,"","","","","","","",{"$f":"IF(P1500=\"\",\"\",COUNTIF(P1501:$P$2087,P1500)+COUNTIF('TD-2R-EC'!$P$11:$P$612,P1500))","v":""},""]
[null,null,null,null,null,null,null,"",null,"","","","","","","",{"$f":"IF(P1501=\"\",\"\",COUNTIF(P1502:$P$2087,P1501)+COUNTIF('TD-2R-EC'!$P$11:$P$612,P1501))","v":""},""]
[null,null,null,null,null,null,null,"",null,"","","","","","","",{"$f":"IF(P1502=\"\",\"\",COUNTIF(P1503:$P$2087,P1502)+COUNTIF('TD-2R-EC'!$P$11:$P$612,P1502))","v":""},""]
[null,null,null,null,null,null,null,"",null,"","","","","","","",{"$f":"IF(P1503=\"\",\"\",COUNTIF(P1504:$P$2087,P1503)+COUNTIF('TD-2R-EC'!$P$11:$P$612,P1503))","v":""},""]
[null,null,null,null,null,null,null,"",null,"","","","","","","",{"$f":"IF(P1504=\"\",\"\",COUNTIF(P1505:$P$2087,P1504)+COUNTIF('TD-2R-EC'!$P$11:$P$612,P1504))","v":""},""]
[null,null,null,null,null,null,null,"",null,"","","","","","","",{"$f":"IF(P1505=\"\",\"\",COUNTIF(P1506:$P$2087,P1505)+COUNTIF('TD-2R-EC'!$P$11:$P$612,P1505))","v":""},""]
[null,null,null,null,null,null,null,"",null,"","","","","","","",{"$f":"IF(P1506=\"\",\"\",COUNTIF(P1507:$P$2087,P1506)+COUNTIF('TD-2R-EC'!$P$11:$P$612,P1506))","v":""},""]
[null,null,null,null,null,null,null,"",null,"","","","","","","",{"$f":"IF(P1507=\"\",\"\",COUNTIF(P1508:$P$2087,P1507)+COUNTIF('TD-2R-EC'!$P$11:$P$612,P1507))","v":""},""]
[null,null,null,null,null,null,null,"",null,"","","","","","","",{"$f":"IF(P1508=\"\",\"\",COUNTIF(P1509:$P$2087,P1508)+COUNTIF('TD-2R-EC'!$P$11:$P$612,P1508))","v":""},""]
[null,null,null,null,null,null,null,"",null,"","","","","","","",{"$f":"IF(P1509=\"\",\"\",COUNTIF(P1510:$P$2087,P1509)+COUNTIF('TD-2R-EC'!$P$11:$P$612,P1509))","v":""},""]
[null,null,null,null,null,null,null,"",null,"","","","","","","",{"$f":"IF(P1510=\"\",\"\",COUNTIF(P1511:$P$2087,P1510)+COUNTIF('TD-2R-EC'!$P$11:$P$612,P1510))","v":""},""]
[null,null,null,null,null,null,null,"",null,"","","","","","","",{"$f":"IF(P1511=\"\",\"\",COUNTIF(P1512:$P$2087,P1511)+COUNTIF('TD-2R-EC'!$P$11:$P$612,P1511))","v":""},""]
[null,null,null,null,null,null,null,"",null,"","","","","","","",{"$f":"IF(P1512=\"\",\"\",COUNTIF(P1513:$P$2087,P1512)+COUNTIF('TD-2R-EC'!$P$11:$P$612,P1512))","v":""},""]
[null,null,null,null,null,null,null,"",null,"","","","","","","",{"$f":"IF(P1513=\"\",\"\",COUNTIF(P1514:$P$2087,P1513)+COUNTIF('TD-2R-EC'!$P$11:$P$612,P1513))","v":""},""]
[null,null,null,null,null,null,null,"",null,"","","","","","","",{"$f":"IF(P1514=\"\",\"\",COUNTIF(P1515:$P$2087,P1514)+COUNTIF('TD-2R-EC'!$P$11:$P$612,P1514))","v":""},""]
[null,null,null,null,null,null,null,"",null,"","","","","","","",{"$f":"IF(P1515=\"\",\"\",COUNTIF(P1516:$P$2087,P1515)+COUNTIF('TD-2R-EC'!$P$11:$P$612,P1515))","v":""},""]
[null,null,null,null,null,null,null,"",null,"","","","","","","",{"$f":"IF(P1516=\"\",\"\",COUNTIF(P1517:$P$2087,P1516)+COUNTIF('TD-2R-EC'!$P$11:$P$612,P1516))","v":""},""]
[null,null,null,null,null,null,null,"",null,"","","","","","","",{"$f":"IF(P1517=\"\",\"\",COUNTIF(P1518:$P$2087,P1517)+COUNTIF('TD-2R-EC'!$P$11:$P$612,P1517))","v":""},""]
[null,null,null,null,null,null,null,"",null,"","","","","","","",{"$f":"IF(P1518=\"\",\"\",COUNTIF(P1519:$P$2087,P1518)+COUNTIF('TD-2R-EC'!$P$11:$P$612,P1518))","v":""},""]
[null,null,null,null,null,null,null,"",null,"","","","","","","",{"$f":"IF(P1519=\"\",\"\",COUNTIF(P1520:$P$2087,P1519)+COUNTIF('TD-2R-EC'!$P$11:$P$612,P1519))","v":""},""]
[null,null,null,null,null,null,null,"",null,"","","","","","","",{"$f":"IF(P1520=\"\",\"\",COUNTIF(P1521:$P$2087,P1520)+COUNTIF('TD-2R-EC'!$P$11:$P$612,P1520))","v":""},""]
[null,null,null,null,null,null,null,"",null,"","","","","","","",{"$f":"IF(P1521=\"\",\"\",COUNTIF(P1522:$P$2087,P1521)+COUNTIF('TD-2R-EC'!$P$11:$P$612,P1521))","v":""},""]
[null,null,null,null,null,null,null,"",null,"","","","","","","",{"$f":"IF(P1522=\"\",\"\",COUNTIF(P1523:$P$2087,P1522)+COUNTIF('TD-2R-EC'!$P$11:$P$612,P1522))","v":""},""]
[null,null,null,null,null,null,null,"",null,"","","","","","","",{"$f":"IF(P1523=\"\",\"\",COUNTIF(P1524:$P$2087,P1523)+COUNTIF('TD-2R-EC'!$P$11:$P$612,P1523))","v":""},""]
[null,null,null,null,null,null,null,"",null,"","","","","","","",{"$f":"IF(P1524=\"\",\"\",COUNTIF(P1525:$P$2087,P1524)+COUNTIF('TD-2R-EC'!$P$11:$P$612,P1524))","v":""},""]
[null,null,null,null,null,null,null,"",null,"","","","","","","",{"$f":"IF(P1525=\"\",\"\",COUNTIF(P1526:$P$2087,P1525)+COUNTIF('TD-2R-EC'!$P$11:$P$612,P1525))","v":""},""]
[null,null,null,null,null,null,null,"",null,"","","","","","","",{"$f":"IF(P1526=\"\",\"\",COUNTIF(P1527:$P$2087,P1526)+COUNTIF('TD-2R-EC'!$P$11:$P$612,P1526))","v":""},""]
[null,null,null,null,null,null,null,"",null,"","","","","","","",{"$f":"IF(P1527=\"\",\"\",COUNTIF(P1528:$P$2087,P1527)+COUNTIF('TD-2R-EC'!$P$11:$P$612,P1527))","v":""},""]
[null,null,null,null,null,null,null,"",null,"","","","","","","",{"$f":"IF(P1528=\"\",\"\",COUNTIF(P1529:$P$2087,P1528)+COUNTIF('TD-2R-EC'!$P$11:$P$612,P1528))","v":""},""]
[null,null,null,null,null,null,null,"",null,"","","","","","","",{"$f":"IF(P1529=\"\",\"\",COUNTIF(P1530:$P$2087,P1529)+COUNTIF('TD-2R-EC'!$P$11:$P$612,P1529))","v":""},""]
[null,null,null,null,null,null,null,"",null,"","","","","","","",{"$f":"IF(P1530=\"\",\"\",COUNTIF(P1531:$P$2087,P1530)+COUNTIF('TD-2R-EC'!$P$11:$P$612,P1530))","v":""},""]
[null,null,null,null,null,null,null,"",null,"","","","","","","",{"$f":"IF(P1531=\"\",\"\",COUNTIF(P1532:$P$2087,P1531)+COUNTIF('TD-2R-EC'!$P$11:$P$612,P1531))","v":""},""]
[null,null,null,null,null,null,null,"",null,"","","","","","","",{"$f":"IF(P1532=\"\",\"\",COUNTIF(P1533:$P$2087,P1532)+COUNTIF('TD-2R-EC'!$P$11:$P$612,P1532))","v":""},""]
[null,null,null,null,null,null,null,"",null,"","","","","","",{"$f":"A1533&D1533&E1533","v":""},{"$f":"IF(P1533=\"\",\"\",COUNTIF(P1534:$P$2087,P1533)+COUNTIF('TD-2R-EC'!$P$11:$P$612,P1533))","v":""},""]
[null,null,null,null,null,null,null,"",null,"",{"$f":"IF(NOT(ISBLANK(G1534)),IF(A1534>0,10*G1534,\"\"),\"\")","v":""},{"$f":"IF(NOT(ISBLANK(G1534)),IF(A1534> 0,10*SUM(A1534*G1534),\"\"),\"\")","v":""},{"$f":"IF(NOT(ISBLANK(H1534)),IF(A1534> 0,G1534/2*10,\"\"),\"\")","v":""},"","","",{"$f":"IF(P1534=\"\",\"\",COUNTIF(P1535:$P$2087,P1534)+COUNTIF('TD-2R-EC'!$P$11:$P$612,P1534))","v":""},""]
[null,null,null,null,null,null,null,"",null,"","","","","","","",{"$f":"IF(P1535=\"\",\"\",COUNTIF(P1536:$P$2087,P1535)+COUNTIF('TD-2R-EC'!$P$11:$P$612,P1535))","v":""},""]
[null,null,null,null,null,null,null,"",null,"","","","","","","",{"$f":"IF(P1536=\"\",\"\",COUNTIF(P1537:$P$2087,P1536)+COUNTIF('TD-2R-EC'!$P$11:$P$612,P1536))","v":""},""]
[null,null,null,null,null,null,null,"",null,"","","","","","","",{"$f":"IF(P1537=\"\",\"\",COUNTIF(P1538:$P$2087,P1537)+COUNTIF('TD-2R-EC'!$P$11:$P$612,P1537))","v":""},""]
[null,null,null,null,null,null,null,"",null,"","","","","","","",{"$f":"IF(P1538=\"\",\"\",COUNTIF(P1539:$P$2087,P1538)+COUNTIF('TD-2R-EC'!$P$11:$P$612,P1538))","v":""},""]
[null,null,null,null,null,null,null,"",null,"","","","","","","",{"$f":"IF(P1539=\"\",\"\",COUNTIF(P1540:$P$2087,P1539)+COUNTIF('TD-2R-EC'!$P$11:$P$612,P1539))","v":""},""]
[null,null,null,null,null,null,null,"",null,"","","","","","","",{"$f":"IF(P1540=\"\",\"\",COUNTIF(P1541:$P$2087,P1540)+COUNTIF('TD-2R-EC'!$P$11:$P$612,P1540))","v":""},""]
[null,null,null,null,null,null,null,"",null,"","","","","","","",{"$f":"IF(P1541=\"\",\"\",COUNTIF(P1542:$P$2087,P1541)+COUNTIF('TD-2R-EC'!$P$11:$P$612,P1541))","v":""},""]
[null,null,null,null,null,null,null,"",null,"","","","","","","",{"$f":"IF(P1542=\"\",\"\",COUNTIF(P1543:$P$2087,P1542)+COUNTIF('TD-2R-EC'!$P$11:$P$612,P1542))","v":""},""]
[null,null,null,null,null,null,null,"",null,"","","","","","","",{"$f":"IF(P1543=\"\",\"\",COUNTIF(P1544:$P$2087,P1543)+COUNTIF('TD-2R-EC'!$P$11:$P$612,P1543))","v":""},""]
[null,null,null,null,null,null,null,"",null,"","","","","","","",{"$f":"IF(P1544=\"\",\"\",COUNTIF(P1545:$P$2087,P1544)+COUNTIF('TD-2R-EC'!$P$11:$P$612,P1544))","v":""},""]
[null,null,null,null,null,null,null,"",null,"","","","","","","",{"$f":"IF(P1545=\"\",\"\",COUNTIF(P1546:$P$2087,P1545)+COUNTIF('TD-2R-EC'!$P$11:$P$612,P1545))","v":""},""]
[null,null,null,null,null,null,null,"",null,"","","","","","","",{"$f":"IF(P1546=\"\",\"\",COUNTIF(P1547:$P$2087,P1546)+COUNTIF('TD-2R-EC'!$P$11:$P$612,P1546))","v":""},""]
[null,null,null,null,null,null,null,"",null,"","","","","","","",{"$f":"IF(P1547=\"\",\"\",COUNTIF(P1548:$P$2087,P1547)+COUNTIF('TD-2R-EC'!$P$11:$P$612,P1547))","v":""},""]
[null,null,null,null,null,null,null,"",null,"","","","","","","",{"$f":"IF(P1548=\"\",\"\",COUNTIF(P1549:$P$2087,P1548)+COUNTIF('TD-2R-EC'!$P$11:$P$612,P1548))","v":""},""]
[null,null,null,null,null,null,null,"",null,"","","","","","","",{"$f":"IF(P1549=\"\",\"\",COUNTIF(P1550:$P$2087,P1549)+COUNTIF('TD-2R-EC'!$P$11:$P$612,P1549))","v":""},""]
[null,null,null,null,null,null,null,{"$f":"IF(ISBLANK(F1550),\"\",SUM(G1550*60)/F1550)","v":""},null,"","","","","","","",{"$f":"IF(P1550=\"\",\"\",COUNTIF(P1551:$P$2087,P1550)+COUNTIF('TD-2R-EC'!$P$11:$P$612,P1550))","v":""},""]
[null,null,null,null,null,null,null,"",null,{"$f":"IF(NOT(ISBLANK(G1551)),G1551*I1551,\"\")","v":""},"","","",{"$f":"IF(NOT(ISBLANK(G1551)),SUM(K1551:M1551),\"\")","v":""},{"$f":"IF(NOT(ISBLANK(I1551)),I1551*N1551,\"\")","v":""},"",{"$f":"IF(P1551=\"\",\"\",COUNTIF(P1552:$P$2087,P1551)+COUNTIF('TD-2R-EC'!$P$11:$P$612,P1551))","v":""},{"$f":"IF(Q1551>0,RIGHT(P1551,2),\"\")","v":""}]
[null,null,null,null,null,null,null,"",null,"","","","","","","",{"$f":"IF(P1552=\"\",\"\",COUNTIF(P1553:$P$2087,P1552)+COUNTIF('TD-2R-EC'!$P$11:$P$612,P1552))","v":""},""]
[null,null,null,null,null,null,null,"",null,"","","","","","","",{"$f":"IF(P1553=\"\",\"\",COUNTIF(P1554:$P$2087,P1553)+COUNTIF('TD-2R-EC'!$P$11:$P$612,P1553))","v":""},""]
[null,null,null,null,null,null,null,"",null,"","","","","","","",{"$f":"IF(P1554=\"\",\"\",COUNTIF(P1555:$P$2087,P1554)+COUNTIF('TD-2R-EC'!$P$11:$P$612,P1554))","v":""},""]
[null,null,null,null,null,null,null,"",null,"","","","","","","",{"$f":"IF(P1555=\"\",\"\",COUNTIF(P1556:$P$2087,P1555)+COUNTIF('TD-2R-EC'!$P$11:$P$612,P1555))","v":""},""]
[null,null,null,null,null,null,null,"",null,"","","","","","","",{"$f":"IF(P1556=\"\",\"\",COUNTIF(P1557:$P$2087,P1556)+COUNTIF('TD-2R-EC'!$P$11:$P$612,P1556))","v":""},""]
[null,null,null,null,null,null,null,"",null,"","","","","","","",{"$f":"IF(P1557=\"\",\"\",COUNTIF(P1558:$P$2087,P1557)+COUNTIF('TD-2R-EC'!$P$11:$P$612,P1557))","v":""},""]
[null,null,null,null,null,null,null,"",null,"","","","","","","",{"$f":"IF(P1558=\"\",\"\",COUNTIF(P1559:$P$2087,P1558)+COUNTIF('TD-2R-EC'!$P$11:$P$612,P1558))","v":""},""]
[null,null,null,null,null,null,null,"",null,"","","","","","","",{"$f":"IF(P1559=\"\",\"\",COUNTIF(P1560:$P$2087,P1559)+COUNTIF('TD-2R-EC'!$P$11:$P$612,P1559))","v":""},""]
[null,null,null,null,null,null,null,"",null,"","","","","","","",{"$f":"IF(P1560=\"\",\"\",COUNTIF(P1561:$P$2087,P1560)+COUNTIF('TD-2R-EC'!$P$11:$P$612,P1560))","v":""},""]
[null,null,null,null,null,null,null,"",null,"","","","","","","",{"$f":"IF(P1561=\"\",\"\",COUNTIF(P1562:$P$2087,P1561)+COUNTIF('TD-2R-EC'!$P$11:$P$612,P1561))","v":""},""]
[null,null,null,null,null,null,null,"",null,"","","","","","","",{"$f":"IF(P1562=\"\",\"\",COUNTIF(P1563:$P$2087,P1562)+COUNTIF('TD-2R-EC'!$P$11:$P$612,P1562))","v":""},""]
[null,null,null,null,null,null,null,"",null,"","","","","","","",{"$f":"IF(P1563=\"\",\"\",COUNTIF(P1564:$P$2087,P1563)+COUNTIF('TD-2R-EC'!$P$11:$P$612,P1563))","v":""},""]
[null,null,null,null,null,null,null,"",null,"","","","","","","",{"$f":"IF(P1564=\"\",\"\",COUNTIF(P1565:$P$2087,P1564)+COUNTIF('TD-2R-EC'!$P$11:$P$612,P1564))","v":""},""]
[null,null,null,null,null,null,null,"",null,"","","","","","","",{"$f":"IF(P1565=\"\",\"\",COUNTIF(P1566:$P$2087,P1565)+COUNTIF('TD-2R-EC'!$P$11:$P$612,P1565))","v":""},""]
[null,null,null,null,null,null,null,"",null,"","","","","","","",{"$f":"IF(P1566=\"\",\"\",COUNTIF(P1567:$P$2087,P1566)+COUNTIF('TD-2R-EC'!$P$11:$P$612,P1566))","v":""},""]
[null,null,null,null,null,null,null,"",null,"","","","","","","",{"$f":"IF(P1567=\"\",\"\",COUNTIF(P1568:$P$2087,P1567)+COUNTIF('TD-2R-EC'!$P$11:$P$612,P1567))","v":""},""]
[null,null,null,null,null,null,null,"",null,"","","","","","","",{"$f":"IF(P1568=\"\",\"\",COUNTIF(P1569:$P$2087,P1568)+COUNTIF('TD-2R-EC'!$P$11:$P$612,P1568))","v":""},""]
[null,null,null,null,null,null,null,"",null,"","","","","","","",{"$f":"IF(P1569=\"\",\"\",COUNTIF(P1570:$P$2087,P1569)+COUNTIF('TD-2R-EC'!$P$11:$P$612,P1569))","v":""},""]
[null,null,null,null,null,null,null,"",null,"","","","","","","",{"$f":"IF(P1570=\"\",\"\",COUNTIF(P1571:$P$2087,P1570)+COUNTIF('TD-2R-EC'!$P$11:$P$612,P1570))","v":""},""]
[null,null,null,null,null,null,null,"",null,"","","","","","","",{"$f":"IF(P1571=\"\",\"\",COUNTIF(P1572:$P$2087,P1571)+COUNTIF('TD-2R-EC'!$P$11:$P$612,P1571))","v":""},""]
[null,null,null,null,null,null,null,"",null,"","","","","","","",{"$f":"IF(P1572=\"\",\"\",COUNTIF(P1573:$P$2087,P1572)+COUNTIF('TD-2R-EC'!$P$11:$P$612,P1572))","v":""},""]
[null,null,null,null,null,null,null,"",null,"","","","","","","",{"$f":"IF(P1573=\"\",\"\",COUNTIF(P1574:$P$2087,P1573)+COUNTIF('TD-2R-EC'!$P$11:$P$612,P1573))","v":""},""]
[null,null,null,null,null,null,null,"",null,"","","","","","","",{"$f":"IF(P1574=\"\",\"\",COUNTIF(P1575:$P$2087,P1574)+COUNTIF('TD-2R-EC'!$P$11:$P$612,P1574))","v":""},""]
[null,null,null,null,null,null,null,"",null,"","","","","","","",{"$f":"IF(P1575=\"\",\"\",COUNTIF(P1576:$P$2087,P1575)+COUNTIF('TD-2R-EC'!$P$11:$P$612,P1575))","v":""},""]
[null,null,null,null,null,null,null,"",null,"","","","","","","",{"$f":"IF(P1576=\"\",\"\",COUNTIF(P1577:$P$2087,P1576)+COUNTIF('TD-2R-EC'!$P$11:$P$612,P1576))","v":""},""]
[null,null,null,null,null,null,null,"",null,"","","","","","","",{"$f":"IF(P1577=\"\",\"\",COUNTIF(P1578:$P$2087,P1577)+COUNTIF('TD-2R-EC'!$P$11:$P$612,P1577))","v":""},""]
[null,null,null,null,null,null,null,"",null,"","","","","","","",{"$f":"IF(P1578=\"\",\"\",COUNTIF(P1579:$P$2087,P1578)+COUNTIF('TD-2R-EC'!$P$11:$P$612,P1578))","v":""},""]
[null,null,null,null,null,null,null,"",null,"","","","","","","",{"$f":"IF(P1579=\"\",\"\",COUNTIF(P1580:$P$2087,P1579)+COUNTIF('TD-2R-EC'!$P$11:$P$612,P1579))","v":""},""]
[null,null,null,null,null,null,null,"",null,"","","","","","","",{"$f":"IF(P1580=\"\",\"\",COUNTIF(P1581:$P$2087,P1580)+COUNTIF('TD-2R-EC'!$P$11:$P$612,P1580))","v":""},""]
[null,null,null,null,null,null,null,"",null,"","","","","","","",{"$f":"IF(P1581=\"\",\"\",COUNTIF(P1582:$P$2087,P1581)+COUNTIF('TD-2R-EC'!$P$11:$P$612,P1581))","v":""},""]
[null,null,null,null,null,null,null,"",null,"","","","","","","",{"$f":"IF(P1582=\"\",\"\",COUNTIF(P1583:$P$2087,P1582)+COUNTIF('TD-2R-EC'!$P$11:$P$612,P1582))","v":""},""]
[null,null,null,null,null,null,null,"",null,"","","","","","","",{"$f":"IF(P1583=\"\",\"\",COUNTIF(P1584:$P$2087,P1583)+COUNTIF('TD-2R-EC'!$P$11:$P$612,P1583))","v":""},""]
[null,null,null,null,null,null,null,"",null,"","","","","","","",{"$f":"IF(P1584=\"\",\"\",COUNTIF(P1585:$P$2087,P1584)+COUNTIF('TD-2R-EC'!$P$11:$P$612,P1584))","v":""},""]
[null,null,null,null,null,null,null,"",null,"","","","","","","",{"$f":"IF(P1585=\"\",\"\",COUNTIF(P1586:$P$2087,P1585)+COUNTIF('TD-2R-EC'!$P$11:$P$612,P1585))","v":""},""]
[null,null,null,null,null,null,null,"",null,"","","","","","","",{"$f":"IF(P1586=\"\",\"\",COUNTIF(P1587:$P$2087,P1586)+COUNTIF('TD-2R-EC'!$P$11:$P$612,P1586))","v":""},""]
[null,null,null,null,null,null,null,"",null,"","","","","","","",{"$f":"IF(P1587=\"\",\"\",COUNTIF(P1588:$P$2087,P1587)+COUNTIF('TD-2R-EC'!$P$11:$P$612,P1587))","v":""},""]
[null,null,null,null,null,null,null,"",null,"","","","","","","",{"$f":"IF(P1588=\"\",\"\",COUNTIF(P1589:$P$2087,P1588)+COUNTIF('TD-2R-EC'!$P$11:$P$612,P1588))","v":""},""]
[null,null,null,null,null,null,null,"",null,"","","","","","","",{"$f":"IF(P1589=\"\",\"\",COUNTIF(P1590:$P$2087,P1589)+COUNTIF('TD-2R-EC'!$P$11:$P$612,P1589))","v":""},""]
[null,null,null,null,null,null,null,"",null,"","","","","","","",{"$f":"IF(P1590=\"\",\"\",COUNTIF(P1591:$P$2087,P1590)+COUNTIF('TD-2R-EC'!$P$11:$P$612,P1590))","v":""},""]
[null,null,null,null,null,null,null,"",null,"","","","","","","",{"$f":"IF(P1591=\"\",\"\",COUNTIF(P1592:$P$2087,P1591)+COUNTIF('TD-2R-EC'!$P$11:$P$612,P1591))","v":""},""]
[null,null,null,null,null,null,null,"",null,"","","","","","","",{"$f":"IF(P1592=\"\",\"\",COUNTIF(P1593:$P$2087,P1592)+COUNTIF('TD-2R-EC'!$P$11:$P$612,P1592))","v":""},""]
[null,null,null,null,null,null,null,"",null,"","","","","","","",{"$f":"IF(P1593=\"\",\"\",COUNTIF(P1594:$P$2087,P1593)+COUNTIF('TD-2R-EC'!$P$11:$P$612,P1593))","v":""},""]
[null,null,null,null,null,null,null,"",null,"","","","","","","",{"$f":"IF(P1594=\"\",\"\",COUNTIF(P1595:$P$2087,P1594)+COUNTIF('TD-2R-EC'!$P$11:$P$612,P1594))","v":""},""]
[null,null,null,null,null,null,null,"",null,"","","","","","","",{"$f":"IF(P1595=\"\",\"\",COUNTIF(P1596:$P$2087,P1595)+COUNTIF('TD-2R-EC'!$P$11:$P$612,P1595))","v":""},""]
[null,null,null,null,null,null,null,"",null,"","","","","","","",{"$f":"IF(P1596=\"\",\"\",COUNTIF(P1597:$P$2087,P1596)+COUNTIF('TD-2R-EC'!$P$11:$P$612,P1596))","v":""},""]
[null,null,null,null,null,null,null,"",null,"","","","","","",{"$f":"A1597&D1597&E1597","v":""},{"$f":"IF(P1597=\"\",\"\",COUNTIF(P1598:$P$2087,P1597)+COUNTIF('TD-2R-EC'!$P$11:$P$612,P1597))","v":""},""]
[null,null,null,null,null,null,null,"",null,"",{"$f":"IF(NOT(ISBLANK(G1598)),IF(A1598>0,10*G1598,\"\"),\"\")","v":""},{"$f":"IF(NOT(ISBLANK(G1598)),IF(A1598> 0,10*SUM(A1598*G1598),\"\"),\"\")","v":""},{"$f":"IF(NOT(ISBLANK(H1598)),IF(A1598> 0,G1598/2*10,\"\"),\"\")","v":""},"","","",{"$f":"IF(P1598=\"\",\"\",COUNTIF(P1599:$P$2087,P1598)+COUNTIF('TD-2R-EC'!$P$11:$P$612,P1598))","v":""},""]
[null,null,null,null,null,null,null,"",null,"","","","","","","",{"$f":"IF(P1599=\"\",\"\",COUNTIF(P1600:$P$2087,P1599)+COUNTIF('TD-2R-EC'!$P$11:$P$612,P1599))","v":""},""]
[null,null,null,null,null,null,null,"",null,"","","","","","","",{"$f":"IF(P1600=\"\",\"\",COUNTIF(P1601:$P$2087,P1600)+COUNTIF('TD-2R-EC'!$P$11:$P$612,P1600))","v":""},""]
[null,null,null,null,null,null,null,"",null,"","","","","","","",{"$f":"IF(P1601=\"\",\"\",COUNTIF(P1602:$P$2087,P1601)+COUNTIF('TD-2R-EC'!$P$11:$P$612,P1601))","v":""},""]
[null,null,null,null,null,null,null,"",null,"","","","","","","",{"$f":"IF(P1602=\"\",\"\",COUNTIF(P1603:$P$2087,P1602)+COUNTIF('TD-2R-EC'!$P$11:$P$612,P1602))","v":""},""]
[null,null,null,null,null,null,null,"",null,"","","","","","","",{"$f":"IF(P1603=\"\",\"\",COUNTIF(P1604:$P$2087,P1603)+COUNTIF('TD-2R-EC'!$P$11:$P$612,P1603))","v":""},""]
[null,null,null,null,null,null,null,"",null,"","","","","","","",{"$f":"IF(P1604=\"\",\"\",COUNTIF(P1605:$P$2087,P1604)+COUNTIF('TD-2R-EC'!$P$11:$P$612,P1604))","v":""},""]
[null,null,null,null,null,null,null,"",null,"","","","","","","",{"$f":"IF(P1605=\"\",\"\",COUNTIF(P1606:$P$2087,P1605)+COUNTIF('TD-2R-EC'!$P$11:$P$612,P1605))","v":""},""]
[null,null,null,null,null,null,null,"",null,"","","","","","","",{"$f":"IF(P1606=\"\",\"\",COUNTIF(P1607:$P$2087,P1606)+COUNTIF('TD-2R-EC'!$P$11:$P$612,P1606))","v":""},""]
[null,null,null,null,null,null,null,"",null,"","","","","","","",{"$f":"IF(P1607=\"\",\"\",COUNTIF(P1608:$P$2087,P1607)+COUNTIF('TD-2R-EC'!$P$11:$P$612,P1607))","v":""},""]
[null,null,null,null,null,null,null,"",null,"","","","","","","",{"$f":"IF(P1608=\"\",\"\",COUNTIF(P1609:$P$2087,P1608)+COUNTIF('TD-2R-EC'!$P$11:$P$612,P1608))","v":""},""]
[null,null,null,null,null,null,null,"",null,"","","","","","","",{"$f":"IF(P1609=\"\",\"\",COUNTIF(P1610:$P$2087,P1609)+COUNTIF('TD-2R-EC'!$P$11:$P$612,P1609))","v":""},""]
[null,null,null,null,null,null,null,"",null,"","","","","","","",{"$f":"IF(P1610=\"\",\"\",COUNTIF(P1611:$P$2087,P1610)+COUNTIF('TD-2R-EC'!$P$11:$P$612,P1610))","v":""},""]
[null,null,null,null,null,null,null,"",null,"","","","","","","",{"$f":"IF(P1611=\"\",\"\",COUNTIF(P1612:$P$2087,P1611)+COUNTIF('TD-2R-EC'!$P$11:$P$612,P1611))","v":""},""]
[null,null,null,null,null,null,null,"",null,"","","","","","","",{"$f":"IF(P1612=\"\",\"\",COUNTIF(P1613:$P$2087,P1612)+COUNTIF('TD-2R-EC'!$P$11:$P$612,P1612))","v":""},""]
[null,null,null,null,null,null,null,"",null,"","","","","","","",{"$f":"IF(P1613=\"\",\"\",COUNTIF(P1614:$P$2087,P1613)+COUNTIF('TD-2R-EC'!$P$11:$P$612,P1613))","v":""},""]
[null,null,null,null,null,null,null,{"$f":"IF(ISBLANK(F1614),\"\",SUM(G1614*60)/F1614)","v":""},null,"","","","","","","",{"$f":"IF(P1614=\"\",\"\",COUNTIF(P1615:$P$2087,P1614)+COUNTIF('TD-2R-EC'!$P$11:$P$612,P1614))","v":""},""]
[null,null,null,null,null,null,null,"",null,{"$f":"IF(NOT(ISBLANK(G1615)),G1615*I1615,\"\")","v":""},"","","",{"$f":"IF(NOT(ISBLANK(G1615)),SUM(K1615:M1615),\"\")","v":""},{"$f":"IF(NOT(ISBLANK(I1615)),I1615*N1615,\"\")","v":""},"",{"$f":"IF(P1615=\"\",\"\",COUNTIF(P1616:$P$2087,P1615)+COUNTIF('TD-2R-EC'!$P$11:$P$612,P1615))","v":""},{"$f":"IF(Q1615>0,RIGHT(P1615,2),\"\")","v":""}]
[null,null,null,null,null,null,null,"",null,"","","","","","","",{"$f":"IF(P1616=\"\",\"\",COUNTIF(P1617:$P$2087,P1616)+COUNTIF('TD-2R-EC'!$P$11:$P$612,P1616))","v":""},""]
[null,null,null,null,null,null,null,"",null,"","","","","","","",{"$f":"IF(P1617=\"\",\"\",COUNTIF(P1618:$P$2087,P1617)+COUNTIF('TD-2R-EC'!$P$11:$P$612,P1617))","v":""},""]
[null,null,null,null,null,null,null,"",null,"","","","","","","",{"$f":"IF(P1618=\"\",\"\",COUNTIF(P1619:$P$2087,P1618)+COUNTIF('TD-2R-EC'!$P$11:$P$612,P1618))","v":""},""]
[null,null,null,null,null,null,null,"",null,"","","","","","","",{"$f":"IF(P1619=\"\",\"\",COUNTIF(P1620:$P$2087,P1619)+COUNTIF('TD-2R-EC'!$P$11:$P$612,P1619))","v":""},""]
[null,null,null,null,null,null,null,"",null,"","","","","","","",{"$f":"IF(P1620=\"\",\"\",COUNTIF(P1621:$P$2087,P1620)+COUNTIF('TD-2R-EC'!$P$11:$P$612,P1620))","v":""},""]
[null,null,null,null,null,null,null,"",null,"","","","","","","",{"$f":"IF(P1621=\"\",\"\",COUNTIF(P1622:$P$2087,P1621)+COUNTIF('TD-2R-EC'!$P$11:$P$612,P1621))","v":""},""]
[null,null,null,null,null,null,null,"",null,"","","","","","","",{"$f":"IF(P1622=\"\",\"\",COUNTIF(P1623:$P$2087,P1622)+COUNTIF('TD-2R-EC'!$P$11:$P$612,P1622))","v":""},""]
[null,null,null,null,null,null,null,"",null,"","","","","","","",{"$f":"IF(P1623=\"\",\"\",COUNTIF(P1624:$P$2087,P1623)+COUNTIF('TD-2R-EC'!$P$11:$P$612,P1623))","v":""},""]
[null,null,null,null,null,null,null,"",null,"","","","","","","",{"$f":"IF(P1624=\"\",\"\",COUNTIF(P1625:$P$2087,P1624)+COUNTIF('TD-2R-EC'!$P$11:$P$612,P1624))","v":""},""]
[null,null,null,null,null,null,null,"",null,"","","","","","","",{"$f":"IF(P1625=\"\",\"\",COUNTIF(P1626:$P$2087,P1625)+COUNTIF('TD-2R-EC'!$P$11:$P$612,P1625))","v":""},""]
[null,null,null,null,null,null,null,"",null,"","","","","","","",{"$f":"IF(P1626=\"\",\"\",COUNTIF(P1627:$P$2087,P1626)+COUNTIF('TD-2R-EC'!$P$11:$P$612,P1626))","v":""},""]
[null,null,null,null,null,null,null,"",null,"","","","","","","",{"$f":"IF(P1627=\"\",\"\",COUNTIF(P1628:$P$2087,P1627)+COUNTIF('TD-2R-EC'!$P$11:$P$612,P1627))","v":""},""]
[null,null,null,null,null,null,null,"",null,"","","","","","","",{"$f":"IF(P1628=\"\",\"\",COUNTIF(P1629:$P$2087,P1628)+COUNTIF('TD-2R-EC'!$P$11:$P$612,P1628))","v":""},""]
[null,null,null,null,null,null,null,"",null,"","","","","","","",{"$f":"IF(P1629=\"\",\"\",COUNTIF(P1630:$P$2087,P1629)+COUNTIF('TD-2R-EC'!$P$11:$P$612,P1629))","v":""},""]
[null,null,null,null,null,null,null,"",null,"","","","","","","",{"$f":"IF(P1630=\"\",\"\",COUNTIF(P1631:$P$2087,P1630)+COUNTIF('TD-2R-EC'!$P$11:$P$612,P1630))","v":""},""]
[null,null,null,null,null,null,null,"",null,"","","","","","","",{"$f":"IF(P1631=\"\",\"\",COUNTIF(P1632:$P$2087,P1631)+COUNTIF('TD-2R-EC'!$P$11:$P$612,P1631))","v":""},""]
[null,null,null,null,null,null,null,"",null,"","","","","","","",{"$f":"IF(P1632=\"\",\"\",COUNTIF(P1633:$P$2087,P1632)+COUNTIF('TD-2R-EC'!$P$11:$P$612,P1632))","v":""},""]
[null,null,null,null,null,null,null,"",null,"","","","","","","",{"$f":"IF(P1633=\"\",\"\",COUNTIF(P1634:$P$2087,P1633)+COUNTIF('TD-2R-EC'!$P$11:$P$612,P1633))","v":""},""]
[null,null,null,null,null,null,null,"",null,"","","","","","","",{"$f":"IF(P1634=\"\",\"\",COUNTIF(P1635:$P$2087,P1634)+COUNTIF('TD-2R-EC'!$P$11:$P$612,P1634))","v":""},""]
[null,null,null,null,null,null,null,"",null,"","","","","","","",{"$f":"IF(P1635=\"\",\"\",COUNTIF(P1636:$P$2087,P1635)+COUNTIF('TD-2R-EC'!$P$11:$P$612,P1635))","v":""},""]
[null,null,null,null,null,null,null,"",null,"","","","","","","",{"$f":"IF(P1636=\"\",\"\",COUNTIF(P1637:$P$2087,P1636)+COUNTIF('TD-2R-EC'!$P$11:$P$612,P1636))","v":""},""]
[null,null,null,null,null,null,null,"",null,"","","","","","","",{"$f":"IF(P1637=\"\",\"\",COUNTIF(P1638:$P$2087,P1637)+COUNTIF('TD-2R-EC'!$P$11:$P$612,P1637))","v":""},""]
[null,null,null,null,null,null,null,"",null,"","","","","","","",{"$f":"IF(P1638=\"\",\"\",COUNTIF(P1639:$P$2087,P1638)+COUNTIF('TD-2R-EC'!$P$11:$P$612,P1638))","v":""},""]
[null,null,null,null,null,null,null,"",null,"","","","","","","",{"$f":"IF(P1639=\"\",\"\",COUNTIF(P1640:$P$2087,P1639)+COUNTIF('TD-2R-EC'!$P$11:$P$612,P1639))","v":""},""]
[null,null,null,null,null,null,null,"",null,"","","","","","","",{"$f":"IF(P1640=\"\",\"\",COUNTIF(P1641:$P$2087,P1640)+COUNTIF('TD-2R-EC'!$P$11:$P$612,P1640))","v":""},""]
[null,null,null,null,null,null,null,"",null,"","","","","","","",{"$f":"IF(P1641=\"\",\"\",COUNTIF(P1642:$P$2087,P1641)+COUNTIF('TD-2R-EC'!$P$11:$P$612,P1641))","v":""},""]
[null,null,null,null,null,null,null,"",null,"","","","","","","",{"$f":"IF(P1642=\"\",\"\",COUNTIF(P1643:$P$2087,P1642)+COUNTIF('TD-2R-EC'!$P$11:$P$612,P1642))","v":""},""]
[null,null,null,null,null,null,null,"",null,"","","","","","","",{"$f":"IF(P1643=\"\",\"\",COUNTIF(P1644:$P$2087,P1643)+COUNTIF('TD-2R-EC'!$P$11:$P$612,P1643))","v":""},""]
[null,null,null,null,null,null,null,"",null,"","","","","","","",{"$f":"IF(P1644=\"\",\"\",COUNTIF(P1645:$P$2087,P1644)+COUNTIF('TD-2R-EC'!$P$11:$P$612,P1644))","v":""},""]
[null,null,null,null,null,null,null,"",null,"","","","","","","",{"$f":"IF(P1645=\"\",\"\",COUNTIF(P1646:$P$2087,P1645)+COUNTIF('TD-2R-EC'!$P$11:$P$612,P1645))","v":""},""]
[null,null,null,null,null,null,null,"",null,"","","","","","","",{"$f":"IF(P1646=\"\",\"\",COUNTIF(P1647:$P$2087,P1646)+COUNTIF('TD-2R-EC'!$P$11:$P$612,P1646))","v":""},""]
[null,null,null,null,null,null,null,"",null,"","","","","","","",{"$f":"IF(P1647=\"\",\"\",COUNTIF(P1648:$P$2087,P1647)+COUNTIF('TD-2R-EC'!$P$11:$P$612,P1647))","v":""},""]
[null,null,null,null,null,null,null,"",null,"","","","","","","",{"$f":"IF(P1648=\"\",\"\",COUNTIF(P1649:$P$2087,P1648)+COUNTIF('TD-2R-EC'!$P$11:$P$612,P1648))","v":""},""]
[null,null,null,null,null,null,null,"",null,"","","","","","","",{"$f":"IF(P1649=\"\",\"\",COUNTIF(P1650:$P$2087,P1649)+COUNTIF('TD-2R-EC'!$P$11:$P$612,P1649))","v":""},""]
[null,null,null,null,null,null,null,"",null,"","","","","","","",{"$f":"IF(P1650=\"\",\"\",COUNTIF(P1651:$P$2087,P1650)+COUNTIF('TD-2R-EC'!$P$11:$P$612,P1650))","v":""},""]
[null,null,null,null,null,null,null,"",null,"","","","","","","",{"$f":"IF(P1651=\"\",\"\",COUNTIF(P1652:$P$2087,P1651)+COUNTIF('TD-2R-EC'!$P$11:$P$612,P1651))","v":""},""]
[null,null,null,null,null,null,null,"",null,"","","","","","","",{"$f":"IF(P1652=\"\",\"\",COUNTIF(P1653:$P$2087,P1652)+COUNTIF('TD-2R-EC'!$P$11:$P$612,P1652))","v":""},""]
[null,null,null,null,null,null,null,"",null,"","","","","","","",{"$f":"IF(P1653=\"\",\"\",COUNTIF(P1654:$P$2087,P1653)+COUNTIF('TD-2R-EC'!$P$11:$P$612,P1653))","v":""},""]
[null,null,null,null,null,null,null,"",null,"","","","","","","",{"$f":"IF(P1654=\"\",\"\",COUNTIF(P1655:$P$2087,P1654)+COUNTIF('TD-2R-EC'!$P$11:$P$612,P1654))","v":""},""]
[null,null,null,null,null,null,null,"",null,"","","","","","","",{"$f":"IF(P1655=\"\",\"\",COUNTIF(P1656:$P$2087,P1655)+COUNTIF('TD-2R-EC'!$P$11:$P$612,P1655))","v":""},""]
[null,null,null,null,null,null,null,"",null,"","","","","","","",{"$f":"IF(P1656=\"\",\"\",COUNTIF(P1657:$P$2087,P1656)+COUNTIF('TD-2R-EC'!$P$11:$P$612,P1656))","v":""},""]
[null,null,null,null,null,null,null,"",null,"","","","","","","",{"$f":"IF(P1657=\"\",\"\",COUNTIF(P1658:$P$2087,P1657)+COUNTIF('TD-2R-EC'!$P$11:$P$612,P1657))","v":""},""]
[null,null,null,null,null,null,null,"",null,"","","","","","","",{"$f":"IF(P1658=\"\",\"\",COUNTIF(P1659:$P$2087,P1658)+COUNTIF('TD-2R-EC'!$P$11:$P$612,P1658))","v":""},""]
[null,null,null,null,null,null,null,"",null,"","","","","","","",{"$f":"IF(P1659=\"\",\"\",COUNTIF(P1660:$P$2087,P1659)+COUNTIF('TD-2R-EC'!$P$11:$P$612,P1659))","v":""},""]
[null,null,null,null,null,null,null,"",null,"","","","","","","",{"$f":"IF(P1660=\"\",\"\",COUNTIF(P1661:$P$2087,P1660)+COUNTIF('TD-2R-EC'!$P$11:$P$612,P1660))","v":""},""]
[null,null,null,null,null,null,null,"",null,"","","","","","",{"$f":"A1661&D1661&E1661","v":""},{"$f":"IF(P1661=\"\",\"\",COUNTIF(P1662:$P$2087,P1661)+COUNTIF('TD-2R-EC'!$P$11:$P$612,P1661))","v":""},""]
[null,null,null,null,null,null,null,"",null,"",{"$f":"IF(NOT(ISBLANK(G1662)),IF(A1662>0,10*G1662,\"\"),\"\")","v":""},{"$f":"IF(NOT(ISBLANK(G1662)),IF(A1662> 0,10*SUM(A1662*G1662),\"\"),\"\")","v":""},{"$f":"IF(NOT(ISBLANK(H1662)),IF(A1662> 0,G1662/2*10,\"\"),\"\")","v":""},"","","",{"$f":"IF(P1662=\"\",\"\",COUNTIF(P1663:$P$2087,P1662)+COUNTIF('TD-2R-EC'!$P$11:$P$612,P1662))","v":""},""]
[null,null,null,null,null,null,null,"",null,"","","","","","","",{"$f":"IF(P1663=\"\",\"\",COUNTIF(P1664:$P$2087,P1663)+COUNTIF('TD-2R-EC'!$P$11:$P$612,P1663))","v":""},""]
[null,null,null,null,null,null,null,"",null,"","","","","","","",{"$f":"IF(P1664=\"\",\"\",COUNTIF(P1665:$P$2087,P1664)+COUNTIF('TD-2R-EC'!$P$11:$P$612,P1664))","v":""},""]
[null,null,null,null,null,null,null,"",null,"","","","","","","",{"$f":"IF(P1665=\"\",\"\",COUNTIF(P1666:$P$2087,P1665)+COUNTIF('TD-2R-EC'!$P$11:$P$612,P1665))","v":""},""]
[null,null,null,null,null,null,null,"",null,"","","","","","","",{"$f":"IF(P1666=\"\",\"\",COUNTIF(P1667:$P$2087,P1666)+COUNTIF('TD-2R-EC'!$P$11:$P$612,P1666))","v":""},""]
[null,null,null,null,null,null,null,"",null,"","","","","","","",{"$f":"IF(P1667=\"\",\"\",COUNTIF(P1668:$P$2087,P1667)+COUNTIF('TD-2R-EC'!$P$11:$P$612,P1667))","v":""},""]
[null,null,null,null,null,null,null,"",null,"","","","","","","",{"$f":"IF(P1668=\"\",\"\",COUNTIF(P1669:$P$2087,P1668)+COUNTIF('TD-2R-EC'!$P$11:$P$612,P1668))","v":""},""]
[null,null,null,null,null,null,null,"",null,"","","","","","","",{"$f":"IF(P1669=\"\",\"\",COUNTIF(P1670:$P$2087,P1669)+COUNTIF('TD-2R-EC'!$P$11:$P$612,P1669))","v":""},""]
[null,null,null,null,null,null,null,"",null,"","","","","","","",{"$f":"IF(P1670=\"\",\"\",COUNTIF(P1671:$P$2087,P1670)+COUNTIF('TD-2R-EC'!$P$11:$P$612,P1670))","v":""},""]
[null,null,null,null,null,null,null,"",null,"","","","","","","",{"$f":"IF(P1671=\"\",\"\",COUNTIF(P1672:$P$2087,P1671)+COUNTIF('TD-2R-EC'!$P$11:$P$612,P1671))","v":""},""]
[null,null,null,null,null,null,null,"",null,"","","","","","","",{"$f":"IF(P1672=\"\",\"\",COUNTIF(P1673:$P$2087,P1672)+COUNTIF('TD-2R-EC'!$P$11:$P$612,P1672))","v":""},""]
[null,null,null,null,null,null,null,"",null,"","","","","","","",{"$f":"IF(P1673=\"\",\"\",COUNTIF(P1674:$P$2087,P1673)+COUNTIF('TD-2R-EC'!$P$11:$P$612,P1673))","v":""},""]
[null,null,null,null,null,null,null,"",null,"","","","","","","",{"$f":"IF(P1674=\"\",\"\",COUNTIF(P1675:$P$2087,P1674)+COUNTIF('TD-2R-EC'!$P$11:$P$612,P1674))","v":""},""]
[null,null,null,null,null,null,null,"",null,"","","","","","","",{"$f":"IF(P1675=\"\",\"\",COUNTIF(P1676:$P$2087,P1675)+COUNTIF('TD-2R-EC'!$P$11:$P$612,P1675))","v":""},""]
[null,null,null,null,null,null,null,"",null,"","","","","","","",{"$f":"IF(P1676=\"\",\"\",COUNTIF(P1677:$P$2087,P1676)+COUNTIF('TD-2R-EC'!$P$11:$P$612,P1676))","v":""},""]
[null,null,null,null,null,null,null,"",null,"","","","","","","",{"$f":"IF(P1677=\"\",\"\",COUNTIF(P1678:$P$2087,P1677)+COUNTIF('TD-2R-EC'!$P$11:$P$612,P1677))","v":""},""]
[null,null,null,null,null,null,null,{"$f":"IF(ISBLANK(F1678),\"\",SUM(G1678*60)/F1678)","v":""},null,"","","","","","","",{"$f":"IF(P1678=\"\",\"\",COUNTIF(P1679:$P$2087,P1678)+COUNTIF('TD-2R-EC'!$P$11:$P$612,P1678))","v":""},""]
[null,null,null,null,null,null,null,"",null,{"$f":"IF(NOT(ISBLANK(G1679)),G1679*I1679,\"\")","v":""},"","","",{"$f":"IF(NOT(ISBLANK(G1679)),SUM(K1679:M1679),\"\")","v":""},{"$f":"IF(NOT(ISBLANK(I1679)),I1679*N1679,\"\")","v":""},"",{"$f":"IF(P1679=\"\",\"\",COUNTIF(P1680:$P$2087,P1679)+COUNTIF('TD-2R-EC'!$P$11:$P$612,P1679))","v":""},{"$f":"IF(Q1679>0,RIGHT(P1679,2),\"\")","v":""}]
[null,null,null,null,null,null,null,"",null,"","","","","","","",{"$f":"IF(P1680=\"\",\"\",COUNTIF(P1681:$P$2087,P1680)+COUNTIF('TD-2R-EC'!$P$11:$P$612,P1680))","v":""},""]
[null,null,null,null,null,null,null,"",null,"","","","","","","",{"$f":"IF(P1681=\"\",\"\",COUNTIF(P1682:$P$2087,P1681)+COUNTIF('TD-2R-EC'!$P$11:$P$612,P1681))","v":""},""]
[null,null,null,null,null,null,null,"",null,"","","","","","","",{"$f":"IF(P1682=\"\",\"\",COUNTIF(P1683:$P$2087,P1682)+COUNTIF('TD-2R-EC'!$P$11:$P$612,P1682))","v":""},""]
[null,null,null,null,null,null,null,"",null,"","","","","","","",{"$f":"IF(P1683=\"\",\"\",COUNTIF(P1684:$P$2087,P1683)+COUNTIF('TD-2R-EC'!$P$11:$P$612,P1683))","v":""},""]
[null,null,null,null,null,null,null,"",null,"","","","","","","",{"$f":"IF(P1684=\"\",\"\",COUNTIF(P1685:$P$2087,P1684)+COUNTIF('TD-2R-EC'!$P$11:$P$612,P1684))","v":""},""]
[null,null,null,null,null,null,null,"",null,"","","","","","","",{"$f":"IF(P1685=\"\",\"\",COUNTIF(P1686:$P$2087,P1685)+COUNTIF('TD-2R-EC'!$P$11:$P$612,P1685))","v":""},""]
[null,null,null,null,null,null,null,"",null,"","","","","","","",{"$f":"IF(P1686=\"\",\"\",COUNTIF(P1687:$P$2087,P1686)+COUNTIF('TD-2R-EC'!$P$11:$P$612,P1686))","v":""},""]
[null,null,null,null,null,null,null,"",null,"","","","","","","",{"$f":"IF(P1687=\"\",\"\",COUNTIF(P1688:$P$2087,P1687)+COUNTIF('TD-2R-EC'!$P$11:$P$612,P1687))","v":""},""]
[null,null,null,null,null,null,null,"",null,"","","","","","","",{"$f":"IF(P1688=\"\",\"\",COUNTIF(P1689:$P$2087,P1688)+COUNTIF('TD-2R-EC'!$P$11:$P$612,P1688))","v":""},""]
[null,null,null,null,null,null,null,"",null,"","","","","","","",{"$f":"IF(P1689=\"\",\"\",COUNTIF(P1690:$P$2087,P1689)+COUNTIF('TD-2R-EC'!$P$11:$P$612,P1689))","v":""},""]
[null,null,null,null,null,null,null,"",null,"","","","","","","",{"$f":"IF(P1690=\"\",\"\",COUNTIF(P1691:$P$2087,P1690)+COUNTIF('TD-2R-EC'!$P$11:$P$612,P1690))","v":""},""]
[null,null,null,null,null,null,null,"",null,"","","","","","","",{"$f":"IF(P1691=\"\",\"\",COUNTIF(P1692:$P$2087,P1691)+COUNTIF('TD-2R-EC'!$P$11:$P$612,P1691))","v":""},""]
[null,null,null,null,null,null,null,"",null,"","","","","","","",{"$f":"IF(P1692=\"\",\"\",COUNTIF(P1693:$P$2087,P1692)+COUNTIF('TD-2R-EC'!$P$11:$P$612,P1692))","v":""},""]
[null,null,null,null,null,null,null,"",null,"","","","","","","",{"$f":"IF(P1693=\"\",\"\",COUNTIF(P1694:$P$2087,P1693)+COUNTIF('TD-2R-EC'!$P$11:$P$612,P1693))","v":""},""]
[null,null,null,null,null,null,null,"",null,"","","","","","","",{"$f":"IF(P1694=\"\",\"\",COUNTIF(P1695:$P$2087,P1694)+COUNTIF('TD-2R-EC'!$P$11:$P$612,P1694))","v":""},""]
[null,null,null,null,null,null,null,"",null,"","","","","","","",{"$f":"IF(P1695=\"\",\"\",COUNTIF(P1696:$P$2087,P1695)+COUNTIF('TD-2R-EC'!$P$11:$P$612,P1695))","v":""},""]
[null,null,null,null,null,null,null,"",null,"","","","","","","",{"$f":"IF(P1696=\"\",\"\",COUNTIF(P1697:$P$2087,P1696)+COUNTIF('TD-2R-EC'!$P$11:$P$612,P1696))","v":""},""]
[null,null,null,null,null,null,null,"",null,"","","","","","","",{"$f":"IF(P1697=\"\",\"\",COUNTIF(P1698:$P$2087,P1697)+COUNTIF('TD-2R-EC'!$P$11:$P$612,P1697))","v":""},""]
[null,null,null,null,null,null,null,"",null,"","","","","","","",{"$f":"IF(P1698=\"\",\"\",COUNTIF(P1699:$P$2087,P1698)+COUNTIF('TD-2R-EC'!$P$11:$P$612,P1698))","v":""},""]
[null,null,null,null,null,null,null,"",null,"","","","","","","",{"$f":"IF(P1699=\"\",\"\",COUNTIF(P1700:$P$2087,P1699)+COUNTIF('TD-2R-EC'!$P$11:$P$612,P1699))","v":""},""]
[null,null,null,null,null,null,null,"",null,"","","","","","","",{"$f":"IF(P1700=\"\",\"\",COUNTIF(P1701:$P$2087,P1700)+COUNTIF('TD-2R-EC'!$P$11:$P$612,P1700))","v":""},""]
[null,null,null,null,null,null,null,"",null,"","","","","","","",{"$f":"IF(P1701=\"\",\"\",COUNTIF(P1702:$P$2087,P1701)+COUNTIF('TD-2R-EC'!$P$11:$P$612,P1701))","v":""},""]
[null,null,null,null,null,null,null,"",null,"","","","","","","",{"$f":"IF(P1702=\"\",\"\",COUNTIF(P1703:$P$2087,P1702)+COUNTIF('TD-2R-EC'!$P$11:$P$612,P1702))","v":""},""]
[null,null,null,null,null,null,null,"",null,"","","","","","","",{"$f":"IF(P1703=\"\",\"\",COUNTIF(P1704:$P$2087,P1703)+COUNTIF('TD-2R-EC'!$P$11:$P$612,P1703))","v":""},""]
[null,null,null,null,null,null,null,"",null,"","","","","","","",{"$f":"IF(P1704=\"\",\"\",COUNTIF(P1705:$P$2087,P1704)+COUNTIF('TD-2R-EC'!$P$11:$P$612,P1704))","v":""},""]
[null,null,null,null,null,null,null,"",null,"","","","","","","",{"$f":"IF(P1705=\"\",\"\",COUNTIF(P1706:$P$2087,P1705)+COUNTIF('TD-2R-EC'!$P$11:$P$612,P1705))","v":""},""]
[null,null,null,null,null,null,null,"",null,"","","","","","","",{"$f":"IF(P1706=\"\",\"\",COUNTIF(P1707:$P$2087,P1706)+COUNTIF('TD-2R-EC'!$P$11:$P$612,P1706))","v":""},""]
[null,null,null,null,null,null,null,"",null,"","","","","","","",{"$f":"IF(P1707=\"\",\"\",COUNTIF(P1708:$P$2087,P1707)+COUNTIF('TD-2R-EC'!$P$11:$P$612,P1707))","v":""},""]
[null,null,null,null,null,null,null,"",null,"","","","","","","",{"$f":"IF(P1708=\"\",\"\",COUNTIF(P1709:$P$2087,P1708)+COUNTIF('TD-2R-EC'!$P$11:$P$612,P1708))","v":""},""]
[null,null,null,null,null,null,null,"",null,"","","","","","","",{"$f":"IF(P1709=\"\",\"\",COUNTIF(P1710:$P$2087,P1709)+COUNTIF('TD-2R-EC'!$P$11:$P$612,P1709))","v":""},""]
[null,null,null,null,null,null,null,"",null,"","","","","","","",{"$f":"IF(P1710=\"\",\"\",COUNTIF(P1711:$P$2087,P1710)+COUNTIF('TD-2R-EC'!$P$11:$P$612,P1710))","v":""},""]
[null,null,null,null,null,null,null,"",null,"","","","","","","",{"$f":"IF(P1711=\"\",\"\",COUNTIF(P1712:$P$2087,P1711)+COUNTIF('TD-2R-EC'!$P$11:$P$612,P1711))","v":""},""]
[null,null,null,null,null,null,null,"",null,"","","","","","","",{"$f":"IF(P1712=\"\",\"\",COUNTIF(P1713:$P$2087,P1712)+COUNTIF('TD-2R-EC'!$P$11:$P$612,P1712))","v":""},""]
[null,null,null,null,null,null,null,"",null,"","","","","","","",{"$f":"IF(P1713=\"\",\"\",COUNTIF(P1714:$P$2087,P1713)+COUNTIF('TD-2R-EC'!$P$11:$P$612,P1713))","v":""},""]
[null,null,null,null,null,null,null,"",null,"","","","","","","",{"$f":"IF(P1714=\"\",\"\",COUNTIF(P1715:$P$2087,P1714)+COUNTIF('TD-2R-EC'!$P$11:$P$612,P1714))","v":""},""]
[null,null,null,null,null,null,null,"",null,"","","","","","","",{"$f":"IF(P1715=\"\",\"\",COUNTIF(P1716:$P$2087,P1715)+COUNTIF('TD-2R-EC'!$P$11:$P$612,P1715))","v":""},""]
[null,null,null,null,null,null,null,"",null,"","","","","","","",{"$f":"IF(P1716=\"\",\"\",COUNTIF(P1717:$P$2087,P1716)+COUNTIF('TD-2R-EC'!$P$11:$P$612,P1716))","v":""},""]
[null,null,null,null,null,null,null,"",null,"","","","","","","",{"$f":"IF(P1717=\"\",\"\",COUNTIF(P1718:$P$2087,P1717)+COUNTIF('TD-2R-EC'!$P$11:$P$612,P1717))","v":""},""]
[null,null,null,null,null,null,null,"",null,"","","","","","","",{"$f":"IF(P1718=\"\",\"\",COUNTIF(P1719:$P$2087,P1718)+COUNTIF('TD-2R-EC'!$P$11:$P$612,P1718))","v":""},""]
[null,null,null,null,null,null,null,"",null,"","","","","","","",{"$f":"IF(P1719=\"\",\"\",COUNTIF(P1720:$P$2087,P1719)+COUNTIF('TD-2R-EC'!$P$11:$P$612,P1719))","v":""},""]
[null,null,null,null,null,null,null,"",null,"","","","","","","",{"$f":"IF(P1720=\"\",\"\",COUNTIF(P1721:$P$2087,P1720)+COUNTIF('TD-2R-EC'!$P$11:$P$612,P1720))","v":""},""]
[null,null,null,null,null,null,null,"",null,"","","","","","","",{"$f":"IF(P1721=\"\",\"\",COUNTIF(P1722:$P$2087,P1721)+COUNTIF('TD-2R-EC'!$P$11:$P$612,P1721))","v":""},""]
[null,null,null,null,null,null,null,"",null,"","","","","","","",{"$f":"IF(P1722=\"\",\"\",COUNTIF(P1723:$P$2087,P1722)+COUNTIF('TD-2R-EC'!$P$11:$P$612,P1722))","v":""},""]
[null,null,null,null,null,null,null,"",null,"","","","","","","",{"$f":"IF(P1723=\"\",\"\",COUNTIF(P1724:$P$2087,P1723)+COUNTIF('TD-2R-EC'!$P$11:$P$612,P1723))","v":""},""]
[null,null,null,null,null,null,null,"",null,"","","","","","","",{"$f":"IF(P1724=\"\",\"\",COUNTIF(P1725:$P$2087,P1724)+COUNTIF('TD-2R-EC'!$P$11:$P$612,P1724))","v":""},""]
[null,null,null,null,null,null,null,"",null,"","","","","","",{"$f":"A1725&D1725&E1725","v":""},{"$f":"IF(P1725=\"\",\"\",COUNTIF(P1726:$P$2087,P1725)+COUNTIF('TD-2R-EC'!$P$11:$P$612,P1725))","v":""},""]
[null,null,null,null,null,null,null,"",null,"",{"$f":"IF(NOT(ISBLANK(G1726)),IF(A1726>0,10*G1726,\"\"),\"\")","v":""},{"$f":"IF(NOT(ISBLANK(G1726)),IF(A1726> 0,10*SUM(A1726*G1726),\"\"),\"\")","v":""},{"$f":"IF(NOT(ISBLANK(H1726)),IF(A1726> 0,G1726/2*10,\"\"),\"\")","v":""},"","","",{"$f":"IF(P1726=\"\",\"\",COUNTIF(P1727:$P$2087,P1726)+COUNTIF('TD-2R-EC'!$P$11:$P$612,P1726))","v":""},""]
[null,null,null,null,null,null,null,"",null,"","","","","","","",{"$f":"IF(P1727=\"\",\"\",COUNTIF(P1728:$P$2087,P1727)+COUNTIF('TD-2R-EC'!$P$11:$P$612,P1727))","v":""},""]
[null,null,null,null,null,null,null,"",null,"","","","","","","",{"$f":"IF(P1728=\"\",\"\",COUNTIF(P1729:$P$2087,P1728)+COUNTIF('TD-2R-EC'!$P$11:$P$612,P1728))","v":""},""]
[null,null,null,null,null,null,null,"",null,"","","","","","","",{"$f":"IF(P1729=\"\",\"\",COUNTIF(P1730:$P$2087,P1729)+COUNTIF('TD-2R-EC'!$P$11:$P$612,P1729))","v":""},""]
[null,null,null,null,null,null,null,"",null,"","","","","","","",{"$f":"IF(P1730=\"\",\"\",COUNTIF(P1731:$P$2087,P1730)+COUNTIF('TD-2R-EC'!$P$11:$P$612,P1730))","v":""},""]
[null,null,null,null,null,null,null,"",null,"","","","","","","",{"$f":"IF(P1731=\"\",\"\",COUNTIF(P1732:$P$2087,P1731)+COUNTIF('TD-2R-EC'!$P$11:$P$612,P1731))","v":""},""]
[null,null,null,null,null,null,null,"",null,"","","","","","","",{"$f":"IF(P1732=\"\",\"\",COUNTIF(P1733:$P$2087,P1732)+COUNTIF('TD-2R-EC'!$P$11:$P$612,P1732))","v":""},""]
[null,null,null,null,null,null,null,"",null,"","","","","","","",{"$f":"IF(P1733=\"\",\"\",COUNTIF(P1734:$P$2087,P1733)+COUNTIF('TD-2R-EC'!$P$11:$P$612,P1733))","v":""},""]
[null,null,null,null,null,null,null,"",null,"","","","","","","",{"$f":"IF(P1734=\"\",\"\",COUNTIF(P1735:$P$2087,P1734)+COUNTIF('TD-2R-EC'!$P$11:$P$612,P1734))","v":""},""]
[null,null,null,null,null,null,null,"",null,"","","","","","","",{"$f":"IF(P1735=\"\",\"\",COUNTIF(P1736:$P$2087,P1735)+COUNTIF('TD-2R-EC'!$P$11:$P$612,P1735))","v":""},""]
[null,null,null,null,null,null,null,"",null,"","","","","","","",{"$f":"IF(P1736=\"\",\"\",COUNTIF(P1737:$P$2087,P1736)+COUNTIF('TD-2R-EC'!$P$11:$P$612,P1736))","v":""},""]
[null,null,null,null,null,null,null,"",null,"","","","","","","",{"$f":"IF(P1737=\"\",\"\",COUNTIF(P1738:$P$2087,P1737)+COUNTIF('TD-2R-EC'!$P$11:$P$612,P1737))","v":""},""]
[null,null,null,null,null,null,null,"",null,"","","","","","","",{"$f":"IF(P1738=\"\",\"\",COUNTIF(P1739:$P$2087,P1738)+COUNTIF('TD-2R-EC'!$P$11:$P$612,P1738))","v":""},""]
[null,null,null,null,null,null,null,"",null,"","","","","","","",{"$f":"IF(P1739=\"\",\"\",COUNTIF(P1740:$P$2087,P1739)+COUNTIF('TD-2R-EC'!$P$11:$P$612,P1739))","v":""},""]
[null,null,null,null,null,null,null,"",null,"","","","","","","",{"$f":"IF(P1740=\"\",\"\",COUNTIF(P1741:$P$2087,P1740)+COUNTIF('TD-2R-EC'!$P$11:$P$612,P1740))","v":""},""]
[null,null,null,null,null,null,null,"",null,"","","","","","","",{"$f":"IF(P1741=\"\",\"\",COUNTIF(P1742:$P$2087,P1741)+COUNTIF('TD-2R-EC'!$P$11:$P$612,P1741))","v":""},""]
[null,null,null,null,null,null,null,{"$f":"IF(ISBLANK(F1742),\"\",SUM(G1742*60)/F1742)","v":""},null,"","","","","","","",{"$f":"IF(P1742=\"\",\"\",COUNTIF(P1743:$P$2087,P1742)+COUNTIF('TD-2R-EC'!$P$11:$P$612,P1742))","v":""},""]
[null,null,null,null,null,null,null,"",null,{"$f":"IF(NOT(ISBLANK(G1743)),G1743*I1743,\"\")","v":""},"","","",{"$f":"IF(NOT(ISBLANK(G1743)),SUM(K1743:M1743),\"\")","v":""},{"$f":"IF(NOT(ISBLANK(I1743)),I1743*N1743,\"\")","v":""},"",{"$f":"IF(P1743=\"\",\"\",COUNTIF(P1744:$P$2087,P1743)+COUNTIF('TD-2R-EC'!$P$11:$P$612,P1743))","v":""},{"$f":"IF(Q1743>0,RIGHT(P1743,2),\"\")","v":""}]
[null,null,null,null,null,null,null,"",null,"","","","","","","",{"$f":"IF(P1744=\"\",\"\",COUNTIF(P1745:$P$2087,P1744)+COUNTIF('TD-2R-EC'!$P$11:$P$612,P1744))","v":""},""]
[null,null,null,null,null,null,null,"",null,"","","","","","","",{"$f":"IF(P1745=\"\",\"\",COUNTIF(P1746:$P$2087,P1745)+COUNTIF('TD-2R-EC'!$P$11:$P$612,P1745))","v":""},""]
[null,null,null,null,null,null,null,"",null,"","","","","","","",{"$f":"IF(P1746=\"\",\"\",COUNTIF(P1747:$P$2087,P1746)+COUNTIF('TD-2R-EC'!$P$11:$P$612,P1746))","v":""},""]
[null,null,null,null,null,null,null,"",null,"","","","","","","",{"$f":"IF(P1747=\"\",\"\",COUNTIF(P1748:$P$2087,P1747)+COUNTIF('TD-2R-EC'!$P$11:$P$612,P1747))","v":""},""]
[null,null,null,null,null,null,null,"",null,"","","","","","","",{"$f":"IF(P1748=\"\",\"\",COUNTIF(P1749:$P$2087,P1748)+COUNTIF('TD-2R-EC'!$P$11:$P$612,P1748))","v":""},""]
[null,null,null,null,null,null,null,"",null,"","","","","","","",{"$f":"IF(P1749=\"\",\"\",COUNTIF(P1750:$P$2087,P1749)+COUNTIF('TD-2R-EC'!$P$11:$P$612,P1749))","v":""},""]
[null,null,null,null,null,null,null,"",null,"","","","","","","",{"$f":"IF(P1750=\"\",\"\",COUNTIF(P1751:$P$2087,P1750)+COUNTIF('TD-2R-EC'!$P$11:$P$612,P1750))","v":""},""]
[null,null,null,null,null,null,null,"",null,"","","","","","","",{"$f":"IF(P1751=\"\",\"\",COUNTIF(P1752:$P$2087,P1751)+COUNTIF('TD-2R-EC'!$P$11:$P$612,P1751))","v":""},""]
[null,null,null,null,null,null,null,"",null,"","","","","","","",{"$f":"IF(P1752=\"\",\"\",COUNTIF(P1753:$P$2087,P1752)+COUNTIF('TD-2R-EC'!$P$11:$P$612,P1752))","v":""},""]
[null,null,null,null,null,null,null,"",null,"","","","","","","",{"$f":"IF(P1753=\"\",\"\",COUNTIF(P1754:$P$2087,P1753)+COUNTIF('TD-2R-EC'!$P$11:$P$612,P1753))","v":""},""]
[null,null,null,null,null,null,null,"",null,"","","","","","","",{"$f":"IF(P1754=\"\",\"\",COUNTIF(P1755:$P$2087,P1754)+COUNTIF('TD-2R-EC'!$P$11:$P$612,P1754))","v":""},""]
[null,null,null,null,null,null,null,"",null,"","","","","","","",{"$f":"IF(P1755=\"\",\"\",COUNTIF(P1756:$P$2087,P1755)+COUNTIF('TD-2R-EC'!$P$11:$P$612,P1755))","v":""},""]
[null,null,null,null,null,null,null,"",null,"","","","","","","",{"$f":"IF(P1756=\"\",\"\",COUNTIF(P1757:$P$2087,P1756)+COUNTIF('TD-2R-EC'!$P$11:$P$612,P1756))","v":""},""]
[null,null,null,null,null,null,null,"",null,"","","","","","","",{"$f":"IF(P1757=\"\",\"\",COUNTIF(P1758:$P$2087,P1757)+COUNTIF('TD-2R-EC'!$P$11:$P$612,P1757))","v":""},""]
[null,null,null,null,null,null,null,"",null,"","","","","","","",{"$f":"IF(P1758=\"\",\"\",COUNTIF(P1759:$P$2087,P1758)+COUNTIF('TD-2R-EC'!$P$11:$P$612,P1758))","v":""},""]
[null,null,null,null,null,null,null,"",null,"","","","","","","",{"$f":"IF(P1759=\"\",\"\",COUNTIF(P1760:$P$2087,P1759)+COUNTIF('TD-2R-EC'!$P$11:$P$612,P1759))","v":""},""]
[null,null,null,null,null,null,null,"",null,"","","","","","","",{"$f":"IF(P1760=\"\",\"\",COUNTIF(P1761:$P$2087,P1760)+COUNTIF('TD-2R-EC'!$P$11:$P$612,P1760))","v":""},""]
[null,null,null,null,null,null,null,"",null,"","","","","","","",{"$f":"IF(P1761=\"\",\"\",COUNTIF(P1762:$P$2087,P1761)+COUNTIF('TD-2R-EC'!$P$11:$P$612,P1761))","v":""},""]
[null,null,null,null,null,null,null,"",null,"","","","","","","",{"$f":"IF(P1762=\"\",\"\",COUNTIF(P1763:$P$2087,P1762)+COUNTIF('TD-2R-EC'!$P$11:$P$612,P1762))","v":""},""]
[null,null,null,null,null,null,null,"",null,"","","","","","","",{"$f":"IF(P1763=\"\",\"\",COUNTIF(P1764:$P$2087,P1763)+COUNTIF('TD-2R-EC'!$P$11:$P$612,P1763))","v":""},""]
[null,null,null,null,null,null,null,"",null,"","","","","","","",{"$f":"IF(P1764=\"\",\"\",COUNTIF(P1765:$P$2087,P1764)+COUNTIF('TD-2R-EC'!$P$11:$P$612,P1764))","v":""},""]
[null,null,null,null,null,null,null,"",null,"","","","","","","",{"$f":"IF(P1765=\"\",\"\",COUNTIF(P1766:$P$2087,P1765)+COUNTIF('TD-2R-EC'!$P$11:$P$612,P1765))","v":""},""]
[null,null,null,null,null,null,null,"",null,"","","","","","","",{"$f":"IF(P1766=\"\",\"\",COUNTIF(P1767:$P$2087,P1766)+COUNTIF('TD-2R-EC'!$P$11:$P$612,P1766))","v":""},""]
[null,null,null,null,null,null,null,"",null,"","","","","","","",{"$f":"IF(P1767=\"\",\"\",COUNTIF(P1768:$P$2087,P1767)+COUNTIF('TD-2R-EC'!$P$11:$P$612,P1767))","v":""},""]
[null,null,null,null,null,null,null,"",null,"","","","","","","",{"$f":"IF(P1768=\"\",\"\",COUNTIF(P1769:$P$2087,P1768)+COUNTIF('TD-2R-EC'!$P$11:$P$612,P1768))","v":""},""]
[null,null,null,null,null,null,null,"",null,"","","","","","","",{"$f":"IF(P1769=\"\",\"\",COUNTIF(P1770:$P$2087,P1769)+COUNTIF('TD-2R-EC'!$P$11:$P$612,P1769))","v":""},""]
[null,null,null,null,null,null,null,"",null,"","","","","","","",{"$f":"IF(P1770=\"\",\"\",COUNTIF(P1771:$P$2087,P1770)+COUNTIF('TD-2R-EC'!$P$11:$P$612,P1770))","v":""},""]
[null,null,null,null,null,null,null,"",null,"","","","","","","",{"$f":"IF(P1771=\"\",\"\",COUNTIF(P1772:$P$2087,P1771)+COUNTIF('TD-2R-EC'!$P$11:$P$612,P1771))","v":""},""]
[null,null,null,null,null,null,null,"",null,"","","","","","","",{"$f":"IF(P1772=\"\",\"\",COUNTIF(P1773:$P$2087,P1772)+COUNTIF('TD-2R-EC'!$P$11:$P$612,P1772))","v":""},""]
[null,null,null,null,null,null,null,"",null,"","","","","","","",{"$f":"IF(P1773=\"\",\"\",COUNTIF(P1774:$P$2087,P1773)+COUNTIF('TD-2R-EC'!$P$11:$P$612,P1773))","v":""},""]
[null,null,null,null,null,null,null,"",null,"","","","","","","",{"$f":"IF(P1774=\"\",\"\",COUNTIF(P1775:$P$2087,P1774)+COUNTIF('TD-2R-EC'!$P$11:$P$612,P1774))","v":""},""]
[null,null,null,null,null,null,null,"",null,"","","","","","","",{"$f":"IF(P1775=\"\",\"\",COUNTIF(P1776:$P$2087,P1775)+COUNTIF('TD-2R-EC'!$P$11:$P$612,P1775))","v":""},""]
[null,null,null,null,null,null,null,"",null,"","","","","","","",{"$f":"IF(P1776=\"\",\"\",COUNTIF(P1777:$P$2087,P1776)+COUNTIF('TD-2R-EC'!$P$11:$P$612,P1776))","v":""},""]
[null,null,null,null,null,null,null,"",null,"","","","","","","",{"$f":"IF(P1777=\"\",\"\",COUNTIF(P1778:$P$2087,P1777)+COUNTIF('TD-2R-EC'!$P$11:$P$612,P1777))","v":""},""]
[null,null,null,null,null,null,null,"",null,"","","","","","","",{"$f":"IF(P1778=\"\",\"\",COUNTIF(P1779:$P$2087,P1778)+COUNTIF('TD-2R-EC'!$P$11:$P$612,P1778))","v":""},""]
[null,null,null,null,null,null,null,"",null,"","","","","","","",{"$f":"IF(P1779=\"\",\"\",COUNTIF(P1780:$P$2087,P1779)+COUNTIF('TD-2R-EC'!$P$11:$P$612,P1779))","v":""},""]
[null,null,null,null,null,null,null,"",null,"","","","","","","",{"$f":"IF(P1780=\"\",\"\",COUNTIF(P1781:$P$2087,P1780)+COUNTIF('TD-2R-EC'!$P$11:$P$612,P1780))","v":""},""]
[null,null,null,null,null,null,null,"",null,"","","","","","","",{"$f":"IF(P1781=\"\",\"\",COUNTIF(P1782:$P$2087,P1781)+COUNTIF('TD-2R-EC'!$P$11:$P$612,P1781))","v":""},""]
[null,null,null,null,null,null,null,"",null,"","","","","","","",{"$f":"IF(P1782=\"\",\"\",COUNTIF(P1783:$P$2087,P1782)+COUNTIF('TD-2R-EC'!$P$11:$P$612,P1782))","v":""},""]
[null,null,null,null,null,null,null,"",null,"","","","","","","",{"$f":"IF(P1783=\"\",\"\",COUNTIF(P1784:$P$2087,P1783)+COUNTIF('TD-2R-EC'!$P$11:$P$612,P1783))","v":""},""]
[null,null,null,null,null,null,null,"",null,"","","","","","","",{"$f":"IF(P1784=\"\",\"\",COUNTIF(P1785:$P$2087,P1784)+COUNTIF('TD-2R-EC'!$P$11:$P$612,P1784))","v":""},""]
[null,null,null,null,null,null,null,"",null,"","","","","","","",{"$f":"IF(P1785=\"\",\"\",COUNTIF(P1786:$P$2087,P1785)+COUNTIF('TD-2R-EC'!$P$11:$P$612,P1785))","v":""},""]
[null,null,null,null,null,null,null,"",null,"","","","","","","",{"$f":"IF(P1786=\"\",\"\",COUNTIF(P1787:$P$2087,P1786)+COUNTIF('TD-2R-EC'!$P$11:$P$612,P1786))","v":""},""]
[null,null,null,null,null,null,null,"",null,"","","","","","","",{"$f":"IF(P1787=\"\",\"\",COUNTIF(P1788:$P$2087,P1787)+COUNTIF('TD-2R-EC'!$P$11:$P$612,P1787))","v":""},""]
[null,null,null,null,null,null,null,"",null,"","","","","","","",{"$f":"IF(P1788=\"\",\"\",COUNTIF(P1789:$P$2087,P1788)+COUNTIF('TD-2R-EC'!$P$11:$P$612,P1788))","v":""},""]
[null,null,null,null,null,null,null,"",null,"","","","","","",{"$f":"A1789&D1789&E1789","v":""},{"$f":"IF(P1789=\"\",\"\",COUNTIF(P1790:$P$2087,P1789)+COUNTIF('TD-2R-EC'!$P$11:$P$612,P1789))","v":""},""]
[null,null,null,null,null,null,null,"",null,"",{"$f":"IF(NOT(ISBLANK(G1790)),IF(A1790>0,10*G1790,\"\"),\"\")","v":""},{"$f":"IF(NOT(ISBLANK(G1790)),IF(A1790> 0,10*SUM(A1790*G1790),\"\"),\"\")","v":""},{"$f":"IF(NOT(ISBLANK(H1790)),IF(A1790> 0,G1790/2*10,\"\"),\"\")","v":""},"","","",{"$f":"IF(P1790=\"\",\"\",COUNTIF(P1791:$P$2087,P1790)+COUNTIF('TD-2R-EC'!$P$11:$P$612,P1790))","v":""},""]
[null,null,null,null,null,null,null,"",null,"","","","","","","",{"$f":"IF(P1791=\"\",\"\",COUNTIF(P1792:$P$2087,P1791)+COUNTIF('TD-2R-EC'!$P$11:$P$612,P1791))","v":""},""]
[null,null,null,null,null,null,null,"",null,"","","","","","","",{"$f":"IF(P1792=\"\",\"\",COUNTIF(P1793:$P$2087,P1792)+COUNTIF('TD-2R-EC'!$P$11:$P$612,P1792))","v":""},""]
[null,null,null,null,null,null,null,"",null,"","","","","","","",{"$f":"IF(P1793=\"\",\"\",COUNTIF(P1794:$P$2087,P1793)+COUNTIF('TD-2R-EC'!$P$11:$P$612,P1793))","v":""},""]
[null,null,null,null,null,null,null,"",null,"","","","","","","",{"$f":"IF(P1794=\"\",\"\",COUNTIF(P1795:$P$2087,P1794)+COUNTIF('TD-2R-EC'!$P$11:$P$612,P1794))","v":""},""]
[null,null,null,null,null,null,null,"",null,"","","","","","","",{"$f":"IF(P1795=\"\",\"\",COUNTIF(P1796:$P$2087,P1795)+COUNTIF('TD-2R-EC'!$P$11:$P$612,P1795))","v":""},""]
[null,null,null,null,null,null,null,"",null,"","","","","","","",{"$f":"IF(P1796=\"\",\"\",COUNTIF(P1797:$P$2087,P1796)+COUNTIF('TD-2R-EC'!$P$11:$P$612,P1796))","v":""},""]
[null,null,null,null,null,null,null,"",null,"","","","","","","",{"$f":"IF(P1797=\"\",\"\",COUNTIF(P1798:$P$2087,P1797)+COUNTIF('TD-2R-EC'!$P$11:$P$612,P1797))","v":""},""]
[null,null,null,null,null,null,null,"",null,"","","","","","","",{"$f":"IF(P1798=\"\",\"\",COUNTIF(P1799:$P$2087,P1798)+COUNTIF('TD-2R-EC'!$P$11:$P$612,P1798))","v":""},""]
[null,null,null,null,null,null,null,"",null,"","","","","","","",{"$f":"IF(P1799=\"\",\"\",COUNTIF(P1800:$P$2087,P1799)+COUNTIF('TD-2R-EC'!$P$11:$P$612,P1799))","v":""},""]
[null,null,null,null,null,null,null,"",null,"","","","","","","",{"$f":"IF(P1800=\"\",\"\",COUNTIF(P1801:$P$2087,P1800)+COUNTIF('TD-2R-EC'!$P$11:$P$612,P1800))","v":""},""]
[null,null,null,null,null,null,null,"",null,"","","","","","","",{"$f":"IF(P1801=\"\",\"\",COUNTIF(P1802:$P$2087,P1801)+COUNTIF('TD-2R-EC'!$P$11:$P$612,P1801))","v":""},""]
[null,null,null,null,null,null,null,"",null,"","","","","","","",{"$f":"IF(P1802=\"\",\"\",COUNTIF(P1803:$P$2087,P1802)+COUNTIF('TD-2R-EC'!$P$11:$P$612,P1802))","v":""},""]
[null,null,null,null,null,null,null,"",null,"","","","","","","",{"$f":"IF(P1803=\"\",\"\",COUNTIF(P1804:$P$2087,P1803)+COUNTIF('TD-2R-EC'!$P$11:$P$612,P1803))","v":""},""]
[null,null,null,null,null,null,null,"",null,"","","","","","","",{"$f":"IF(P1804=\"\",\"\",COUNTIF(P1805:$P$2087,P1804)+COUNTIF('TD-2R-EC'!$P$11:$P$612,P1804))","v":""},""]
[null,null,null,null,null,null,null,"",null,"","","","","","","",{"$f":"IF(P1805=\"\",\"\",COUNTIF(P1806:$P$2087,P1805)+COUNTIF('TD-2R-EC'!$P$11:$P$612,P1805))","v":""},""]
[null,null,null,null,null,null,null,{"$f":"IF(ISBLANK(F1806),\"\",SUM(G1806*60)/F1806)","v":""},null,"","","","","","","",{"$f":"IF(P1806=\"\",\"\",COUNTIF(P1807:$P$2087,P1806)+COUNTIF('TD-2R-EC'!$P$11:$P$612,P1806))","v":""},""]
[null,null,null,null,null,null,null,"",null,{"$f":"IF(NOT(ISBLANK(G1807)),G1807*I1807,\"\")","v":""},"","","",{"$f":"IF(NOT(ISBLANK(G1807)),SUM(K1807:M1807),\"\")","v":""},{"$f":"IF(NOT(ISBLANK(I1807)),I1807*N1807,\"\")","v":""},"",{"$f":"IF(P1807=\"\",\"\",COUNTIF(P1808:$P$2087,P1807)+COUNTIF('TD-2R-EC'!$P$11:$P$612,P1807))","v":""},{"$f":"IF(Q1807>0,RIGHT(P1807,2),\"\")","v":""}]
[null,null,null,null,null,null,null,"",null,"","","","","","","",{"$f":"IF(P1808=\"\",\"\",COUNTIF(P1809:$P$2087,P1808)+COUNTIF('TD-2R-EC'!$P$11:$P$612,P1808))","v":""},""]
[null,null,null,null,null,null,null,"",null,"","","","","","","",{"$f":"IF(P1809=\"\",\"\",COUNTIF(P1810:$P$2087,P1809)+COUNTIF('TD-2R-EC'!$P$11:$P$612,P1809))","v":""},""]
[null,null,null,null,null,null,null,"",null,"","","","","","","",{"$f":"IF(P1810=\"\",\"\",COUNTIF(P1811:$P$2087,P1810)+COUNTIF('TD-2R-EC'!$P$11:$P$612,P1810))","v":""},""]
[null,null,null,null,null,null,null,"",null,"","","","","","","",{"$f":"IF(P1811=\"\",\"\",COUNTIF(P1812:$P$2087,P1811)+COUNTIF('TD-2R-EC'!$P$11:$P$612,P1811))","v":""},""]
[null,null,null,null,null,null,null,"",null,"","","","","","","",{"$f":"IF(P1812=\"\",\"\",COUNTIF(P1813:$P$2087,P1812)+COUNTIF('TD-2R-EC'!$P$11:$P$612,P1812))","v":""},""]
[null,null,null,null,null,null,null,"",null,"","","","","","","",{"$f":"IF(P1813=\"\",\"\",COUNTIF(P1814:$P$2087,P1813)+COUNTIF('TD-2R-EC'!$P$11:$P$612,P1813))","v":""},""]
[null,null,null,null,null,null,null,"",null,"","","","","","","",{"$f":"IF(P1814=\"\",\"\",COUNTIF(P1815:$P$2087,P1814)+COUNTIF('TD-2R-EC'!$P$11:$P$612,P1814))","v":""},""]
[null,null,null,null,null,null,null,"",null,"","","","","","","",{"$f":"IF(P1815=\"\",\"\",COUNTIF(P1816:$P$2087,P1815)+COUNTIF('TD-2R-EC'!$P$11:$P$612,P1815))","v":""},""]
[null,null,null,null,null,null,null,"",null,"","","","","","","",{"$f":"IF(P1816=\"\",\"\",COUNTIF(P1817:$P$2087,P1816)+COUNTIF('TD-2R-EC'!$P$11:$P$612,P1816))","v":""},""]
[null,null,null,null,null,null,null,"",null,"","","","","","","",{"$f":"IF(P1817=\"\",\"\",COUNTIF(P1818:$P$2087,P1817)+COUNTIF('TD-2R-EC'!$P$11:$P$612,P1817))","v":""},""]
[null,null,null,null,null,null,null,"",null,"","","","","","","",{"$f":"IF(P1818=\"\",\"\",COUNTIF(P1819:$P$2087,P1818)+COUNTIF('TD-2R-EC'!$P$11:$P$612,P1818))","v":""},""]
[null,null,null,null,null,null,null,"",null,"","","","","","","",{"$f":"IF(P1819=\"\",\"\",COUNTIF(P1820:$P$2087,P1819)+COUNTIF('TD-2R-EC'!$P$11:$P$612,P1819))","v":""},""]
[null,null,null,null,null,null,null,"",null,"","","","","","","",{"$f":"IF(P1820=\"\",\"\",COUNTIF(P1821:$P$2087,P1820)+COUNTIF('TD-2R-EC'!$P$11:$P$612,P1820))","v":""},""]
[null,null,null,null,null,null,null,"",null,"","","","","","","",{"$f":"IF(P1821=\"\",\"\",COUNTIF(P1822:$P$2087,P1821)+COUNTIF('TD-2R-EC'!$P$11:$P$612,P1821))","v":""},""]
[null,null,null,null,null,null,null,"",null,"","","","","","","",{"$f":"IF(P1822=\"\",\"\",COUNTIF(P1823:$P$2087,P1822)+COUNTIF('TD-2R-EC'!$P$11:$P$612,P1822))","v":""},""]
[null,null,null,null,null,null,null,"",null,"","","","","","","",{"$f":"IF(P1823=\"\",\"\",COUNTIF(P1824:$P$2087,P1823)+COUNTIF('TD-2R-EC'!$P$11:$P$612,P1823))","v":""},""]
[null,null,null,null,null,null,null,"",null,"","","","","","","",{"$f":"IF(P1824=\"\",\"\",COUNTIF(P1825:$P$2087,P1824)+COUNTIF('TD-2R-EC'!$P$11:$P$612,P1824))","v":""},""]
[null,null,null,null,null,null,null,"",null,"","","","","","","",{"$f":"IF(P1825=\"\",\"\",COUNTIF(P1826:$P$2087,P1825)+COUNTIF('TD-2R-EC'!$P$11:$P$612,P1825))","v":""},""]
[null,null,null,null,null,null,null,"",null,"","","","","","","",{"$f":"IF(P1826=\"\",\"\",COUNTIF(P1827:$P$2087,P1826)+COUNTIF('TD-2R-EC'!$P$11:$P$612,P1826))","v":""},""]
[null,null,null,null,null,null,null,"",null,"","","","","","","",{"$f":"IF(P1827=\"\",\"\",COUNTIF(P1828:$P$2087,P1827)+COUNTIF('TD-2R-EC'!$P$11:$P$612,P1827))","v":""},""]
[null,null,null,null,null,null,null,"",null,"","","","","","","",{"$f":"IF(P1828=\"\",\"\",COUNTIF(P1829:$P$2087,P1828)+COUNTIF('TD-2R-EC'!$P$11:$P$612,P1828))","v":""},""]
[null,null,null,null,null,null,null,"",null,"","","","","","","",{"$f":"IF(P1829=\"\",\"\",COUNTIF(P1830:$P$2087,P1829)+COUNTIF('TD-2R-EC'!$P$11:$P$612,P1829))","v":""},""]
[null,null,null,null,null,null,null,"",null,"","","","","","","",{"$f":"IF(P1830=\"\",\"\",COUNTIF(P1831:$P$2087,P1830)+COUNTIF('TD-2R-EC'!$P$11:$P$612,P1830))","v":""},""]
[null,null,null,null,null,null,null,"",null,"","","","","","","",{"$f":"IF(P1831=\"\",\"\",COUNTIF(P1832:$P$2087,P1831)+COUNTIF('TD-2R-EC'!$P$11:$P$612,P1831))","v":""},""]
[null,null,null,null,null,null,null,"",null,"","","","","","","",{"$f":"IF(P1832=\"\",\"\",COUNTIF(P1833:$P$2087,P1832)+COUNTIF('TD-2R-EC'!$P$11:$P$612,P1832))","v":""},""]
[null,null,null,null,null,null,null,"",null,"","","","","","","",{"$f":"IF(P1833=\"\",\"\",COUNTIF(P1834:$P$2087,P1833)+COUNTIF('TD-2R-EC'!$P$11:$P$612,P1833))","v":""},""]
[null,null,null,null,null,null,null,"",null,"","","","","","","",{"$f":"IF(P1834=\"\",\"\",COUNTIF(P1835:$P$2087,P1834)+COUNTIF('TD-2R-EC'!$P$11:$P$612,P1834))","v":""},""]
[null,null,null,null,null,null,null,"",null,"","","","","","","",{"$f":"IF(P1835=\"\",\"\",COUNTIF(P1836:$P$2087,P1835)+COUNTIF('TD-2R-EC'!$P$11:$P$612,P1835))","v":""},""]
[null,null,null,null,null,null,null,"",null,"","","","","","","",{"$f":"IF(P1836=\"\",\"\",COUNTIF(P1837:$P$2087,P1836)+COUNTIF('TD-2R-EC'!$P$11:$P$612,P1836))","v":""},""]
[null,null,null,null,null,null,null,"",null,"","","","","","","",{"$f":"IF(P1837=\"\",\"\",COUNTIF(P1838:$P$2087,P1837)+COUNTIF('TD-2R-EC'!$P$11:$P$612,P1837))","v":""},""]
[null,null,null,null,null,null,null,"",null,"","","","","","","",{"$f":"IF(P1838=\"\",\"\",COUNTIF(P1839:$P$2087,P1838)+COUNTIF('TD-2R-EC'!$P$11:$P$612,P1838))","v":""},""]
[null,null,null,null,null,null,null,"",null,"","","","","","","",{"$f":"IF(P1839=\"\",\"\",COUNTIF(P1840:$P$2087,P1839)+COUNTIF('TD-2R-EC'!$P$11:$P$612,P1839))","v":""},""]
[null,null,null,null,null,null,null,"",null,"","","","","","","",{"$f":"IF(P1840=\"\",\"\",COUNTIF(P1841:$P$2087,P1840)+COUNTIF('TD-2R-EC'!$P$11:$P$612,P1840))","v":""},""]
[null,null,null,null,null,null,null,"",null,"","","","","","","",{"$f":"IF(P1841=\"\",\"\",COUNTIF(P1842:$P$2087,P1841)+COUNTIF('TD-2R-EC'!$P$11:$P$612,P1841))","v":""},""]
[null,null,null,null,null,null,null,"",null,"","","","","","","",{"$f":"IF(P1842=\"\",\"\",COUNTIF(P1843:$P$2087,P1842)+COUNTIF('TD-2R-EC'!$P$11:$P$612,P1842))","v":""},""]
[null,null,null,null,null,null,null,"",null,"","","","","","","",{"$f":"IF(P1843=\"\",\"\",COUNTIF(P1844:$P$2087,P1843)+COUNTIF('TD-2R-EC'!$P$11:$P$612,P1843))","v":""},""]
[null,null,null,null,null,null,null,"",null,"","","","","","","",{"$f":"IF(P1844=\"\",\"\",COUNTIF(P1845:$P$2087,P1844)+COUNTIF('TD-2R-EC'!$P$11:$P$612,P1844))","v":""},""]
[null,null,null,null,null,null,null,"",null,"","","","","","","",{"$f":"IF(P1845=\"\",\"\",COUNTIF(P1846:$P$2087,P1845)+COUNTIF('TD-2R-EC'!$P$11:$P$612,P1845))","v":""},""]
[null,null,null,null,null,null,null,"",null,"","","","","","","",{"$f":"IF(P1846=\"\",\"\",COUNTIF(P1847:$P$2087,P1846)+COUNTIF('TD-2R-EC'!$P$11:$P$612,P1846))","v":""},""]
[null,null,null,null,null,null,null,"",null,"","","","","","","",{"$f":"IF(P1847=\"\",\"\",COUNTIF(P1848:$P$2087,P1847)+COUNTIF('TD-2R-EC'!$P$11:$P$612,P1847))","v":""},""]
[null,null,null,null,null,null,null,"",null,"","","","","","","",{"$f":"IF(P1848=\"\",\"\",COUNTIF(P1849:$P$2087,P1848)+COUNTIF('TD-2R-EC'!$P$11:$P$612,P1848))","v":""},""]
[null,null,null,null,null,null,null,"",null,"","","","","","","",{"$f":"IF(P1849=\"\",\"\",COUNTIF(P1850:$P$2087,P1849)+COUNTIF('TD-2R-EC'!$P$11:$P$612,P1849))","v":""},""]
[null,null,null,null,null,null,null,"",null,"","","","","","","",{"$f":"IF(P1850=\"\",\"\",COUNTIF(P1851:$P$2087,P1850)+COUNTIF('TD-2R-EC'!$P$11:$P$612,P1850))","v":""},""]
[null,null,null,null,null,null,null,"",null,"","","","","","","",{"$f":"IF(P1851=\"\",\"\",COUNTIF(P1852:$P$2087,P1851)+COUNTIF('TD-2R-EC'!$P$11:$P$612,P1851))","v":""},""]
[null,null,null,null,null,null,null,"",null,"","","","","","","",{"$f":"IF(P1852=\"\",\"\",COUNTIF(P1853:$P$2087,P1852)+COUNTIF('TD-2R-EC'!$P$11:$P$612,P1852))","v":""},""]
[null,null,null,null,null,null,null,"",null,"","","","","","",{"$f":"A1853&D1853&E1853","v":""},{"$f":"IF(P1853=\"\",\"\",COUNTIF(P1854:$P$2087,P1853)+COUNTIF('TD-2R-EC'!$P$11:$P$612,P1853))","v":""},""]
[null,null,null,null,null,null,null,"",null,"",{"$f":"IF(NOT(ISBLANK(G1854)),IF(A1854>0,10*G1854,\"\"),\"\")","v":""},{"$f":"IF(NOT(ISBLANK(G1854)),IF(A1854> 0,10*SUM(A1854*G1854),\"\"),\"\")","v":""},{"$f":"IF(NOT(ISBLANK(H1854)),IF(A1854> 0,G1854/2*10,\"\"),\"\")","v":""},"","","",{"$f":"IF(P1854=\"\",\"\",COUNTIF(P1855:$P$2087,P1854)+COUNTIF('TD-2R-EC'!$P$11:$P$612,P1854))","v":""},""]
[null,null,null,null,null,null,null,"",null,"","","","","","","",{"$f":"IF(P1855=\"\",\"\",COUNTIF(P1856:$P$2087,P1855)+COUNTIF('TD-2R-EC'!$P$11:$P$612,P1855))","v":""},""]
[null,null,null,null,null,null,null,"",null,"","","","","","","",{"$f":"IF(P1856=\"\",\"\",COUNTIF(P1857:$P$2087,P1856)+COUNTIF('TD-2R-EC'!$P$11:$P$612,P1856))","v":""},""]
[null,null,null,null,null,null,null,"",null,"","","","","","","",{"$f":"IF(P1857=\"\",\"\",COUNTIF(P1858:$P$2087,P1857)+COUNTIF('TD-2R-EC'!$P$11:$P$612,P1857))","v":""},""]
[null,null,null,null,null,null,null,"",null,"","","","","","","",{"$f":"IF(P1858=\"\",\"\",COUNTIF(P1859:$P$2087,P1858)+COUNTIF('TD-2R-EC'!$P$11:$P$612,P1858))","v":""},""]
[null,null,null,null,null,null,null,"",null,"","","","","","","",{"$f":"IF(P1859=\"\",\"\",COUNTIF(P1860:$P$2087,P1859)+COUNTIF('TD-2R-EC'!$P$11:$P$612,P1859))","v":""},""]
[null,null,null,null,null,null,null,"",null,"","","","","","","",{"$f":"IF(P1860=\"\",\"\",COUNTIF(P1861:$P$2087,P1860)+COUNTIF('TD-2R-EC'!$P$11:$P$612,P1860))","v":""},""]
[null,null,null,null,null,null,null,"",null,"","","","","","","",{"$f":"IF(P1861=\"\",\"\",COUNTIF(P1862:$P$2087,P1861)+COUNTIF('TD-2R-EC'!$P$11:$P$612,P1861))","v":""},""]
[null,null,null,null,null,null,null,"",null,"","","","","","","",{"$f":"IF(P1862=\"\",\"\",COUNTIF(P1863:$P$2087,P1862)+COUNTIF('TD-2R-EC'!$P$11:$P$612,P1862))","v":""},""]
[null,null,null,null,null,null,null,"",null,"","","","","","","",{"$f":"IF(P1863=\"\",\"\",COUNTIF(P1864:$P$2087,P1863)+COUNTIF('TD-2R-EC'!$P$11:$P$612,P1863))","v":""},""]
[null,null,null,null,null,null,null,"",null,"","","","","","","",{"$f":"IF(P1864=\"\",\"\",COUNTIF(P1865:$P$2087,P1864)+COUNTIF('TD-2R-EC'!$P$11:$P$612,P1864))","v":""},""]
[null,null,null,null,null,null,null,"",null,"","","","","","","",{"$f":"IF(P1865=\"\",\"\",COUNTIF(P1866:$P$2087,P1865)+COUNTIF('TD-2R-EC'!$P$11:$P$612,P1865))","v":""},""]
[null,null,null,null,null,null,null,"",null,"","","","","","","",{"$f":"IF(P1866=\"\",\"\",COUNTIF(P1867:$P$2087,P1866)+COUNTIF('TD-2R-EC'!$P$11:$P$612,P1866))","v":""},""]
[null,null,null,null,null,null,null,"",null,"","","","","","","",{"$f":"IF(P1867=\"\",\"\",COUNTIF(P1868:$P$2087,P1867)+COUNTIF('TD-2R-EC'!$P$11:$P$612,P1867))","v":""},""]
[null,null,null,null,null,null,null,"",null,"","","","","","","",{"$f":"IF(P1868=\"\",\"\",COUNTIF(P1869:$P$2087,P1868)+COUNTIF('TD-2R-EC'!$P$11:$P$612,P1868))","v":""},""]
[null,null,null,null,null,null,null,"",null,"","","","","","","",{"$f":"IF(P1869=\"\",\"\",COUNTIF(P1870:$P$2087,P1869)+COUNTIF('TD-2R-EC'!$P$11:$P$612,P1869))","v":""},""]
[null,null,null,null,null,null,null,{"$f":"IF(ISBLANK(F1870),\"\",SUM(G1870*60)/F1870)","v":""},null,"","","","","","","",{"$f":"IF(P1870=\"\",\"\",COUNTIF(P1871:$P$2087,P1870)+COUNTIF('TD-2R-EC'!$P$11:$P$612,P1870))","v":""},""]
[null,null,null,null,null,null,null,"",null,{"$f":"IF(NOT(ISBLANK(G1871)),G1871*I1871,\"\")","v":""},"","","",{"$f":"IF(NOT(ISBLANK(G1871)),SUM(K1871:M1871),\"\")","v":""},{"$f":"IF(NOT(ISBLANK(I1871)),I1871*N1871,\"\")","v":""},"",{"$f":"IF(P1871=\"\",\"\",COUNTIF(P1872:$P$2087,P1871)+COUNTIF('TD-2R-EC'!$P$11:$P$612,P1871))","v":""},{"$f":"IF(Q1871>0,RIGHT(P1871,2),\"\")","v":""}]
[null,null,null,null,null,null,null,"",null,"","","","","","","",{"$f":"IF(P1872=\"\",\"\",COUNTIF(P1873:$P$2087,P1872)+COUNTIF('TD-2R-EC'!$P$11:$P$612,P1872))","v":""},""]
[null,null,null,null,null,null,null,"",null,"","","","","","","",{"$f":"IF(P1873=\"\",\"\",COUNTIF(P1874:$P$2087,P1873)+COUNTIF('TD-2R-EC'!$P$11:$P$612,P1873))","v":""},""]
[null,null,null,null,null,null,null,"",null,"","","","","","","",{"$f":"IF(P1874=\"\",\"\",COUNTIF(P1875:$P$2087,P1874)+COUNTIF('TD-2R-EC'!$P$11:$P$612,P1874))","v":""},""]
[null,null,null,null,null,null,null,"",null,"","","","","","","",{"$f":"IF(P1875=\"\",\"\",COUNTIF(P1876:$P$2087,P1875)+COUNTIF('TD-2R-EC'!$P$11:$P$612,P1875))","v":""},""]
[null,null,null,null,null,null,null,"",null,"","","","","","","",{"$f":"IF(P1876=\"\",\"\",COUNTIF(P1877:$P$2087,P1876)+COUNTIF('TD-2R-EC'!$P$11:$P$612,P1876))","v":""},""]
[null,null,null,null,null,null,null,"",null,"","","","","","","",{"$f":"IF(P1877=\"\",\"\",COUNTIF(P1878:$P$2087,P1877)+COUNTIF('TD-2R-EC'!$P$11:$P$612,P1877))","v":""},""]
[null,null,null,null,null,null,null,"",null,"","","","","","","",{"$f":"IF(P1878=\"\",\"\",COUNTIF(P1879:$P$2087,P1878)+COUNTIF('TD-2R-EC'!$P$11:$P$612,P1878))","v":""},""]
[null,null,null,null,null,null,null,"",null,"","","","","","","",{"$f":"IF(P1879=\"\",\"\",COUNTIF(P1880:$P$2087,P1879)+COUNTIF('TD-2R-EC'!$P$11:$P$612,P1879))","v":""},""]
[null,null,null,null,null,null,null,"",null,"","","","","","","",{"$f":"IF(P1880=\"\",\"\",COUNTIF(P1881:$P$2087,P1880)+COUNTIF('TD-2R-EC'!$P$11:$P$612,P1880))","v":""},""]
[null,null,null,null,null,null,null,"",null,"","","","","","","",{"$f":"IF(P1881=\"\",\"\",COUNTIF(P1882:$P$2087,P1881)+COUNTIF('TD-2R-EC'!$P$11:$P$612,P1881))","v":""},""]
[null,null,null,null,null,null,null,"",null,"","","","","","","",{"$f":"IF(P1882=\"\",\"\",COUNTIF(P1883:$P$2087,P1882)+COUNTIF('TD-2R-EC'!$P$11:$P$612,P1882))","v":""},""]
[null,null,null,null,null,null,null,"",null,"","","","","","","",{"$f":"IF(P1883=\"\",\"\",COUNTIF(P1884:$P$2087,P1883)+COUNTIF('TD-2R-EC'!$P$11:$P$612,P1883))","v":""},""]
[null,null,null,null,null,null,null,"",null,"","","","","","","",{"$f":"IF(P1884=\"\",\"\",COUNTIF(P1885:$P$2087,P1884)+COUNTIF('TD-2R-EC'!$P$11:$P$612,P1884))","v":""},""]
[null,null,null,null,null,null,null,"",null,"","","","","","","",{"$f":"IF(P1885=\"\",\"\",COUNTIF(P1886:$P$2087,P1885)+COUNTIF('TD-2R-EC'!$P$11:$P$612,P1885))","v":""},""]
[null,null,null,null,null,null,null,"",null,"","","","","","","",{"$f":"IF(P1886=\"\",\"\",COUNTIF(P1887:$P$2087,P1886)+COUNTIF('TD-2R-EC'!$P$11:$P$612,P1886))","v":""},""]
[null,null,null,null,null,null,null,"",null,"","","","","","","",{"$f":"IF(P1887=\"\",\"\",COUNTIF(P1888:$P$2087,P1887)+COUNTIF('TD-2R-EC'!$P$11:$P$612,P1887))","v":""},""]
[null,null,null,null,null,null,null,"",null,"","","","","","","",{"$f":"IF(P1888=\"\",\"\",COUNTIF(P1889:$P$2087,P1888)+COUNTIF('TD-2R-EC'!$P$11:$P$612,P1888))","v":""},""]
[null,null,null,null,null,null,null,"",null,"","","","","","","",{"$f":"IF(P1889=\"\",\"\",COUNTIF(P1890:$P$2087,P1889)+COUNTIF('TD-2R-EC'!$P$11:$P$612,P1889))","v":""},""]
[null,null,null,null,null,null,null,"",null,"","","","","","","",{"$f":"IF(P1890=\"\",\"\",COUNTIF(P1891:$P$2087,P1890)+COUNTIF('TD-2R-EC'!$P$11:$P$612,P1890))","v":""},""]
[null,null,null,null,null,null,null,"",null,"","","","","","","",{"$f":"IF(P1891=\"\",\"\",COUNTIF(P1892:$P$2087,P1891)+COUNTIF('TD-2R-EC'!$P$11:$P$612,P1891))","v":""},""]
[null,null,null,null,null,null,null,"",null,"","","","","","","",{"$f":"IF(P1892=\"\",\"\",COUNTIF(P1893:$P$2087,P1892)+COUNTIF('TD-2R-EC'!$P$11:$P$612,P1892))","v":""},""]
[null,null,null,null,null,null,null,"",null,"","","","","","","",{"$f":"IF(P1893=\"\",\"\",COUNTIF(P1894:$P$2087,P1893)+COUNTIF('TD-2R-EC'!$P$11:$P$612,P1893))","v":""},""]
[null,null,null,null,null,null,null,"",null,"","","","","","","",{"$f":"IF(P1894=\"\",\"\",COUNTIF(P1895:$P$2087,P1894)+COUNTIF('TD-2R-EC'!$P$11:$P$612,P1894))","v":""},""]
[null,null,null,null,null,null,null,"",null,"","","","","","","",{"$f":"IF(P1895=\"\",\"\",COUNTIF(P1896:$P$2087,P1895)+COUNTIF('TD-2R-EC'!$P$11:$P$612,P1895))","v":""},""]
[null,null,null,null,null,null,null,"",null,"","","","","","","",{"$f":"IF(P1896=\"\",\"\",COUNTIF(P1897:$P$2087,P1896)+COUNTIF('TD-2R-EC'!$P$11:$P$612,P1896))","v":""},""]
[null,null,null,null,null,null,null,"",null,"","","","","","","",{"$f":"IF(P1897=\"\",\"\",COUNTIF(P1898:$P$2087,P1897)+COUNTIF('TD-2R-EC'!$P$11:$P$612,P1897))","v":""},""]
[null,null,null,null,null,null,null,"",null,"","","","","","","",{"$f":"IF(P1898=\"\",\"\",COUNTIF(P1899:$P$2087,P1898)+COUNTIF('TD-2R-EC'!$P$11:$P$612,P1898))","v":""},""]
[null,null,null,null,null,null,null,"",null,"","","","","","","",{"$f":"IF(P1899=\"\",\"\",COUNTIF(P1900:$P$2087,P1899)+COUNTIF('TD-2R-EC'!$P$11:$P$612,P1899))","v":""},""]
[null,null,null,null,null,null,null,"",null,"","","","","","","",{"$f":"IF(P1900=\"\",\"\",COUNTIF(P1901:$P$2087,P1900)+COUNTIF('TD-2R-EC'!$P$11:$P$612,P1900))","v":""},""]
[null,null,null,null,null,null,null,"",null,"","","","","","","",{"$f":"IF(P1901=\"\",\"\",COUNTIF(P1902:$P$2087,P1901)+COUNTIF('TD-2R-EC'!$P$11:$P$612,P1901))","v":""},""]
[null,null,null,null,null,null,null,"",null,"","","","","","","",{"$f":"IF(P1902=\"\",\"\",COUNTIF(P1903:$P$2087,P1902)+COUNTIF('TD-2R-EC'!$P$11:$P$612,P1902))","v":""},""]
[null,null,null,null,null,null,null,"",null,"","","","","","","",{"$f":"IF(P1903=\"\",\"\",COUNTIF(P1904:$P$2087,P1903)+COUNTIF('TD-2R-EC'!$P$11:$P$612,P1903))","v":""},""]
[null,null,null,null,null,null,null,"",null,"","","","","","","",{"$f":"IF(P1904=\"\",\"\",COUNTIF(P1905:$P$2087,P1904)+COUNTIF('TD-2R-EC'!$P$11:$P$612,P1904))","v":""},""]
[null,null,null,null,null,null,null,"",null,"","","","","","","",{"$f":"IF(P1905=\"\",\"\",COUNTIF(P1906:$P$2087,P1905)+COUNTIF('TD-2R-EC'!$P$11:$P$612,P1905))","v":""},""]
[null,null,null,null,null,null,null,"",null,"","","","","","","",{"$f":"IF(P1906=\"\",\"\",COUNTIF(P1907:$P$2087,P1906)+COUNTIF('TD-2R-EC'!$P$11:$P$612,P1906))","v":""},""]
[null,null,null,null,null,null,null,"",null,"","","","","","","",{"$f":"IF(P1907=\"\",\"\",COUNTIF(P1908:$P$2087,P1907)+COUNTIF('TD-2R-EC'!$P$11:$P$612,P1907))","v":""},""]
[null,null,null,null,null,null,null,"",null,"","","","","","","",{"$f":"IF(P1908=\"\",\"\",COUNTIF(P1909:$P$2087,P1908)+COUNTIF('TD-2R-EC'!$P$11:$P$612,P1908))","v":""},""]
[null,null,null,null,null,null,null,"",null,"","","","","","","",{"$f":"IF(P1909=\"\",\"\",COUNTIF(P1910:$P$2087,P1909)+COUNTIF('TD-2R-EC'!$P$11:$P$612,P1909))","v":""},""]
[null,null,null,null,null,null,null,"",null,"","","","","","","",{"$f":"IF(P1910=\"\",\"\",COUNTIF(P1911:$P$2087,P1910)+COUNTIF('TD-2R-EC'!$P$11:$P$612,P1910))","v":""},""]
[null,null,null,null,null,null,null,"",null,"","","","","","","",{"$f":"IF(P1911=\"\",\"\",COUNTIF(P1912:$P$2087,P1911)+COUNTIF('TD-2R-EC'!$P$11:$P$612,P1911))","v":""},""]
[null,null,null,null,null,null,null,"",null,"","","","","","","",{"$f":"IF(P1912=\"\",\"\",COUNTIF(P1913:$P$2087,P1912)+COUNTIF('TD-2R-EC'!$P$11:$P$612,P1912))","v":""},""]
[null,null,null,null,null,null,null,"",null,"","","","","","","",{"$f":"IF(P1913=\"\",\"\",COUNTIF(P1914:$P$2087,P1913)+COUNTIF('TD-2R-EC'!$P$11:$P$612,P1913))","v":""},""]
[null,null,null,null,null,null,null,"",null,"","","","","","","",{"$f":"IF(P1914=\"\",\"\",COUNTIF(P1915:$P$2087,P1914)+COUNTIF('TD-2R-EC'!$P$11:$P$612,P1914))","v":""},""]
[null,null,null,null,null,null,null,"",null,"","","","","","","",{"$f":"IF(P1915=\"\",\"\",COUNTIF(P1916:$P$2087,P1915)+COUNTIF('TD-2R-EC'!$P$11:$P$612,P1915))","v":""},""]
[null,null,null,null,null,null,null,"",null,"","","","","","","",{"$f":"IF(P1916=\"\",\"\",COUNTIF(P1917:$P$2087,P1916)+COUNTIF('TD-2R-EC'!$P$11:$P$612,P1916))","v":""},""]
[null,null,null,null,null,null,null,"",null,"","","","","","",{"$f":"A1917&D1917&E1917","v":""},{"$f":"IF(P1917=\"\",\"\",COUNTIF(P1918:$P$2087,P1917)+COUNTIF('TD-2R-EC'!$P$11:$P$612,P1917))","v":""},""]
[null,null,null,null,null,null,null,"",null,"",{"$f":"IF(NOT(ISBLANK(G1918)),IF(A1918>0,10*G1918,\"\"),\"\")","v":""},{"$f":"IF(NOT(ISBLANK(G1918)),IF(A1918> 0,10*SUM(A1918*G1918),\"\"),\"\")","v":""},{"$f":"IF(NOT(ISBLANK(H1918)),IF(A1918> 0,G1918/2*10,\"\"),\"\")","v":""},"","","",{"$f":"IF(P1918=\"\",\"\",COUNTIF(P1919:$P$2087,P1918)+COUNTIF('TD-2R-EC'!$P$11:$P$612,P1918))","v":""},""]
[null,null,null,null,null,null,null,"",null,"","","","","","","",{"$f":"IF(P1919=\"\",\"\",COUNTIF(P1920:$P$2087,P1919)+COUNTIF('TD-2R-EC'!$P$11:$P$612,P1919))","v":""},""]
[null,null,null,null,null,null,null,"",null,"","","","","","","",{"$f":"IF(P1920=\"\",\"\",COUNTIF(P1921:$P$2087,P1920)+COUNTIF('TD-2R-EC'!$P$11:$P$612,P1920))","v":""},""]
[null,null,null,null,null,null,null,"",null,"","","","","","","",{"$f":"IF(P1921=\"\",\"\",COUNTIF(P1922:$P$2087,P1921)+COUNTIF('TD-2R-EC'!$P$11:$P$612,P1921))","v":""},""]
[null,null,null,null,null,null,null,"",null,"","","","","","","",{"$f":"IF(P1922=\"\",\"\",COUNTIF(P1923:$P$2087,P1922)+COUNTIF('TD-2R-EC'!$P$11:$P$612,P1922))","v":""},""]
[null,null,null,null,null,null,null,"",null,"","","","","","","",{"$f":"IF(P1923=\"\",\"\",COUNTIF(P1924:$P$2087,P1923)+COUNTIF('TD-2R-EC'!$P$11:$P$612,P1923))","v":""},""]
[null,null,null,null,null,null,null,"",null,"","","","","","","",{"$f":"IF(P1924=\"\",\"\",COUNTIF(P1925:$P$2087,P1924)+COUNTIF('TD-2R-EC'!$P$11:$P$612,P1924))","v":""},""]
[null,null,null,null,null,null,null,"",null,"","","","","","","",{"$f":"IF(P1925=\"\",\"\",COUNTIF(P1926:$P$2087,P1925)+COUNTIF('TD-2R-EC'!$P$11:$P$612,P1925))","v":""},""]
[null,null,null,null,null,null,null,"",null,"","","","","","","",{"$f":"IF(P1926=\"\",\"\",COUNTIF(P1927:$P$2087,P1926)+COUNTIF('TD-2R-EC'!$P$11:$P$612,P1926))","v":""},""]
[null,null,null,null,null,null,null,"",null,"","","","","","","",{"$f":"IF(P1927=\"\",\"\",COUNTIF(P1928:$P$2087,P1927)+COUNTIF('TD-2R-EC'!$P$11:$P$612,P1927))","v":""},""]
[null,null,null,null,null,null,null,"",null,"","","","","","","",{"$f":"IF(P1928=\"\",\"\",COUNTIF(P1929:$P$2087,P1928)+COUNTIF('TD-2R-EC'!$P$11:$P$612,P1928))","v":""},""]
[null,null,null,null,null,null,null,"",null,"","","","","","","",{"$f":"IF(P1929=\"\",\"\",COUNTIF(P1930:$P$2087,P1929)+COUNTIF('TD-2R-EC'!$P$11:$P$612,P1929))","v":""},""]
[null,null,null,null,null,null,null,"",null,"","","","","","","",{"$f":"IF(P1930=\"\",\"\",COUNTIF(P1931:$P$2087,P1930)+COUNTIF('TD-2R-EC'!$P$11:$P$612,P1930))","v":""},""]
[null,null,null,null,null,null,null,"",null,"","","","","","","",{"$f":"IF(P1931=\"\",\"\",COUNTIF(P1932:$P$2087,P1931)+COUNTIF('TD-2R-EC'!$P$11:$P$612,P1931))","v":""},""]
[null,null,null,null,null,null,null,"",null,"","","","","","","",{"$f":"IF(P1932=\"\",\"\",COUNTIF(P1933:$P$2087,P1932)+COUNTIF('TD-2R-EC'!$P$11:$P$612,P1932))","v":""},""]
[null,null,null,null,null,null,null,"",null,"","","","","","","",{"$f":"IF(P1933=\"\",\"\",COUNTIF(P1934:$P$2087,P1933)+COUNTIF('TD-2R-EC'!$P$11:$P$612,P1933))","v":""},""]
[null,null,null,null,null,null,null,{"$f":"IF(ISBLANK(F1934),\"\",SUM(G1934*60)/F1934)","v":""},null,"","","","","","","",{"$f":"IF(P1934=\"\",\"\",COUNTIF(P1935:$P$2087,P1934)+COUNTIF('TD-2R-EC'!$P$11:$P$612,P1934))","v":""},""]
[null,null,null,null,null,null,null,"",null,{"$f":"IF(NOT(ISBLANK(G1935)),G1935*I1935,\"\")","v":""},"","","",{"$f":"IF(NOT(ISBLANK(G1935)),SUM(K1935:M1935),\"\")","v":""},{"$f":"IF(NOT(ISBLANK(I1935)),I1935*N1935,\"\")","v":""},"",{"$f":"IF(P1935=\"\",\"\",COUNTIF(P1936:$P$2087,P1935)+COUNTIF('TD-2R-EC'!$P$11:$P$612,P1935))","v":""},{"$f":"IF(Q1935>0,RIGHT(P1935,2),\"\")","v":""}]
[null,null,null,null,null,null,null,"",null,"","","","","","","",{"$f":"IF(P1936=\"\",\"\",COUNTIF(P1937:$P$2087,P1936)+COUNTIF('TD-2R-EC'!$P$11:$P$612,P1936))","v":""},""]
[null,null,null,null,null,null,null,"",null,"","","","","","","",{"$f":"IF(P1937=\"\",\"\",COUNTIF(P1938:$P$2087,P1937)+COUNTIF('TD-2R-EC'!$P$11:$P$612,P1937))","v":""},""]
[null,null,null,null,null,null,null,"",null,"","","","","","","",{"$f":"IF(P1938=\"\",\"\",COUNTIF(P1939:$P$2087,P1938)+COUNTIF('TD-2R-EC'!$P$11:$P$612,P1938))","v":""},""]
[null,null,null,null,null,null,null,"",null,"","","","","","","",{"$f":"IF(P1939=\"\",\"\",COUNTIF(P1940:$P$2087,P1939)+COUNTIF('TD-2R-EC'!$P$11:$P$612,P1939))","v":""},""]
[null,null,null,null,null,null,null,"",null,"","","","","","","",{"$f":"IF(P1940=\"\",\"\",COUNTIF(P1941:$P$2087,P1940)+COUNTIF('TD-2R-EC'!$P$11:$P$612,P1940))","v":""},""]
[null,null,null,null,null,null,null,"",null,"","","","","","","",{"$f":"IF(P1941=\"\",\"\",COUNTIF(P1942:$P$2087,P1941)+COUNTIF('TD-2R-EC'!$P$11:$P$612,P1941))","v":""},""]
[null,null,null,null,null,null,null,"",null,"","","","","","","",{"$f":"IF(P1942=\"\",\"\",COUNTIF(P1943:$P$2087,P1942)+COUNTIF('TD-2R-EC'!$P$11:$P$612,P1942))","v":""},""]
[null,null,null,null,null,null,null,"",null,"","","","","","","",{"$f":"IF(P1943=\"\",\"\",COUNTIF(P1944:$P$2087,P1943)+COUNTIF('TD-2R-EC'!$P$11:$P$612,P1943))","v":""},""]
[null,null,null,null,null,null,null,"",null,"","","","","","","",{"$f":"IF(P1944=\"\",\"\",COUNTIF(P1945:$P$2087,P1944)+COUNTIF('TD-2R-EC'!$P$11:$P$612,P1944))","v":""},""]
[null,null,null,null,null,null,null,"",null,"","","","","","","",{"$f":"IF(P1945=\"\",\"\",COUNTIF(P1946:$P$2087,P1945)+COUNTIF('TD-2R-EC'!$P$11:$P$612,P1945))","v":""},""]
[null,null,null,null,null,null,null,"",null,"","","","","","","",{"$f":"IF(P1946=\"\",\"\",COUNTIF(P1947:$P$2087,P1946)+COUNTIF('TD-2R-EC'!$P$11:$P$612,P1946))","v":""},""]
[null,null,null,null,null,null,null,"",null,"","","","","","","",{"$f":"IF(P1947=\"\",\"\",COUNTIF(P1948:$P$2087,P1947)+COUNTIF('TD-2R-EC'!$P$11:$P$612,P1947))","v":""},""]
[null,null,null,null,null,null,null,"",null,"","","","","","","",{"$f":"IF(P1948=\"\",\"\",COUNTIF(P1949:$P$2087,P1948)+COUNTIF('TD-2R-EC'!$P$11:$P$612,P1948))","v":""},""]
[null,null,null,null,null,null,null,"",null,"","","","","","","",{"$f":"IF(P1949=\"\",\"\",COUNTIF(P1950:$P$2087,P1949)+COUNTIF('TD-2R-EC'!$P$11:$P$612,P1949))","v":""},""]
[null,null,null,null,null,null,null,"",null,"","","","","","","",{"$f":"IF(P1950=\"\",\"\",COUNTIF(P1951:$P$2087,P1950)+COUNTIF('TD-2R-EC'!$P$11:$P$612,P1950))","v":""},""]
[null,null,null,null,null,null,null,"",null,"","","","","","","",{"$f":"IF(P1951=\"\",\"\",COUNTIF(P1952:$P$2087,P1951)+COUNTIF('TD-2R-EC'!$P$11:$P$612,P1951))","v":""},""]
[null,null,null,null,null,null,null,"",null,"","","","","","","",{"$f":"IF(P1952=\"\",\"\",COUNTIF(P1953:$P$2087,P1952)+COUNTIF('TD-2R-EC'!$P$11:$P$612,P1952))","v":""},""]
[null,null,null,null,null,null,null,"",null,"","","","","","","",{"$f":"IF(P1953=\"\",\"\",COUNTIF(P1954:$P$2087,P1953)+COUNTIF('TD-2R-EC'!$P$11:$P$612,P1953))","v":""},""]
[null,null,null,null,null,null,null,"",null,"","","","","","","",{"$f":"IF(P1954=\"\",\"\",COUNTIF(P1955:$P$2087,P1954)+COUNTIF('TD-2R-EC'!$P$11:$P$612,P1954))","v":""},""]
[null,null,null,null,null,null,null,"",null,"","","","","","","",{"$f":"IF(P1955=\"\",\"\",COUNTIF(P1956:$P$2087,P1955)+COUNTIF('TD-2R-EC'!$P$11:$P$612,P1955))","v":""},""]
[null,null,null,null,null,null,null,"",null,"","","","","","","",{"$f":"IF(P1956=\"\",\"\",COUNTIF(P1957:$P$2087,P1956)+COUNTIF('TD-2R-EC'!$P$11:$P$612,P1956))","v":""},""]
[null,null,null,null,null,null,null,"",null,"","","","","","","",{"$f":"IF(P1957=\"\",\"\",COUNTIF(P1958:$P$2087,P1957)+COUNTIF('TD-2R-EC'!$P$11:$P$612,P1957))","v":""},""]
[null,null,null,null,null,null,null,"",null,"","","","","","","",{"$f":"IF(P1958=\"\",\"\",COUNTIF(P1959:$P$2087,P1958)+COUNTIF('TD-2R-EC'!$P$11:$P$612,P1958))","v":""},""]
[null,null,null,null,null,null,null,"",null,"","","","","","","",{"$f":"IF(P1959=\"\",\"\",COUNTIF(P1960:$P$2087,P1959)+COUNTIF('TD-2R-EC'!$P$11:$P$612,P1959))","v":""},""]
[null,null,null,null,null,null,null,"",null,"","","","","","","",{"$f":"IF(P1960=\"\",\"\",COUNTIF(P1961:$P$2087,P1960)+COUNTIF('TD-2R-EC'!$P$11:$P$612,P1960))","v":""},""]
[null,null,null,null,null,null,null,"",null,"","","","","","","",{"$f":"IF(P1961=\"\",\"\",COUNTIF(P1962:$P$2087,P1961)+COUNTIF('TD-2R-EC'!$P$11:$P$612,P1961))","v":""},""]
[null,null,null,null,null,null,null,"",null,"","","","","","","",{"$f":"IF(P1962=\"\",\"\",COUNTIF(P1963:$P$2087,P1962)+COUNTIF('TD-2R-EC'!$P$11:$P$612,P1962))","v":""},""]
[null,null,null,null,null,null,null,"",null,"","","","","","","",{"$f":"IF(P1963=\"\",\"\",COUNTIF(P1964:$P$2087,P1963)+COUNTIF('TD-2R-EC'!$P$11:$P$612,P1963))","v":""},""]
[null,null,null,null,null,null,null,"",null,"","","","","","","",{"$f":"IF(P1964=\"\",\"\",COUNTIF(P1965:$P$2087,P1964)+COUNTIF('TD-2R-EC'!$P$11:$P$612,P1964))","v":""},""]
[null,null,null,null,null,null,null,"",null,"","","","","","","",{"$f":"IF(P1965=\"\",\"\",COUNTIF(P1966:$P$2087,P1965)+COUNTIF('TD-2R-EC'!$P$11:$P$612,P1965))","v":""},""]
[null,null,null,null,null,null,null,"",null,"","","","","","","",{"$f":"IF(P1966=\"\",\"\",COUNTIF(P1967:$P$2087,P1966)+COUNTIF('TD-2R-EC'!$P$11:$P$612,P1966))","v":""},""]
[null,null,null,null,null,null,null,"",null,"","","","","","","",{"$f":"IF(P1967=\"\",\"\",COUNTIF(P1968:$P$2087,P1967)+COUNTIF('TD-2R-EC'!$P$11:$P$612,P1967))","v":""},""]
[null,null,null,null,null,null,null,"",null,"","","","","","","",{"$f":"IF(P1968=\"\",\"\",COUNTIF(P1969:$P$2087,P1968)+COUNTIF('TD-2R-EC'!$P$11:$P$612,P1968))","v":""},""]
[null,null,null,null,null,null,null,"",null,"","","","","","","",{"$f":"IF(P1969=\"\",\"\",COUNTIF(P1970:$P$2087,P1969)+COUNTIF('TD-2R-EC'!$P$11:$P$612,P1969))","v":""},""]
[null,null,null,null,null,null,null,"",null,"","","","","","","",{"$f":"IF(P1970=\"\",\"\",COUNTIF(P1971:$P$2087,P1970)+COUNTIF('TD-2R-EC'!$P$11:$P$612,P1970))","v":""},""]
[null,null,null,null,null,null,null,"",null,"","","","","","","",{"$f":"IF(P1971=\"\",\"\",COUNTIF(P1972:$P$2087,P1971)+COUNTIF('TD-2R-EC'!$P$11:$P$612,P1971))","v":""},""]
[null,null,null,null,null,null,null,"",null,"","","","","","","",{"$f":"IF(P1972=\"\",\"\",COUNTIF(P1973:$P$2087,P1972)+COUNTIF('TD-2R-EC'!$P$11:$P$612,P1972))","v":""},""]
[null,null,null,null,null,null,null,"",null,"","","","","","","",{"$f":"IF(P1973=\"\",\"\",COUNTIF(P1974:$P$2087,P1973)+COUNTIF('TD-2R-EC'!$P$11:$P$612,P1973))","v":""},""]
[null,null,null,null,null,null,null,"",null,"","","","","","","",{"$f":"IF(P1974=\"\",\"\",COUNTIF(P1975:$P$2087,P1974)+COUNTIF('TD-2R-EC'!$P$11:$P$612,P1974))","v":""},""]
[null,null,null,null,null,null,null,"",null,"","","","","","","",{"$f":"IF(P1975=\"\",\"\",COUNTIF(P1976:$P$2087,P1975)+COUNTIF('TD-2R-EC'!$P$11:$P$612,P1975))","v":""},""]
[null,null,null,null,null,null,null,"",null,"","","","","","","",{"$f":"IF(P1976=\"\",\"\",COUNTIF(P1977:$P$2087,P1976)+COUNTIF('TD-2R-EC'!$P$11:$P$612,P1976))","v":""},""]
[null,null,null,null,null,null,null,"",null,"","","","","","","",{"$f":"IF(P1977=\"\",\"\",COUNTIF(P1978:$P$2087,P1977)+COUNTIF('TD-2R-EC'!$P$11:$P$612,P1977))","v":""},""]
[null,null,null,null,null,null,null,"",null,"","","","","","","",{"$f":"IF(P1978=\"\",\"\",COUNTIF(P1979:$P$2087,P1978)+COUNTIF('TD-2R-EC'!$P$11:$P$612,P1978))","v":""},""]
[null,null,null,null,null,null,null,"",null,"","","","","","","",{"$f":"IF(P1979=\"\",\"\",COUNTIF(P1980:$P$2087,P1979)+COUNTIF('TD-2R-EC'!$P$11:$P$612,P1979))","v":""},""]
[null,null,null,null,null,null,null,"",null,"","","","","","","",{"$f":"IF(P1980=\"\",\"\",COUNTIF(P1981:$P$2087,P1980)+COUNTIF('TD-2R-EC'!$P$11:$P$612,P1980))","v":""},""]
[null,null,null,null,null,null,null,"",null,"","","","","","",{"$f":"A1981&D1981&E1981","v":""},{"$f":"IF(P1981=\"\",\"\",COUNTIF(P1982:$P$2087,P1981)+COUNTIF('TD-2R-EC'!$P$11:$P$612,P1981))","v":""},""]
[null,null,null,null,null,null,null,"",null,"",{"$f":"IF(NOT(ISBLANK(G1982)),IF(A1982>0,10*G1982,\"\"),\"\")","v":""},{"$f":"IF(NOT(ISBLANK(G1982)),IF(A1982> 0,10*SUM(A1982*G1982),\"\"),\"\")","v":""},{"$f":"IF(NOT(ISBLANK(H1982)),IF(A1982> 0,G1982/2*10,\"\"),\"\")","v":""},"","","",{"$f":"IF(P1982=\"\",\"\",COUNTIF(P1983:$P$2087,P1982)+COUNTIF('TD-2R-EC'!$P$11:$P$612,P1982))","v":""},""]
[null,null,null,null,null,null,null,"",null,"","","","","","","",{"$f":"IF(P1983=\"\",\"\",COUNTIF(P1984:$P$2087,P1983)+COUNTIF('TD-2R-EC'!$P$11:$P$612,P1983))","v":""},""]
[null,null,null,null,null,null,null,"",null,"","","","","","","",{"$f":"IF(P1984=\"\",\"\",COUNTIF(P1985:$P$2087,P1984)+COUNTIF('TD-2R-EC'!$P$11:$P$612,P1984))","v":""},""]
[null,null,null,null,null,null,null,"",null,"","","","","","","",{"$f":"IF(P1985=\"\",\"\",COUNTIF(P1986:$P$2087,P1985)+COUNTIF('TD-2R-EC'!$P$11:$P$612,P1985))","v":""},""]
[null,null,null,null,null,null,null,"",null,"","","","","","","",{"$f":"IF(P1986=\"\",\"\",COUNTIF(P1987:$P$2087,P1986)+COUNTIF('TD-2R-EC'!$P$11:$P$612,P1986))","v":""},""]
[null,null,null,null,null,null,null,"",null,"","","","","","","",{"$f":"IF(P1987=\"\",\"\",COUNTIF(P1988:$P$2087,P1987)+COUNTIF('TD-2R-EC'!$P$11:$P$612,P1987))","v":""},""]
[null,null,null,null,null,null,null,"",null,"","","","","","","",{"$f":"IF(P1988=\"\",\"\",COUNTIF(P1989:$P$2087,P1988)+COUNTIF('TD-2R-EC'!$P$11:$P$612,P1988))","v":""},""]
[null,null,null,null,null,null,null,"",null,"","","","","","","",{"$f":"IF(P1989=\"\",\"\",COUNTIF(P1990:$P$2087,P1989)+COUNTIF('TD-2R-EC'!$P$11:$P$612,P1989))","v":""},""]
[null,null,null,null,null,null,null,"",null,"","","","","","","",{"$f":"IF(P1990=\"\",\"\",COUNTIF(P1991:$P$2087,P1990)+COUNTIF('TD-2R-EC'!$P$11:$P$612,P1990))","v":""},""]
[null,null,null,null,null,null,null,"",null,"","","","","","","",{"$f":"IF(P1991=\"\",\"\",COUNTIF(P1992:$P$2087,P1991)+COUNTIF('TD-2R-EC'!$P$11:$P$612,P1991))","v":""},""]
[null,null,null,null,null,null,null,"",null,"","","","","","","",{"$f":"IF(P1992=\"\",\"\",COUNTIF(P1993:$P$2087,P1992)+COUNTIF('TD-2R-EC'!$P$11:$P$612,P1992))","v":""},""]
[null,null,null,null,null,null,null,"",null,"","","","","","","",{"$f":"IF(P1993=\"\",\"\",COUNTIF(P1994:$P$2087,P1993)+COUNTIF('TD-2R-EC'!$P$11:$P$612,P1993))","v":""},""]
[null,null,null,null,null,null,null,"",null,"","","","","","","",{"$f":"IF(P1994=\"\",\"\",COUNTIF(P1995:$P$2087,P1994)+COUNTIF('TD-2R-EC'!$P$11:$P$612,P1994))","v":""},""]
[null,null,null,null,null,null,null,"",null,"","","","","","","",{"$f":"IF(P1995=\"\",\"\",COUNTIF(P1996:$P$2087,P1995)+COUNTIF('TD-2R-EC'!$P$11:$P$612,P1995))","v":""},""]
[null,null,null,null,null,null,null,"",null,"","","","","","","",{"$f":"IF(P1996=\"\",\"\",COUNTIF(P1997:$P$2087,P1996)+COUNTIF('TD-2R-EC'!$P$11:$P$612,P1996))","v":""},""]
[null,null,null,null,null,null,null,"",null,"","","","","","","",{"$f":"IF(P1997=\"\",\"\",COUNTIF(P1998:$P$2087,P1997)+COUNTIF('TD-2R-EC'!$P$11:$P$612,P1997))","v":""},""]
[null,null,null,null,null,null,null,{"$f":"IF(ISBLANK(F1998),\"\",SUM(G1998*60)/F1998)","v":""},null,"","","","","","","",{"$f":"IF(P1998=\"\",\"\",COUNTIF(P1999:$P$2087,P1998)+COUNTIF('TD-2R-EC'!$P$11:$P$612,P1998))","v":""},""]
[null,null,null,null,null,null,null,"",null,{"$f":"IF(NOT(ISBLANK(G1999)),G1999*I1999,\"\")","v":""},"","","",{"$f":"IF(NOT(ISBLANK(G1999)),SUM(K1999:M1999),\"\")","v":""},{"$f":"IF(NOT(ISBLANK(I1999)),I1999*N1999,\"\")","v":""},"",{"$f":"IF(P1999=\"\",\"\",COUNTIF(P2000:$P$2087,P1999)+COUNTIF('TD-2R-EC'!$P$11:$P$612,P1999))","v":""},{"$f":"IF(Q1999>0,RIGHT(P1999,2),\"\")","v":""}]
[null,null,null,null,null,null,null,"",null,"","","","","","","",{"$f":"IF(P2000=\"\",\"\",COUNTIF(P2001:$P$2087,P2000)+COUNTIF('TD-2R-EC'!$P$11:$P$612,P2000))","v":""},""]
[null,null,null,null,null,null,null,"",null,"","","","","","","",{"$f":"IF(P2001=\"\",\"\",COUNTIF(P2002:$P$2087,P2001)+COUNTIF('TD-2R-EC'!$P$11:$P$612,P2001))","v":""},""]
[null,null,null,null,null,null,null,"",null,"","","","","","","",{"$f":"IF(P2002=\"\",\"\",COUNTIF(P2003:$P$2087,P2002)+COUNTIF('TD-2R-EC'!$P$11:$P$612,P2002))","v":""},""]
[null,null,null,null,null,null,null,"",null,"","","","","","","",{"$f":"IF(P2003=\"\",\"\",COUNTIF(P2004:$P$2087,P2003)+COUNTIF('TD-2R-EC'!$P$11:$P$612,P2003))","v":""},""]
[null,null,null,null,null,null,null,"",null,"","","","","","","",{"$f":"IF(P2004=\"\",\"\",COUNTIF(P2005:$P$2087,P2004)+COUNTIF('TD-2R-EC'!$P$11:$P$612,P2004))","v":""},""]
[null,null,null,null,null,null,null,"",null,"","","","","","","",{"$f":"IF(P2005=\"\",\"\",COUNTIF(P2006:$P$2087,P2005)+COUNTIF('TD-2R-EC'!$P$11:$P$612,P2005))","v":""},""]
[null,null,null,null,null,null,null,"",null,"","","","","","","",{"$f":"IF(P2006=\"\",\"\",COUNTIF(P2007:$P$2087,P2006)+COUNTIF('TD-2R-EC'!$P$11:$P$612,P2006))","v":""},""]
[null,null,null,null,null,null,null,"",null,"","","","","","","",{"$f":"IF(P2007=\"\",\"\",COUNTIF(P2008:$P$2087,P2007)+COUNTIF('TD-2R-EC'!$P$11:$P$612,P2007))","v":""},""]
[null,null,null,null,null,null,null,"",null,"","","","","","","",{"$f":"IF(P2008=\"\",\"\",COUNTIF(P2009:$P$2087,P2008)+COUNTIF('TD-2R-EC'!$P$11:$P$612,P2008))","v":""},""]
[null,null,null,null,null,null,null,"",null,"","","","","","","",{"$f":"IF(P2009=\"\",\"\",COUNTIF(P2010:$P$2087,P2009)+COUNTIF('TD-2R-EC'!$P$11:$P$612,P2009))","v":""},""]
[null,null,null,null,null,null,null,"",null,"","","","","","","",{"$f":"IF(P2010=\"\",\"\",COUNTIF(P2011:$P$2087,P2010)+COUNTIF('TD-2R-EC'!$P$11:$P$612,P2010))","v":""},""]
[null,null,null,null,null,null,null,"",null,"","","","","","","",{"$f":"IF(P2011=\"\",\"\",COUNTIF(P2012:$P$2087,P2011)+COUNTIF('TD-2R-EC'!$P$11:$P$612,P2011))","v":""},""]
[null,null,null,null,null,null,null,"",null,"","","","","","","",{"$f":"IF(P2012=\"\",\"\",COUNTIF(P2013:$P$2087,P2012)+COUNTIF('TD-2R-EC'!$P$11:$P$612,P2012))","v":""},""]
[null,null,null,null,null,null,null,"",null,"","","","","","","",{"$f":"IF(P2013=\"\",\"\",COUNTIF(P2014:$P$2087,P2013)+COUNTIF('TD-2R-EC'!$P$11:$P$612,P2013))","v":""},""]
[null,null,null,null,null,null,null,"",null,"","","","","","","",{"$f":"IF(P2014=\"\",\"\",COUNTIF(P2015:$P$2087,P2014)+COUNTIF('TD-2R-EC'!$P$11:$P$612,P2014))","v":""},""]
[null,null,null,null,null,null,null,"",null,"","","","","","","",{"$f":"IF(P2015=\"\",\"\",COUNTIF(P2016:$P$2087,P2015)+COUNTIF('TD-2R-EC'!$P$11:$P$612,P2015))","v":""},""]
[null,null,null,null,null,null,null,"",null,"","","","","","","",{"$f":"IF(P2016=\"\",\"\",COUNTIF(P2017:$P$2087,P2016)+COUNTIF('TD-2R-EC'!$P$11:$P$612,P2016))","v":""},""]
[null,null,null,null,null,null,null,"",null,"","","","","","","",{"$f":"IF(P2017=\"\",\"\",COUNTIF(P2018:$P$2087,P2017)+COUNTIF('TD-2R-EC'!$P$11:$P$612,P2017))","v":""},""]
[null,null,null,null,null,null,null,"",null,"","","","","","","",{"$f":"IF(P2018=\"\",\"\",COUNTIF(P2019:$P$2087,P2018)+COUNTIF('TD-2R-EC'!$P$11:$P$612,P2018))","v":""},""]
[null,null,null,null,null,null,null,"",null,"","","","","","","",{"$f":"IF(P2019=\"\",\"\",COUNTIF(P2020:$P$2087,P2019)+COUNTIF('TD-2R-EC'!$P$11:$P$612,P2019))","v":""},""]
[null,null,null,null,null,null,null,"",null,"","","","","","","",{"$f":"IF(P2020=\"\",\"\",COUNTIF(P2021:$P$2087,P2020)+COUNTIF('TD-2R-EC'!$P$11:$P$612,P2020))","v":""},""]
[null,null,null,null,null,null,null,"",null,"","","","","","","",{"$f":"IF(P2021=\"\",\"\",COUNTIF(P2022:$P$2087,P2021)+COUNTIF('TD-2R-EC'!$P$11:$P$612,P2021))","v":""},""]
[null,null,null,null,null,null,null,"",null,"","","","","","","",{"$f":"IF(P2022=\"\",\"\",COUNTIF(P2023:$P$2087,P2022)+COUNTIF('TD-2R-EC'!$P$11:$P$612,P2022))","v":""},""]
[null,null,null,null,null,null,null,"",null,"","","","","","","",{"$f":"IF(P2023=\"\",\"\",COUNTIF(P2024:$P$2087,P2023)+COUNTIF('TD-2R-EC'!$P$11:$P$612,P2023))","v":""},""]
[null,null,null,null,null,null,null,"",null,"","","","","","","",{"$f":"IF(P2024=\"\",\"\",COUNTIF(P2025:$P$2087,P2024)+COUNTIF('TD-2R-EC'!$P$11:$P$612,P2024))","v":""},""]
[null,null,null,null,null,null,null,"",null,"","","","","","","",{"$f":"IF(P2025=\"\",\"\",COUNTIF(P2026:$P$2087,P2025)+COUNTIF('TD-2R-EC'!$P$11:$P$612,P2025))","v":""},""]
[null,null,null,null,null,null,null,"",null,"","","","","","","",{"$f":"IF(P2026=\"\",\"\",COUNTIF(P2027:$P$2087,P2026)+COUNTIF('TD-2R-EC'!$P$11:$P$612,P2026))","v":""},""]
[null,null,null,null,null,null,null,"",null,"","","","","","","",{"$f":"IF(P2027=\"\",\"\",COUNTIF(P2028:$P$2087,P2027)+COUNTIF('TD-2R-EC'!$P$11:$P$612,P2027))","v":""},""]
[null,null,null,null,null,null,null,"",null,"","","","","","","",{"$f":"IF(P2028=\"\",\"\",COUNTIF(P2029:$P$2087,P2028)+COUNTIF('TD-2R-EC'!$P$11:$P$612,P2028))","v":""},""]
[null,null,null,null,null,null,null,"",null,"","","","","","","",{"$f":"IF(P2029=\"\",\"\",COUNTIF(P2030:$P$2087,P2029)+COUNTIF('TD-2R-EC'!$P$11:$P$612,P2029))","v":""},""]
[null,null,null,null,null,null,null,"",null,"","","","","","","",{"$f":"IF(P2030=\"\",\"\",COUNTIF(P2031:$P$2087,P2030)+COUNTIF('TD-2R-EC'!$P$11:$P$612,P2030))","v":""},""]
[null,null,null,null,null,null,null,"",null,"","","","","","","",{"$f":"IF(P2031=\"\",\"\",COUNTIF(P2032:$P$2087,P2031)+COUNTIF('TD-2R-EC'!$P$11:$P$612,P2031))","v":""},""]
[null,null,null,null,null,null,null,"",null,"","","","","","","",{"$f":"IF(P2032=\"\",\"\",COUNTIF(P2033:$P$2087,P2032)+COUNTIF('TD-2R-EC'!$P$11:$P$612,P2032))","v":""},""]
[null,null,null,null,null,null,null,"",null,"","","","","","","",{"$f":"IF(P2033=\"\",\"\",COUNTIF(P2034:$P$2087,P2033)+COUNTIF('TD-2R-EC'!$P$11:$P$612,P2033))","v":""},""]
[null,null,null,null,null,null,null,"",null,"","","","","","","",{"$f":"IF(P2034=\"\",\"\",COUNTIF(P2035:$P$2087,P2034)+COUNTIF('TD-2R-EC'!$P$11:$P$612,P2034))","v":""},""]
[null,null,null,null,null,null,null,"",null,"","","","","","","",{"$f":"IF(P2035=\"\",\"\",COUNTIF(P2036:$P$2087,P2035)+COUNTIF('TD-2R-EC'!$P$11:$P$612,P2035))","v":""},""]
[null,null,null,null,null,null,null,"",null,"","","","","","","",{"$f":"IF(P2036=\"\",\"\",COUNTIF(P2037:$P$2087,P2036)+COUNTIF('TD-2R-EC'!$P$11:$P$612,P2036))","v":""},""]
[null,null,null,null,null,null,null,"",null,"","","","","","","",{"$f":"IF(P2037=\"\",\"\",COUNTIF(P2038:$P$2087,P2037)+COUNTIF('TD-2R-EC'!$P$11:$P$612,P2037))","v":""},""]
[null,null,null,null,null,null,null,"",null,"","","","","","","",{"$f":"IF(P2038=\"\",\"\",COUNTIF(P2039:$P$2087,P2038)+COUNTIF('TD-2R-EC'!$P$11:$P$612,P2038))","v":""},""]
[null,null,null,null,null,null,null,"",null,"","","","","","","",{"$f":"IF(P2039=\"\",\"\",COUNTIF(P2040:$P$2087,P2039)+COUNTIF('TD-2R-EC'!$P$11:$P$612,P2039))","v":""},""]
[null,null,null,null,null,null,null,"",null,"","","","","","","",{"$f":"IF(P2040=\"\",\"\",COUNTIF(P2041:$P$2087,P2040)+COUNTIF('TD-2R-EC'!$P$11:$P$612,P2040))","v":""},""]
[null,null,null,null,null,null,null,"",null,"","","","","","","",{"$f":"IF(P2041=\"\",\"\",COUNTIF(P2042:$P$2087,P2041)+COUNTIF('TD-2R-EC'!$P$11:$P$612,P2041))","v":""},""]
[null,null,null,null,null,null,null,"",null,"","","","","","","",{"$f":"IF(P2042=\"\",\"\",COUNTIF(P2043:$P$2087,P2042)+COUNTIF('TD-2R-EC'!$P$11:$P$612,P2042))","v":""},""]
[null,null,null,null,null,null,null,"",null,"","","","","","","",{"$f":"IF(P2043=\"\",\"\",COUNTIF(P2044:$P$2087,P2043)+COUNTIF('TD-2R-EC'!$P$11:$P$612,P2043))","v":""},""]
[null,null,null,null,null,null,null,"",null,"","","","","","","",{"$f":"IF(P2044=\"\",\"\",COUNTIF(P2045:$P$2087,P2044)+COUNTIF('TD-2R-EC'!$P$11:$P$612,P2044))","v":""},""]
[null,null,null,null,null,null,null,"",null,"","","","","","",{"$f":"A2045&D2045&E2045","v":""},{"$f":"IF(P2045=\"\",\"\",COUNTIF(P2046:$P$2087,P2045)+COUNTIF('TD-2R-EC'!$P$11:$P$612,P2045))","v":""},""]
[null,null,null,null,null,null,null,"",null,"",{"$f":"IF(NOT(ISBLANK(G2046)),IF(A2046>0,10*G2046,\"\"),\"\")","v":""},{"$f":"IF(NOT(ISBLANK(G2046)),IF(A2046> 0,10*SUM(A2046*G2046),\"\"),\"\")","v":""},{"$f":"IF(NOT(ISBLANK(H2046)),IF(A2046> 0,G2046/2*10,\"\"),\"\")","v":""},"","","",{"$f":"IF(P2046=\"\",\"\",COUNTIF(P2047:$P$2087,P2046)+COUNTIF('TD-2R-EC'!$P$11:$P$612,P2046))","v":""},""]
[null,null,null,null,null,null,null,"",null,"","","","","","","",{"$f":"IF(P2047=\"\",\"\",COUNTIF(P2048:$P$2087,P2047)+COUNTIF('TD-2R-EC'!$P$11:$P$612,P2047))","v":""},""]
[null,null,null,null,null,null,null,"",null,"","","","","","","",{"$f":"IF(P2048=\"\",\"\",COUNTIF(P2049:$P$2087,P2048)+COUNTIF('TD-2R-EC'!$P$11:$P$612,P2048))","v":""},""]
[null,null,null,null,null,null,null,"",null,"","","","","","","",{"$f":"IF(P2049=\"\",\"\",COUNTIF(P2050:$P$2087,P2049)+COUNTIF('TD-2R-EC'!$P$11:$P$612,P2049))","v":""},""]
[null,null,null,null,null,null,null,"",null,"","","","","","","",{"$f":"IF(P2050=\"\",\"\",COUNTIF(P2051:$P$2087,P2050)+COUNTIF('TD-2R-EC'!$P$11:$P$612,P2050))","v":""},""]
[null,null,null,null,null,null,null,"",null,"","","","","","","",{"$f":"IF(P2051=\"\",\"\",COUNTIF(P2052:$P$2087,P2051)+COUNTIF('TD-2R-EC'!$P$11:$P$612,P2051))","v":""},""]
[null,null,null,null,null,null,null,"",null,"","","","","","","",{"$f":"IF(P2052=\"\",\"\",COUNTIF(P2053:$P$2087,P2052)+COUNTIF('TD-2R-EC'!$P$11:$P$612,P2052))","v":""},""]
[null,null,null,null,null,null,null,"",null,"","","","","","","",{"$f":"IF(P2053=\"\",\"\",COUNTIF(P2054:$P$2087,P2053)+COUNTIF('TD-2R-EC'!$P$11:$P$612,P2053))","v":""},""]
[null,null,null,null,null,null,null,"",null,"","","","","","","",{"$f":"IF(P2054=\"\",\"\",COUNTIF(P2055:$P$2087,P2054)+COUNTIF('TD-2R-EC'!$P$11:$P$612,P2054))","v":""},""]
[null,null,null,null,null,null,null,"",null,"","","","","","","",{"$f":"IF(P2055=\"\",\"\",COUNTIF(P2056:$P$2087,P2055)+COUNTIF('TD-2R-EC'!$P$11:$P$612,P2055))","v":""},""]
[null,null,null,null,null,null,null,"",null,"","","","","","","",{"$f":"IF(P2056=\"\",\"\",COUNTIF(P2057:$P$2087,P2056)+COUNTIF('TD-2R-EC'!$P$11:$P$612,P2056))","v":""},""]
[null,null,null,null,null,null,null,"",null,"","","","","","","",{"$f":"IF(P2057=\"\",\"\",COUNTIF(P2058:$P$2087,P2057)+COUNTIF('TD-2R-EC'!$P$11:$P$612,P2057))","v":""},""]
[null,null,null,null,null,null,null,"",null,"","","","","","","",{"$f":"IF(P2058=\"\",\"\",COUNTIF(P2059:$P$2087,P2058)+COUNTIF('TD-2R-EC'!$P$11:$P$612,P2058))","v":""},""]
[null,null,null,null,null,null,null,"",null,"","","","","","","",{"$f":"IF(P2059=\"\",\"\",COUNTIF(P2060:$P$2087,P2059)+COUNTIF('TD-2R-EC'!$P$11:$P$612,P2059))","v":""},""]
[null,null,null,null,null,null,null,"",null,"","","","","","","",{"$f":"IF(P2060=\"\",\"\",COUNTIF(P2061:$P$2087,P2060)+COUNTIF('TD-2R-EC'!$P$11:$P$612,P2060))","v":""},""]
[null,null,null,null,null,null,null,"",null,"","","","","","","",{"$f":"IF(P2061=\"\",\"\",COUNTIF(P2062:$P$2087,P2061)+COUNTIF('TD-2R-EC'!$P$11:$P$612,P2061))","v":""},""]
[null,null,null,null,null,null,null,{"$f":"IF(ISBLANK(F2062),\"\",SUM(G2062*60)/F2062)","v":""},null,"","","","","","","",{"$f":"IF(P2062=\"\",\"\",COUNTIF(P2063:$P$2087,P2062)+COUNTIF('TD-2R-EC'!$P$11:$P$612,P2062))","v":""},""]
[null,null,null,null,null,null,null,"",null,{"$f":"IF(NOT(ISBLANK(G2063)),G2063*I2063,\"\")","v":""},"","","",{"$f":"IF(NOT(ISBLANK(G2063)),SUM(K2063:M2063),\"\")","v":""},{"$f":"IF(NOT(ISBLANK(I2063)),I2063*N2063,\"\")","v":""},"",{"$f":"IF(P2063=\"\",\"\",COUNTIF(P2064:$P$2087,P2063)+COUNTIF('TD-2R-EC'!$P$11:$P$612,P2063))","v":""},{"$f":"IF(Q2063>0,RIGHT(P2063,2),\"\")","v":""}]
[null,null,null,null,null,null,null,"",null,"","","","","","","",{"$f":"IF(P2064=\"\",\"\",COUNTIF(P2065:$P$2087,P2064)+COUNTIF('TD-2R-EC'!$P$11:$P$612,P2064))","v":""},""]
[null,null,null,null,null,null,null,"",null,"","","","","","","",{"$f":"IF(P2065=\"\",\"\",COUNTIF(P2066:$P$2087,P2065)+COUNTIF('TD-2R-EC'!$P$11:$P$612,P2065))","v":""},""]
[null,null,null,null,null,null,null,"",null,"","","","","","","",{"$f":"IF(P2066=\"\",\"\",COUNTIF(P2067:$P$2087,P2066)+COUNTIF('TD-2R-EC'!$P$11:$P$612,P2066))","v":""},""]
[null,null,null,null,null,null,null,"",null,"","","","","","","",{"$f":"IF(P2067=\"\",\"\",COUNTIF(P2068:$P$2087,P2067)+COUNTIF('TD-2R-EC'!$P$11:$P$612,P2067))","v":""},""]
[null,null,null,null,null,null,null,"",null,"","","","","","","",{"$f":"IF(P2068=\"\",\"\",COUNTIF(P2069:$P$2087,P2068)+COUNTIF('TD-2R-EC'!$P$11:$P$612,P2068))","v":""},""]
[null,null,null,null,null,null,null,"",null,"","","","","","","",{"$f":"IF(P2069=\"\",\"\",COUNTIF(P2070:$P$2087,P2069)+COUNTIF('TD-2R-EC'!$P$11:$P$612,P2069))","v":""},""]
[null,null,null,null,null,null,null,"",null,"","","","","","","",{"$f":"IF(P2070=\"\",\"\",COUNTIF(P2071:$P$2087,P2070)+COUNTIF('TD-2R-EC'!$P$11:$P$612,P2070))","v":""},""]
[null,null,null,null,null,null,null,"",null,"","","","","","","",{"$f":"IF(P2071=\"\",\"\",COUNTIF(P2072:$P$2087,P2071)+COUNTIF('TD-2R-EC'!$P$11:$P$612,P2071))","v":""},""]
[null,null,null,null,null,null,null,"",null,"","","","","","","",{"$f":"IF(P2072=\"\",\"\",COUNTIF(P2073:$P$2087,P2072)+COUNTIF('TD-2R-EC'!$P$11:$P$612,P2072))","v":""},""]
[null,null,null,null,null,null,null,"",null,"","","","","","","",{"$f":"IF(P2073=\"\",\"\",COUNTIF(P2074:$P$2087,P2073)+COUNTIF('TD-2R-EC'!$P$11:$P$612,P2073))","v":""},""]
[null,null,null,null,null,null,null,"",null,"","","","","","","",{"$f":"IF(P2074=\"\",\"\",COUNTIF(P2075:$P$2087,P2074)+COUNTIF('TD-2R-EC'!$P$11:$P$612,P2074))","v":""},""]
[null,null,null,null,null,null,null,"",null,"","","","","","","",{"$f":"IF(P2075=\"\",\"\",COUNTIF(P2076:$P$2087,P2075)+COUNTIF('TD-2R-EC'!$P$11:$P$612,P2075))","v":""},""]
[null,null,null,null,null,null,null,"",null,"","","","","","","",{"$f":"IF(P2076=\"\",\"\",COUNTIF(P2077:$P$2087,P2076)+COUNTIF('TD-2R-EC'!$P$11:$P$612,P2076))","v":""},""]
[null,null,null,null,null,null,null,"",null,"","","","","","","",{"$f":"IF(P2077=\"\",\"\",COUNTIF(P2078:$P$2087,P2077)+COUNTIF('TD-2R-EC'!$P$11:$P$612,P2077))","v":""},""]
[null,null,null,null,null,null,null,"",null,"","","","","","","",{"$f":"IF(P2078=\"\",\"\",COUNTIF(P2079:$P$2087,P2078)+COUNTIF('TD-2R-EC'!$P$11:$P$612,P2078))","v":""},""]
[null,null,null,null,null,null,null,"",null,"","","","","","","",{"$f":"IF(P2079=\"\",\"\",COUNTIF(P2080:$P$2087,P2079)+COUNTIF('TD-2R-EC'!$P$11:$P$612,P2079))","v":""},""]
[null,null,null,null,null,null,null,"",null,"","","","","","","",{"$f":"IF(P2080=\"\",\"\",COUNTIF(P2081:$P$2087,P2080)+COUNTIF('TD-2R-EC'!$P$11:$P$612,P2080))","v":""},""]
[null,null,null,null,null,null,null,"",null,"","","","","","","",{"$f":"IF(P2081=\"\",\"\",COUNTIF(P2082:$P$2087,P2081)+COUNTIF('TD-2R-EC'!$P$11:$P$612,P2081))","v":""},""]
[null,null,null,null,null,null,null,"",null,"","","","","","","",{"$f":"IF(P2082=\"\",\"\",COUNTIF(P2083:$P$2087,P2082)+COUNTIF('TD-2R-EC'!$P$11:$P$612,P2082))","v":""},""]
[null,null,null,null,null,null,null,"",null,"","","","","","","",{"$f":"IF(P2083=\"\",\"\",COUNTIF(P2084:$P$2087,P2083)+COUNTIF('TD-2R-EC'!$P$11:$P$612,P2083))","v":""},""]
[null,null,null,null,null,null,null,"",null,"","","","","","","",{"$f":"IF(P2084=\"\",\"\",COUNTIF(P2085:$P$2087,P2084)+COUNTIF('TD-2R-EC'!$P$11:$P$612,P2084))","v":""},""]
[null,null,null,null,null,null,null,"",null,"","","","","","","",{"$f":"IF(P2085=\"\",\"\",COUNTIF(P2086:$P$2087,P2085)+COUNTIF('TD-2R-EC'!$P$11:$P$612,P2085))","v":""},""]
[null,null,null,null,null,null,null,"",null,"","","","","","","",{"$f":"IF(P2086=\"\",\"\",COUNTIF(P2087:$P$2087,P2086)+COUNTIF('TD-2R-EC'!$P$11:$P$612,P2086))","v":""},""]
[null,null,null,null,null,null,null,{"$f":"IF(ISBLANK(F2087),\"\",SUM(G2087*60)/F2087)","v":""},null,"","","","","","","",{"$f":"IF(P2087=\"\",\"\",COUNTIF(P$2087:$P2088,P2087)+COUNTIF('TD-2R-EC'!$P$11:$P$612,P2087))","v":""},""]
[]
[{"$f":"COUNTIF($E$11:$E$2087,A2091)","v":0},{"$f":"COUNTIF($E$11:$E$2087,B2091)","v":0},{"$f":"COUNTIF($E$11:$E$2087,C2091)","v":0},{"$f":"COUNTIF($E$11:$E$2087,D2091)","v":0},{"$f":"COUNTIF($E$11:$E$2087,E2091)","v":0},{"$f":"COUNTIF($E$11:$E$2087,F2091)","v":0},{"$f":"COUNTIF($E$11:$E$2087,G2091)","v":0},{"$f":"COUNTIF($E$11:$E$2087,H2091)","v":0},"Normal"]
[{"$f":"COUNTIF($R$11:$R$2087,A2091)","v":0},{"$f":"COUNTIF($R$11:$R$2087,B2091)","v":0},{"$f":"COUNTIF($R$11:$R$2087,C2091)","v":0},{"$f":"COUNTIF($R$11:$R$2087,D2091)","v":0},{"$f":"COUNTIF($R$11:$R$2087,E2091)","v":0},{"$f":"COUNTIF($R$11:$R$2087,F2091)","v":0},{"$f":"COUNTIF($R$11:$R$2087,G2091)","v":0},{"$f":"COUNTIF($R$11:$R$2087,H2091)","v":0},"Duplicates"]
["FP","FS","FO","PP","PS","PO","PT","ST"]
[{"$f":"A2089-A2090","v":0},{"$f":"B2089-B2090","v":0},0,0,0,0,0,0,"Totals"]

{"sheet":"TD-2R-EC","index":2,"n_rows":633,"n_cols":18,"rows_kept":633,"cut":false,"hidden":false,"merged":[[0,0,0,14],[1,0,1,14],[2,0,2,14],[3,0,3,14],[4,0,4,14]]}
["PUBLIC SCHOOLS OF NORTH CAROLINA"]
["STATE BOARD OF EDUCATION - DEPARTMENT OF PUBLIC INSTRUCTION"]
["OFFICE OF DISTRICT OPERATIONS/TRANSPORTATION SERVICES"]
[" DRIVER SALARY AND ROUTE TIMES REPORT"]
["2023-2024 - EXCEPTIONAL CHILDREN (EC) BUS DRIVER ROUTE DETAILS"]
[]
["LEAVE",1,2,3,4,5,6,7,8,9,10,11,12,13,14]
["RATE","BUS","SCH.","DRIVER","EMP.","RT. MI.","ROUTE","MIN/","HOURLY","DAILY","Holiday","Ann. Lv.","Misc. Lv.","Totl Lv","LEAVE"]
["(not printed)","NO.","NO.","NAME","ST.","DAILY","HOURS","MILE","RATE","RATE","Hours","Hours","Hours","Hours","COMPENSATION","Person ID","Unique Check","Subtract"]
[null,{"$f":"SUM(IF(FREQUENCY(IF(LEN(B11:B612)>0,MATCH(B11:B612,B11:B612,0),\"\"),IF(LEN(B11:B612)>0,MATCH(B11:B612,B11:B612,0),\"\"))>0,1))","v":0},"<-------","# Unique Buses","xxxxxxxx",{"$f":"SUM(F11:F603)","v":0},{"$f":"SUM(G11:G603)","v":0},{"$f":"IF(ISERR(AVERAGE(H11:H603)),\"\",(AVERAGE(H11:H602)))","v":""},{"$f":"IF(ISERR(AVERAGE(I11:I603)),\"\",(AVERAGE(I11:I602)))","v":""},{"$f":"SUM(J11:J603)","v":0},0,0,0,0,0]
[null,null,null,null,null,null,null,{"$f":"IF(ISBLANK(F11),\"\",SUM(G11*60)/F11)","v":""},null,{"$f":"IF(NOT(ISBLANK(G11)),G11*I11,\"\")","v":""},{"$f":"IF(NOT(ISBLANK(G11)),IF(A11>0,10*G11,\"\"),\"\")","v":""},{"$f":"IF(NOT(ISBLANK(G11)),IF(A11> 0,10*SUM(A11*G11),\"\"),\"\")","v":""},{"$f":"IF(NOT(ISBLANK(H11)),IF(A11> 0,G11/2*10,\"\"),\"\")","v":""},{"$f":"IF(NOT(ISBLANK(G11)),SUM(K11:M11),\"\")","v":""},{"$f":"IF(NOT(ISBLANK(I11)),I11*N11,\"\")","v":""},{"$f":"A11&D11&E11","v":""},{"$f":"IF(P11=\"\",\"\",COUNTIF(P12:$P$2084,P11))","v":""},{"$f":"IF(Q11>0,RIGHT(P11,2),\"\")","v":""}]
[null,null,null,null,null,null,null,{"$f":"IF(ISBLANK(F12),\"\",SUM(G12*60)/F12)","v":""},null,{"$f":"IF(NOT(ISBLANK(G12)),G12*I12,\"\")","v":""},"","","",{"$f":"IF(NOT(ISBLANK(G12)),SUM(K12:M12),\"\")","v":""},{"$f":"IF(NOT(ISBLANK(I12)),I12*N12,\"\")","v":""},"",{"$f":"IF(P12=\"\",\"\",COUNTIF(P13:$P$2084,P12))","v":""},{"$f":"IF(Q12>0,RIGHT(P12,2),\"\")","v":""}]
[null,null,null,null,null,null,null,{"$f":"IF(ISBLANK(F13),\"\",SUM(G13*60)/F13)","v":""},null,{"$f":"IF(NOT(ISBLANK(G13)),G13*I13,\"\")","v":""},"","","",{"$f":"IF(NOT(ISBLANK(G13)),SUM(K13:M13),\"\")","v":""},{"$f":"IF(NOT(ISBLANK(I13)),I13*N13,\"\")","v":""},"",{"$f":"IF(P13=\"\",\"\",COUNTIF(P14:$P$2084,P13))","v":""},{"$f":"IF(Q13>0,RIGHT(P13,2),\"\")","v":""}]
[null,null,null,null,null,null,null,{"$f":"IF(ISBLANK(F14),\"\",SUM(G14*60)/F14)","v":""},null,{"$f":"IF(NOT(ISBLANK(G14)),G14*I14,\"\")","v":""},"","","",{"$f":"IF(NOT(ISBLANK(G14)),SUM(K14:M14),\"\")","v":""},{"$f":"IF(NOT(ISBLANK(I14)),I14*N14,\"\")","v":""},"",{"$f":"IF(P14=\"\",\"\",COUNTIF(P15:$P$2084,P14))","v":""},{"$f":"IF(Q14>0,RIGHT(P14,2),\"\")","v":""}]
[null,null,null,null,null,null,null,{"$f":"IF(ISBLANK(F15),\"\",SUM(G15*60)/F15)","v":""},null,{"$f":"IF(NOT(ISBLANK(G15)),G15*I15,\"\")","v":""},"","","",{"$f":"IF(NOT(ISBLANK(G15)),SUM(K15:M15),\"\")","v":""},{"$f":"IF(NOT(ISBLANK(I15)),I15*N15,\"\")","v":""},"",{"$f":"IF(P15=\"\",\"\",COUNTIF(P16:$P$2084,P15))","v":""},{"$f":"IF(Q15>0,RIGHT(P15,2),\"\")","v":""}]
[null,null,null,null,null,null,null,{"$f":"IF(ISBLANK(F16),\"\",SUM(G16*60)/F16)","v":""},null,{"$f":"IF(NOT(ISBLANK(G16)),G16*I16,\"\")","v":""},"","","",{"$f":"IF(NOT(ISBLANK(G16)),SUM(K16:M16),\"\")","v":""},{"$f":"IF(NOT(ISBLANK(I16)),I16*N16,\"\")","v":""},"",{"$f":"IF(P16=\"\",\"\",COUNTIF(P17:$P$2084,P16))","v":""},{"$f":"IF(Q16>0,RIGHT(P16,2),\"\")","v":""}]
[null,null,null,null,null,null,null,"",null,"","","","","","","",{"$f":"IF(P17=\"\",\"\",COUNTIF(P18:$P$2084,P17))","v":""},""]
[null,null,null,null,null,null,null,"",null,"","","","","","","",{"$f":"IF(P18=\"\",\"\",COUNTIF(P19:$P$2084,P18))","v":""},""]
[null,null,null,null,null,null,null,"",null,"","","","","","","",{"$f":"IF(P19=\"\",\"\",COUNTIF(P20:$P$2084,P19))","v":""},""]
[null,null,null,null,null,null,null,"",null,"","","","","","","",{"$f":"IF(P20=\"\",\"\",COUNTIF(P21:$P$2084,P20))","v":""},""]
[null,null,null,null,null,null,null,"",null,"","","","","","","",{"$f":"IF(P21=\"\",\"\",COUNTIF(P22:$P$2084,P21))","v":""},""]
[null,null,null,null,null,null,null,"",null,"","","","","","","",{"$f":"IF(P22=\"\",\"\",COUNTIF(P23:$P$2084,P22))","v":""},""]
[null,null,null,null,null,null,null,"",null,"","","","","","","",{"$f":"IF(P23=\"\",\"\",COUNTIF(P24:$P$2084,P23))","v":""},""]
[null,null,null,null,null,null,null,"",null,"","","","","","","",{"$f":"IF(P24=\"\",\"\",COUNTIF(P25:$P$2084,P24))","v":""},""]
[null,null,null,null,null,null,null,"",null,"","","","","","","",{"$f":"IF(P25=\"\",\"\",COUNTIF(P26:$P$2084,P25))","v":""},""]
[null,null,null,null,null,null,null,"",null,"","","","","","","",{"$f":"IF(P26=\"\",\"\",COUNTIF(P27:$P$2084,P26))","v":""},""]
[null,null,null,null,null,null,null,"",null,"","","","","","","",{"$f":"IF(P27=\"\",\"\",COUNTIF(P28:$P$2084,P27))","v":""},""]
[null,null,null,null,null,null,null,"",null,"","","","","","","",{"$f":"IF(P28=\"\",\"\",COUNTIF(P29:$P$2084,P28))","v":""},""]
[null,null,null,null,null,null,null,"",null,"","","","","","","",{"$f":"IF(P29=\"\",\"\",COUNTIF(P30:$P$2084,P29))","v":""},""]
[null,null,null,null,null,null,null,"",null,"","","","","","","",{"$f":"IF(P30=\"\",\"\",COUNTIF(P31:$P$2084,P30))","v":""},""]
[null,null,null,null,null,null,null,"",null,"","","","","","","",{"$f":"IF(P31=\"\",\"\",COUNTIF(P32:$P$2084,P31))","v":""},""]
[null,null,null,null,null,null,null,"",null,"","","","","","","",{"$f":"IF(P32=\"\",\"\",COUNTIF(P33:$P$2084,P32))","v":""},""]
[null,null,null,null,null,null,null,"",null,"","","","","","","",{"$f":"IF(P33=\"\",\"\",COUNTIF(P34:$P$2084,P33))","v":""},""]
[null,null,null,null,null,null,null,"",null,"","","","","","","",{"$f":"IF(P34=\"\",\"\",COUNTIF(P35:$P$2084,P34))","v":""},""]
[null,null,null,null,null,null,null,"",null,"","","","","","","",{"$f":"IF(P35=\"\",\"\",COUNTIF(P36:$P$2084,P35))","v":""},""]
[null,null,null,null,null,null,null,"",null,"","","","","","","",{"$f":"IF(P36=\"\",\"\",COUNTIF(P37:$P$2084,P36))","v":""},""]
[null,null,null,null,null,null,null,"",null,"","","","","","","",{"$f":"IF(P37=\"\",\"\",COUNTIF(P38:$P$2084,P37))","v":""},""]
[null,null,null,null,null,null,null,"",null,"","","","","","","",{"$f":"IF(P38=\"\",\"\",COUNTIF(P39:$P$2084,P38))","v":""},""]
[null,null,null,null,null,null,null,"",null,"","","","","","","",{"$f":"IF(P39=\"\",\"\",COUNTIF(P40:$P$2084,P39))","v":""},""]
[null,null,null,null,null,null,null,"",null,"","","","","","","",{"$f":"IF(P40=\"\",\"\",COUNTIF(P41:$P$2084,P40))","v":""},""]
[null,null,null,null,null,null,null,"",null,"","","","","","","",{"$f":"IF(P41=\"\",\"\",COUNTIF(P42:$P$2084,P41))","v":""},""]
[null,null,null,null,null,null,null,"",null,"","","","","","","",{"$f":"IF(P42=\"\",\"\",COUNTIF(P43:$P$2084,P42))","v":""},""]
[null,null,null,null,null,null,null,"",null,"","","","","","","",{"$f":"IF(P43=\"\",\"\",COUNTIF(P44:$P$2084,P43))","v":""},""]
[null,null,null,null,null,null,null,"",null,"","","","","","","",{"$f":"IF(P44=\"\",\"\",COUNTIF(P45:$P$2084,P44))","v":""},""]
[null,null,null,null,null,null,null,"",null,"","","","","","","",{"$f":"IF(P45=\"\",\"\",COUNTIF(P46:$P$2084,P45))","v":""},""]
[null,null,null,null,null,null,null,"",null,"","","","","","","",{"$f":"IF(P46=\"\",\"\",COUNTIF(P47:$P$2084,P46))","v":""},""]
[null,null,null,null,null,null,null,"",null,"","","","","","","",{"$f":"IF(P47=\"\",\"\",COUNTIF(P48:$P$2084,P47))","v":""},""]
[null,null,null,null,null,null,null,"",null,"","","","","","","",{"$f":"IF(P48=\"\",\"\",COUNTIF(P49:$P$2084,P48))","v":""},""]
[null,null,null,null,null,null,null,"",null,"","","","","","","",{"$f":"IF(P49=\"\",\"\",COUNTIF(P50:$P$2084,P49))","v":""},""]
[null,null,null,null,null,null,null,"",null,"","","","","","","",{"$f":"IF(P50=\"\",\"\",COUNTIF(P51:$P$2084,P50))","v":""},""]
[null,null,null,null,null,null,null,"",null,"","","","","","","",{"$f":"IF(P51=\"\",\"\",COUNTIF(P52:$P$2084,P51))","v":""},""]
[null,null,null,null,null,null,null,"",null,"","","","","","","",{"$f":"IF(P52=\"\",\"\",COUNTIF(P53:$P$2084,P52))","v":""},""]
[null,null,null,null,null,null,null,"",null,"","","","","","","",{"$f":"IF(P53=\"\",\"\",COUNTIF(P54:$P$2084,P53))","v":""},""]
[null,null,null,null,null,null,null,"",null,"","","","","","","",{"$f":"IF(P54=\"\",\"\",COUNTIF(P55:$P$2084,P54))","v":""},""]
[null,null,null,null,null,null,null,"",null,"","","","","","","",{"$f":"IF(P55=\"\",\"\",COUNTIF(P56:$P$2084,P55))","v":""},""]
[null,null,null,null,null,null,null,"",null,"","","","","","","",{"$f":"IF(P56=\"\",\"\",COUNTIF(P57:$P$2084,P56))","v":""},""]
[null,null,null,null,null,null,null,"",null,"","","","","","","",{"$f":"IF(P57=\"\",\"\",COUNTIF(P58:$P$2084,P57))","v":""},""]
[null,null,null,null,null,null,null,"",null,"","","","","","","",{"$f":"IF(P58=\"\",\"\",COUNTIF(P59:$P$2084,P58))","v":""},""]
[null,null,null,null,null,null,null,"",null,"","","","","","","",{"$f":"IF(P59=\"\",\"\",COUNTIF(P60:$P$2084,P59))","v":""},""]
[null,null,null,null,null,null,null,"",null,"","","","","","","",{"$f":"IF(P60=\"\",\"\",COUNTIF(P61:$P$2084,P60))","v":""},""]
[null,null,null,null,null,null,null,"",null,"","","","","","","",{"$f":"IF(P61=\"\",\"\",COUNTIF(P62:$P$2084,P61))","v":""},""]
[null,null,null,null,null,null,null,"",null,"","","","","","","",{"$f":"IF(P62=\"\",\"\",COUNTIF(P63:$P$2084,P62))","v":""},""]
[null,null,null,null,null,null,null,"",null,"","","","","","","",{"$f":"IF(P63=\"\",\"\",COUNTIF(P64:$P$2084,P63))","v":""},""]
[null,null,null,null,null,null,null,"",null,"","","","","","","",{"$f":"IF(P64=\"\",\"\",COUNTIF(P65:$P$2084,P64))","v":""},""]
[null,null,null,null,null,null,null,"",null,"","","","","","","",{"$f":"IF(P65=\"\",\"\",COUNTIF(P66:$P$2084,P65))","v":""},""]
[null,null,null,null,null,null,null,"",null,"","","","","","","",{"$f":"IF(P66=\"\",\"\",COUNTIF(P67:$P$2084,P66))","v":""},""]
[null,null,null,null,null,null,null,"",null,"","","","","","","",{"$f":"IF(P67=\"\",\"\",COUNTIF(P68:$P$2084,P67))","v":""},""]
[null,null,null,null,null,null,null,"",null,"","","","","","","",{"$f":"IF(P68=\"\",\"\",COUNTIF(P69:$P$2084,P68))","v":""},""]
[null,null,null,null,null,null,null,"",null,"","","","","","","",{"$f":"IF(P69=\"\",\"\",COUNTIF(P70:$P$2084,P69))","v":""},""]
[null,null,null,null,null,null,null,"",null,"","","","","","","",{"$f":"IF(P70=\"\",\"\",COUNTIF(P71:$P$2084,P70))","v":""},""]
[null,null,null,null,null,null,null,"",null,"","","","","","","",{"$f":"IF(P71=\"\",\"\",COUNTIF(P72:$P$2084,P71))","v":""},""]
[null,null,null,null,null,null,null,"",null,"","","","","","","",{"$f":"IF(P72=\"\",\"\",COUNTIF(P73:$P$2084,P72))","v":""},""]
[null,null,null,null,null,null,null,"",null,"","","","","","","",{"$f":"IF(P73=\"\",\"\",COUNTIF(P74:$P$2084,P73))","v":""},""]
[null,null,null,null,null,null,null,"",null,"","","","","","","",{"$f":"IF(P74=\"\",\"\",COUNTIF(P75:$P$2084,P74))","v":""},""]
[null,null,null,null,null,null,null,{"$f":"IF(ISBLANK(F75),\"\",SUM(G75*60)/F75)","v":""},null,"",{"$f":"IF(NOT(ISBLANK(G75)),IF(A75>0,10*G75,\"\"),\"\")","v":""},{"$f":"IF(NOT(ISBLANK(G75)),IF(A75> 0,10*SUM(A75*G75),\"\"),\"\")","v":""},{"$f":"IF(NOT(ISBLANK(H75)),IF(A75> 0,G75/2*10,\"\"),\"\")","v":""},"","",{"$f":"A75&D75&E75","v":""},{"$f":"IF(P75=\"\",\"\",COUNTIF(P76:$P$2084,P75))","v":""},""]
[null,null,null,null,null,null,null,"",null,{"$f":"IF(NOT(ISBLANK(G76)),G76*I76,\"\")","v":""},"","","",{"$f":"IF(NOT(ISBLANK(G76)),SUM(K76:M76),\"\")","v":""},{"$f":"IF(NOT(ISBLANK(I76)),I76*N76,\"\")","v":""},"",{"$f":"IF(P76=\"\",\"\",COUNTIF(P77:$P$2084,P76))","v":""},{"$f":"IF(Q76>0,RIGHT(P76,2),\"\")","v":""}]
[null,null,null,null,null,null,null,"",null,"","","","","","","",{"$f":"IF(P77=\"\",\"\",COUNTIF(P78:$P$2084,P77))","v":""},""]
[null,null,null,null,null,null,null,"",null,"","","","","","","",{"$f":"IF(P78=\"\",\"\",COUNTIF(P79:$P$2084,P78))","v":""},""]
[null,null,null,null,null,null,null,"",null,"","","","","","","",{"$f":"IF(P79=\"\",\"\",COUNTIF(P80:$P$2084,P79))","v":""},""]
[null,null,null,null,null,null,null,"",null,"","","","","","","",{"$f":"IF(P80=\"\",\"\",COUNTIF(P81:$P$2084,P80))","v":""},""]
[null,null,null,null,null,null,null,"",null,"","","","","","","",{"$f":"IF(P81=\"\",\"\",COUNTIF(P82:$P$2084,P81))","v":""},""]
[null,null,null,null,null,null,null,"",null,"","","","","","","",{"$f":"IF(P82=\"\",\"\",COUNTIF(P83:$P$2084,P82))","v":""},""]
[null,null,null,null,null,null,null,"",null,"","","","","","","",{"$f":"IF(P83=\"\",\"\",COUNTIF(P84:$P$2084,P83))","v":""},""]
[null,null,null,null,null,null,null,"",null,"","","","","","","",{"$f":"IF(P84=\"\",\"\",COUNTIF(P85:$P$2084,P84))","v":""},""]
[null,null,null,null,null,null,null,"",null,"","","","","","","",{"$f":"IF(P85=\"\",\"\",COUNTIF(P86:$P$2084,P85))","v":""},""]
[null,null,null,null,null,null,null,"",null,"","","","","","","",{"$f":"IF(P86=\"\",\"\",COUNTIF(P87:$P$2084,P86))","v":""},""]
[null,null,null,null,null,null,null,"",null,"","","","","","","",{"$f":"IF(P87=\"\",\"\",COUNTIF(P88:$P$2084,P87))","v":""},""]
[null,null,null,null,null,null,null,"",null,"","","","","","","",{"$f":"IF(P88=\"\",\"\",COUNTIF(P89:$P$2084,P88))","v":""},""]
[null,null,null,null,null,null,null,"",null,"","","","","","","",{"$f":"IF(P89=\"\",\"\",COUNTIF(P90:$P$2084,P89))","v":""},""]
[null,null,null,null,null,null,null,"",null,"","","","","","","",{"$f":"IF(P90=\"\",\"\",COUNTIF(P91:$P$2084,P90))","v":""},""]
[null,null,null,null,null,null,null,"",null,"","","","","","","",{"$f":"IF(P91=\"\",\"\",COUNTIF(P92:$P$2084,P91))","v":""},""]
[null,null,null,null,null,null,null,"",null,"","","","","","","",{"$f":"IF(P92=\"\",\"\",COUNTIF(P93:$P$2084,P92))","v":""},""]
[null,null,null,null,null,null,null,"",null,"","","","","","","",{"$f":"IF(P93=\"\",\"\",COUNTIF(P94:$P$2084,P93))","v":""},""]
[null,null,null,null,null,null,null,"",null,"","","","","","","",{"$f":"IF(P94=\"\",\"\",COUNTIF(P95:$P$2084,P94))","v":""},""]
[null,null,null,null,null,null,null,"",null,"","","","","","","",{"$f":"IF(P95=\"\",\"\",COUNTIF(P96:$P$2084,P95))","v":""},""]
[null,null,null,null,null,null,null,"",null,"","","","","","","",{"$f":"IF(P96=\"\",\"\",COUNTIF(P97:$P$2084,P96))","v":""},""]
[null,null,null,null,null,null,null,"",null,"","","","","","","",{"$f":"IF(P97=\"\",\"\",COUNTIF(P98:$P$2084,P97))","v":""},""]
[null,null,null,null,null,null,null,"",null,"","","","","","","",{"$f":"IF(P98=\"\",\"\",COUNTIF(P99:$P$2084,P98))","v":""},""]
[null,null,null,null,null,null,null,"",null,"","","","","","","",{"$f":"IF(P99=\"\",\"\",COUNTIF(P100:$P$2084,P99))","v":""},""]
[null,null,null,null,null,null,null,"",null,"","","","","","","",{"$f":"IF(P100=\"\",\"\",COUNTIF(P101:$P$2084,P100))","v":""},""]
[null,null,null,null,null,null,null,"",null,"","","","","","","",{"$f":"IF(P101=\"\",\"\",COUNTIF(P102:$P$2084,P101))","v":""},""]
[null,null,null,null,null,null,null,"",null,"","","","","","","",{"$f":"IF(P102=\"\",\"\",COUNTIF(P103:$P$2084,P102))","v":""},""]
[null,null,null,null,null,null,null,"",null,"","","","","","","",{"$f":"IF(P103=\"\",\"\",COUNTIF(P104:$P$2084,P103))","v":""},""]
[null,null,null,null,null,null,null,"",null,"","","","","","","",{"$f":"IF(P104=\"\",\"\",COUNTIF(P105:$P$2084,P104))","v":""},""]
[null,null,null,null,null,null,null,"",null,"","","","","","","",{"$f":"IF(P105=\"\",\"\",COUNTIF(P106:$P$2084,P105))","v":""},""]
[null,null,null,null,null,null,null,"",null,"","","","","","","",{"$f":"IF(P106=\"\",\"\",COUNTIF(P107:$P$2084,P106))","v":""},""]
[null,null,null,null,null,null,null,"",null,"","","","","","","",{"$f":"IF(P107=\"\",\"\",COUNTIF(P108:$P$2084,P107))","v":""},""]
[null,null,null,null,null,null,null,"",null,"","","","","","","",{"$f":"IF(P108=\"\",\"\",COUNTIF(P109:$P$2084,P108))","v":""},""]
[null,null,null,null,null,null,null,"",null,"","","","","","","",{"$f":"IF(P109=\"\",\"\",COUNTIF(P110:$P$2084,P109))","v":""},""]
[null,null,null,null,null,null,null,"",null,"","","","","","","",{"$f":"IF(P110=\"\",\"\",COUNTIF(P111:$P$2084,P110))","v":""},""]
[null,null,null,null,null,null,null,"",null,"","","","","","","",{"$f":"IF(P111=\"\",\"\",COUNTIF(P112:$P$2084,P111))","v":""},""]
[null,null,null,null,null,null,null,"",null,"","","","","","","",{"$f":"IF(P112=\"\",\"\",COUNTIF(P113:$P$2084,P112))","v":""},""]
[null,null,null,null,null,null,null,"",null,"","","","","","","",{"$f":"IF(P113=\"\",\"\",COUNTIF(P114:$P$2084,P113))","v":""},""]
[null,null,null,null,null,null,null,"",null,"","","","","","","",{"$f":"IF(P114=\"\",\"\",COUNTIF(P115:$P$2084,P114))","v":""},""]
[null,null,null,null,null,null,null,"",null,"","","","","","","",{"$f":"IF(P115=\"\",\"\",COUNTIF(P116:$P$2084,P115))","v":""},""]
[null,null,null,null,null,null,null,"",null,"","","","","","","",{"$f":"IF(P116=\"\",\"\",COUNTIF(P117:$P$2084,P116))","v":""},""]
[null,null,null,null,null,null,null,"",null,"","","","","","","",{"$f":"IF(P117=\"\",\"\",COUNTIF(P118:$P$2084,P117))","v":""},""]
[null,null,null,null,null,null,null,"",null,"","","","","","","",{"$f":"IF(P118=\"\",\"\",COUNTIF(P119:$P$2084,P118))","v":""},""]
[null,null,null,null,null,null,null,"",null,"","","","","","","",{"$f":"IF(P119=\"\",\"\",COUNTIF(P120:$P$2084,P119))","v":""},""]
[null,null,null,null,null,null,null,"",null,"","","","","","","",{"$f":"IF(P120=\"\",\"\",COUNTIF(P121:$P$2084,P120))","v":""},""]
[null,null,null,null,null,null,null,"",null,"","","","","","","",{"$f":"IF(P121=\"\",\"\",COUNTIF(P122:$P$2084,P121))","v":""},""]
[null,null,null,null,null,null,null,"",null,"","","","","","","",{"$f":"IF(P122=\"\",\"\",COUNTIF(P123:$P$2084,P122))","v":""},""]
[null,null,null,null,null,null,null,"",null,"","","","","","","",{"$f":"IF(P123=\"\",\"\",COUNTIF(P124:$P$2084,P123))","v":""},""]
[null,null,null,null,null,null,null,"",null,"","","","","","","",{"$f":"IF(P124=\"\",\"\",COUNTIF(P125:$P$2084,P124))","v":""},""]
[null,null,null,null,null,null,null,"",null,"","","","","","","",{"$f":"IF(P125=\"\",\"\",COUNTIF(P126:$P$2084,P125))","v":""},""]
[null,null,null,null,null,null,null,"",null,"","","","","","","",{"$f":"IF(P126=\"\",\"\",COUNTIF(P127:$P$2084,P126))","v":""},""]
[null,null,null,null,null,null,null,"",null,"","","","","","","",{"$f":"IF(P127=\"\",\"\",COUNTIF(P128:$P$2084,P127))","v":""},""]
[null,null,null,null,null,null,null,"",null,"","","","","","","",{"$f":"IF(P128=\"\",\"\",COUNTIF(P129:$P$2084,P128))","v":""},""]
[null,null,null,null,null,null,null,"",null,"","","","","","","",{"$f":"IF(P129=\"\",\"\",COUNTIF(P130:$P$2084,P129))","v":""},""]
[null,null,null,null,null,null,null,"",null,"","","","","","","",{"$f":"IF(P130=\"\",\"\",COUNTIF(P131:$P$2084,P130))","v":""},""]
[null,null,null,null,null,null,null,"",null,"","","","","","","",{"$f":"IF(P131=\"\",\"\",COUNTIF(P132:$P$2084,P131))","v":""},""]
[null,null,null,null,null,null,null,"",null,"","","","","","","",{"$f":"IF(P132=\"\",\"\",COUNTIF(P133:$P$2084,P132))","v":""},""]
[null,null,null,null,null,null,null,"",null,"","","","","","","",{"$f":"IF(P133=\"\",\"\",COUNTIF(P134:$P$2084,P133))","v":""},""]
[null,null,null,null,null,null,null,"",null,"","","","","","","",{"$f":"IF(P134=\"\",\"\",COUNTIF(P135:$P$2084,P134))","v":""},""]
[null,null,null,null,null,null,null,"",null,"","","","","","","",{"$f":"IF(P135=\"\",\"\",COUNTIF(P136:$P$2084,P135))","v":""},""]
[null,null,null,null,null,null,null,"",null,"","","","","","","",{"$f":"IF(P136=\"\",\"\",COUNTIF(P137:$P$2084,P136))","v":""},""]
[null,null,null,null,null,null,null,"",null,"","","","","","","",{"$f":"IF(P137=\"\",\"\",COUNTIF(P138:$P$2084,P137))","v":""},""]
[null,null,null,null,null,null,null,"",null,"","","","","","","",{"$f":"IF(P138=\"\",\"\",COUNTIF(P139:$P$2084,P138))","v":""},""]
[null,null,null,null,null,null,null,{"$f":"IF(ISBLANK(F139),\"\",SUM(G139*60)/F139)","v":""},null,"",{"$f":"IF(NOT(ISBLANK(G139)),IF(A139>0,10*G139,\"\"),\"\")","v":""},{"$f":"IF(NOT(ISBLANK(G139)),IF(A139> 0,10*SUM(A139*G139),\"\"),\"\")","v":""},{"$f":"IF(NOT(ISBLANK(H139)),IF(A139> 0,G139/2*10,\"\"),\"\")","v":""},"","",{"$f":"A139&D139&E139","v":""},{"$f":"IF(P139=\"\",\"\",COUNTIF(P140:$P$2084,P139))","v":""},""]
[null,null,null,null,null,null,null,"",null,{"$f":"IF(NOT(ISBLANK(G140)),G140*I140,\"\")","v":""},"","","",{"$f":"IF(NOT(ISBLANK(G140)),SUM(K140:M140),\"\")","v":""},{"$f":"IF(NOT(ISBLANK(I140)),I140*N140,\"\")","v":""},"",{"$f":"IF(P140=\"\",\"\",COUNTIF(P141:$P$2084,P140))","v":""},{"$f":"IF(Q140>0,RIGHT(P140,2),\"\")","v":""}]
[null,null,null,null,null,null,null,"",null,"","","","","","","",{"$f":"IF(P141=\"\",\"\",COUNTIF(P142:$P$2084,P141))","v":""},""]
[null,null,null,null,null,null,null,"",null,"","","","","","","",{"$f":"IF(P142=\"\",\"\",COUNTIF(P143:$P$2084,P142))","v":""},""]
[null,null,null,null,null,null,null,"",null,"","","","","","","",{"$f":"IF(P143=\"\",\"\",COUNTIF(P144:$P$2084,P143))","v":""},""]
[null,null,null,null,null,null,null,"",null,"","","","","","","",{"$f":"IF(P144=\"\",\"\",COUNTIF(P145:$P$2084,P144))","v":""},""]
[null,null,null,null,null,null,null,"",null,"","","","","","","",{"$f":"IF(P145=\"\",\"\",COUNTIF(P146:$P$2084,P145))","v":""},""]
[null,null,null,null,null,null,null,"",null,"","","","","","","",{"$f":"IF(P146=\"\",\"\",COUNTIF(P147:$P$2084,P146))","v":""},""]
[null,null,null,null,null,null,null,"",null,"","","","","","","",{"$f":"IF(P147=\"\",\"\",COUNTIF(P148:$P$2084,P147))","v":""},""]
[null,null,null,null,null,null,null,"",null,"","","","","","","",{"$f":"IF(P148=\"\",\"\",COUNTIF(P149:$P$2084,P148))","v":""},""]
[null,null,null,null,null,null,null,"",null,"","","","","","","",{"$f":"IF(P149=\"\",\"\",COUNTIF(P150:$P$2084,P149))","v":""},""]
[null,null,null,null,null,null,null,"",null,"","","","","","","",{"$f":"IF(P150=\"\",\"\",COUNTIF(P151:$P$2084,P150))","v":""},""]
[null,null,null,null,null,null,null,"",null,"","","","","","","",{"$f":"IF(P151=\"\",\"\",COUNTIF(P152:$P$2084,P151))","v":""},""]
[null,null,null,null,null,null,null,"",null,"","","","","","","",{"$f":"IF(P152=\"\",\"\",COUNTIF(P153:$P$2084,P152))","v":""},""]
[null,null,null,null,null,null,null,"",null,"","","","","","","",{"$f":"IF(P153=\"\",\"\",COUNTIF(P154:$P$2084,P153))","v":""},""]
[null,null,null,null,null,null,null,"",null,"","","","","","","",{"$f":"IF(P154=\"\",\"\",COUNTIF(P155:$P$2084,P154))","v":""},""]
[null,null,null,null,null,null,null,"",null,"","","","","","","",{"$f":"IF(P155=\"\",\"\",COUNTIF(P156:$P$2084,P155))","v":""},""]
[null,null,null,null,null,null,null,"",null,"","","","","","","",{"$f":"IF(P156=\"\",\"\",COUNTIF(P157:$P$2084,P156))","v":""},""]
[null,null,null,null,null,null,null,"",null,"","","","","","","",{"$f":"IF(P157=\"\",\"\",COUNTIF(P158:$P$2084,P157))","v":""},""]
[null,null,null,null,null,null,null,"",null,"","","","","","","",{"$f":"IF(P158=\"\",\"\",COUNTIF(P159:$P$2084,P158))","v":""},""]
[null,null,null,null,null,null,null,"",null,"","","","","","","",{"$f":"IF(P159=\"\",\"\",COUNTIF(P160:$P$2084,P159))","v":""},""]
[null,null,null,null,null,null,null,"",null,"","","","","","","",{"$f":"IF(P160=\"\",\"\",COUNTIF(P161:$P$2084,P160))","v":""},""]
[null,null,null,null,null,null,null,"",null,"","","","","","","",{"$f":"IF(P161=\"\",\"\",COUNTIF(P162:$P$2084,P161))","v":""},""]
[null,null,null,null,null,null,null,"",null,"","","","","","","",{"$f":"IF(P162=\"\",\"\",COUNTIF(P163:$P$2084,P162))","v":""},""]
[null,null,null,null,null,null,null,"",null,"","","","","","","",{"$f":"IF(P163=\"\",\"\",COUNTIF(P164:$P$2084,P163))","v":""},""]
[null,null,null,null,null,null,null,"",null,"","","","","","","",{"$f":"IF(P164=\"\",\"\",COUNTIF(P165:$P$2084,P164))","v":""},""]
[null,null,null,null,null,null,null,"",null,"","","","","","","",{"$f":"IF(P165=\"\",\"\",COUNTIF(P166:$P$2084,P165))","v":""},""]
[null,null,null,null,null,null,null,"",null,"","","","","","","",{"$f":"IF(P166=\"\",\"\",COUNTIF(P167:$P$2084,P166))","v":""},""]
[null,null,null,null,null,null,null,"",null,"","","","","","","",{"$f":"IF(P167=\"\",\"\",COUNTIF(P168:$P$2084,P167))","v":""},""]
[null,null,null,null,null,null,null,"",null,"","","","","","","",{"$f":"IF(P168=\"\",\"\",COUNTIF(P169:$P$2084,P168))","v":""},""]
[null,null,null,null,null,null,null,"",null,"","","","","","","",{"$f":"IF(P169=\"\",\"\",COUNTIF(P170:$P$2084,P169))","v":""},""]
[null,null,null,null,null,null,null,"",null,"","","","","","","",{"$f":"IF(P170=\"\",\"\",COUNTIF(P171:$P$2084,P170))","v":""},""]
[null,null,null,null,null,null,null,"",null,"","","","","","","",{"$f":"IF(P171=\"\",\"\",COUNTIF(P172:$P$2084,P171))","v":""},""]
[null,null,null,null,null,null,null,"",null,"","","","","","","",{"$f":"IF(P172=\"\",\"\",COUNTIF(P173:$P$2084,P172))","v":""},""]
[null,null,null,null,null,null,null,"",null,"","","","","","","",{"$f":"IF(P173=\"\",\"\",COUNTIF(P174:$P$2084,P173))","v":""},""]
[null,null,null,null,null,null,null,"",null,"","","","","","","",{"$f":"IF(P174=\"\",\"\",COUNTIF(P175:$P$2084,P174))","v":""},""]
[null,null,null,null,null,null,null,"",null,"","","","","","","",{"$f":"IF(P175=\"\",\"\",COUNTIF(P176:$P$2084,P175))","v":""},""]
[null,null,null,null,null,null,null,"",null,"","","","","","","",{"$f":"IF(P176=\"\",\"\",COUNTIF(P177:$P$2084,P176))","v":""},""]
[null,null,null,null,null,null,null,"",null,"","","","","","","",{"$f":"IF(P177=\"\",\"\",COUNTIF(P178:$P$2084,P177))","v":""},""]
[null,null,null,null,null,null,null,"",null,"","","","","","","",{"$f":"IF(P178=\"\",\"\",COUNTIF(P179:$P$2084,P178))","v":""},""]
[null,null,null,null,null,null,null,"",null,"","","","","","","",{"$f":"IF(P179=\"\",\"\",COUNTIF(P180:$P$2084,P179))","v":""},""]
[null,null,null,null,null,null,null,"",null,"","","","","","","",{"$f":"IF(P180=\"\",\"\",COUNTIF(P181:$P$2084,P180))","v":""},""]
[null,null,null,null,null,null,null,"",null,"","","","","","","",{"$f":"IF(P181=\"\",\"\",COUNTIF(P182:$P$2084,P181))","v":""},""]
[null,null,null,null,null,null,null,"",null,"","","","","","","",{"$f":"IF(P182=\"\",\"\",COUNTIF(P183:$P$2084,P182))","v":""},""]
[null,null,null,null,null,null,null,"",null,"","","","","","","",{"$f":"IF(P183=\"\",\"\",COUNTIF(P184:$P$2084,P183))","v":""},""]
[null,null,null,null,null,null,null,"",null,"","","","","","","",{"$f":"IF(P184=\"\",\"\",COUNTIF(P185:$P$2084,P184))","v":""},""]
[null,null,null,null,null,null,null,"",null,"","","","","","","",{"$f":"IF(P185=\"\",\"\",COUNTIF(P186:$P$2084,P185))","v":""},""]
[null,null,null,null,null,null,null,"",null,"","","","","","","",{"$f":"IF(P186=\"\",\"\",COUNTIF(P187:$P$2084,P186))","v":""},""]
[null,null,null,null,null,null,null,"",null,"","","","","","","",{"$f":"IF(P187=\"\",\"\",COUNTIF(P188:$P$2084,P187))","v":""},""]
[null,null,null,null,null,null,null,"",null,"","","","","","","",{"$f":"IF(P188=\"\",\"\",COUNTIF(P189:$P$2084,P188))","v":""},""]
[null,null,null,null,null,null,null,"",null,"","","","","","","",{"$f":"IF(P189=\"\",\"\",COUNTIF(P190:$P$2084,P189))","v":""},""]
[null,null,null,null,null,null,null,"",null,"","","","","","","",{"$f":"IF(P190=\"\",\"\",COUNTIF(P191:$P$2084,P190))","v":""},""]
[null,null,null,null,null,null,null,"",null,"","","","","","","",{"$f":"IF(P191=\"\",\"\",COUNTIF(P192:$P$2084,P191))","v":""},""]
[null,null,null,null,null,null,null,"",null,"","","","","","","",{"$f":"IF(P192=\"\",\"\",COUNTIF(P193:$P$2084,P192))","v":""},""]
[null,null,null,null,null,null,null,"",null,"","","","","","","",{"$f":"IF(P193=\"\",\"\",COUNTIF(P194:$P$2084,P193))","v":""},""]
[null,null,null,null,null,null,null,"",null,"","","","","","","",{"$f":"IF(P194=\"\",\"\",COUNTIF(P195:$P$2084,P194))","v":""},""]
[null,null,null,null,null,null,null,"",null,"","","","","","","",{"$f":"IF(P195=\"\",\"\",COUNTIF(P196:$P$2084,P195))","v":""},""]
[null,null,null,null,null,null,null,"",null,"","","","","","","",{"$f":"IF(P196=\"\",\"\",COUNTIF(P197:$P$2084,P196))","v":""},""]
[null,null,null,null,null,null,null,"",null,"","","","","","","",{"$f":"IF(P197=\"\",\"\",COUNTIF(P198:$P$2084,P197))","v":""},""]
[null,null,null,null,null,null,null,"",null,"","","","","","","",{"$f":"IF(P198=\"\",\"\",COUNTIF(P199:$P$2084,P198))","v":""},""]
[null,null,null,null,null,null,null,"",null,"","","","","","","",{"$f":"IF(P199=\"\",\"\",COUNTIF(P200:$P$2084,P199))","v":""},""]
[null,null,null,null,null,null,null,"",null,"","","","","","","",{"$f":"IF(P200=\"\",\"\",COUNTIF(P201:$P$2084,P200))","v":""},""]
[null,null,null,null,null,null,null,"",null,"","","","","","","",{"$f":"IF(P201=\"\",\"\",COUNTIF(P202:$P$2084,P201))","v":""},""]
[null,null,null,null,null,null,null,"",null,"","","","","","","",{"$f":"IF(P202=\"\",\"\",COUNTIF(P203:$P$2084,P202))","v":""},""]
[null,null,null,null,null,null,null,{"$f":"IF(ISBLANK(F203),\"\",SUM(G203*60)/F203)","v":""},null,"",{"$f":"IF(NOT(ISBLANK(G203)),IF(A203>0,10*G203,\"\"),\"\")","v":""},{"$f":"IF(NOT(ISBLANK(G203)),IF(A203> 0,10*SUM(A203*G203),\"\"),\"\")","v":""},{"$f":"IF(NOT(ISBLANK(H203)),IF(A203> 0,G203/2*10,\"\"),\"\")","v":""},"","",{"$f":"A203&D203&E203","v":""},{"$f":"IF(P203=\"\",\"\",COUNTIF(P204:$P$2084,P203))","v":""},""]
[null,null,null,null,null,null,null,"",null,{"$f":"IF(NOT(ISBLANK(G204)),G204*I204,\"\")","v":""},"","","",{"$f":"IF(NOT(ISBLANK(G204)),SUM(K204:M204),\"\")","v":""},{"$f":"IF(NOT(ISBLANK(I204)),I204*N204,\"\")","v":""},"",{"$f":"IF(P204=\"\",\"\",COUNTIF(P205:$P$2084,P204))","v":""},{"$f":"IF(Q204>0,RIGHT(P204,2),\"\")","v":""}]
[null,null,null,null,null,null,null,"",null,"","","","","","","",{"$f":"IF(P205=\"\",\"\",COUNTIF(P206:$P$2084,P205))","v":""},""]
[null,null,null,null,null,null,null,"",null,"","","","","","","",{"$f":"IF(P206=\"\",\"\",COUNTIF(P207:$P$2084,P206))","v":""},""]
[null,null,null,null,null,null,null,"",null,"","","","","","","",{"$f":"IF(P207=\"\",\"\",COUNTIF(P208:$P$2084,P207))","v":""},""]
[null,null,null,null,null,null,null,"",null,"","","","","","","",{"$f":"IF(P208=\"\",\"\",COUNTIF(P209:$P$2084,P208))","v":""},""]
[null,null,null,null,null,null,null,"",null,"","","","","","","",{"$f":"IF(P209=\"\",\"\",COUNTIF(P210:$P$2084,P209))","v":""},""]
[null,null,null,null,null,null,null,"",null,"","","","","","","",{"$f":"IF(P210=\"\",\"\",COUNTIF(P211:$P$2084,P210))","v":""},""]
[null,null,null,null,null,null,null,"",null,"","","","","","","",{"$f":"IF(P211=\"\",\"\",COUNTIF(P212:$P$2084,P211))","v":""},""]
[null,null,null,null,null,null,null,"",null,"","","","","","","",{"$f":"IF(P212=\"\",\"\",COUNTIF(P213:$P$2084,P212))","v":""},""]
[null,null,null,null,null,null,null,"",null,"","","","","","","",{"$f":"IF(P213=\"\",\"\",COUNTIF(P214:$P$2084,P213))","v":""},""]
[null,null,null,null,null,null,null,"",null,"","","","","","","",{"$f":"IF(P214=\"\",\"\",COUNTIF(P215:$P$2084,P214))","v":""},""]
[null,null,null,null,null,null,null,"",null,"","","","","","","",{"$f":"IF(P215=\"\",\"\",COUNTIF(P216:$P$2084,P215))","v":""},""]
[null,null,null,null,null,null,null,"",null,"","","","","","","",{"$f":"IF(P216=\"\",\"\",COUNTIF(P217:$P$2084,P216))","v":""},""]
[null,null,null,null,null,null,null,"",null,"","","","","","","",{"$f":"IF(P217=\"\",\"\",COUNTIF(P218:$P$2084,P217))","v":""},""]
[null,null,null,null,null,null,null,"",null,"","","","","","","",{"$f":"IF(P218=\"\",\"\",COUNTIF(P219:$P$2084,P218))","v":""},""]
[null,null,null,null,null,null,null,"",null,"","","","","","","",{"$f":"IF(P219=\"\",\"\",COUNTIF(P220:$P$2084,P219))","v":""},""]
[null,null,null,null,null,null,null,"",null,"","","","","","","",{"$f":"IF(P220=\"\",\"\",COUNTIF(P221:$P$2084,P220))","v":""},""]
[null,null,null,null,null,null,null,"",null,"","","","","","","",{"$f":"IF(P221=\"\",\"\",COUNTIF(P222:$P$2084,P221))","v":""},""]
[null,null,null,null,null,null,null,"",null,"","","","","","","",{"$f":"IF(P222=\"\",\"\",COUNTIF(P223:$P$2084,P222))","v":""},""]
[null,null,null,null,null,null,null,"",null,"","","","","","","",{"$f":"IF(P223=\"\",\"\",COUNTIF(P224:$P$2084,P223))","v":""},""]
[null,null,null,null,null,null,null,"",null,"","","","","","","",{"$f":"IF(P224=\"\",\"\",COUNTIF(P225:$P$2084,P224))","v":""},""]
[null,null,null,null,null,null,null,"",null,"","","","","","","",{"$f":"IF(P225=\"\",\"\",COUNTIF(P226:$P$2084,P225))","v":""},""]
[null,null,null,null,null,null,null,"",null,"","","","","","","",{"$f":"IF(P226=\"\",\"\",COUNTIF(P227:$P$2084,P226))","v":""},""]
[null,null,null,null,null,null,null,"",null,"","","","","","","",{"$f":"IF(P227=\"\",\"\",COUNTIF(P228:$P$2084,P227))","v":""},""]
[null,null,null,null,null,null,null,"",null,"","","","","","","",{"$f":"IF(P228=\"\",\"\",COUNTIF(P229:$P$2084,P228))","v":""},""]
[null,null,null,null,null,null,null,"",null,"","","","","","","",{"$f":"IF(P229=\"\",\"\",COUNTIF(P230:$P$2084,P229))","v":""},""]
[null,null,null,null,null,null,null,"",null,"","","","","","","",{"$f":"IF(P230=\"\",\"\",COUNTIF(P231:$P$2084,P230))","v":""},""]
[null,null,null,null,null,null,null,"",null,"","","","","","","",{"$f":"IF(P231=\"\",\"\",COUNTIF(P232:$P$2084,P231))","v":""},""]
[null,null,null,null,null,null,null,"",null,"","","","","","","",{"$f":"IF(P232=\"\",\"\",COUNTIF(P233:$P$2084,P232))","v":""},""]
[null,null,null,null,null,null,null,"",null,"","","","","","","",{"$f":"IF(P233=\"\",\"\",COUNTIF(P234:$P$2084,P233))","v":""},""]
[null,null,null,null,null,null,null,"",null,"","","","","","","",{"$f":"IF(P234=\"\",\"\",COUNTIF(P235:$P$2084,P234))","v":""},""]
[null,null,null,null,null,null,null,"",null,"","","","","","","",{"$f":"IF(P235=\"\",\"\",COUNTIF(P236:$P$2084,P235))","v":""},""]
[null,null,null,null,null,null,null,"",null,"","","","","","","",{"$f":"IF(P236=\"\",\"\",COUNTIF(P237:$P$2084,P236))","v":""},""]
[null,null,null,null,null,null,null,"",null,"","","","","","","",{"$f":"IF(P237=\"\",\"\",COUNTIF(P238:$P$2084,P237))","v":""},""]
[null,null,null,null,null,null,null,"",null,"","","","","","","",{"$f":"IF(P238=\"\",\"\",COUNTIF(P239:$P$2084,P238))","v":""},""]
[null,null,null,null,null,null,null,"",null,"","","","","","","",{"$f":"IF(P239=\"\",\"\",COUNTIF(P240:$P$2084,P239))","v":""},""]
[null,null,null,null,null,null,null,"",null,"","","","","","","",{"$f":"IF(P240=\"\",\"\",COUNTIF(P241:$P$2084,P240))","v":""},""]
[null,null,null,null,null,null,null,"",null,"","","","","","","",{"$f":"IF(P241=\"\",\"\",COUNTIF(P242:$P$2084,P241))","v":""},""]
[null,null,null,null,null,null,null,"",null,"","","","","","","",{"$f":"IF(P242=\"\",\"\",COUNTIF(P243:$P$2084,P242))","v":""},""]
[null,null,null,null,null,null,null,"",null,"","","","","","","",{"$f":"IF(P243=\"\",\"\",COUNTIF(P244:$P$2084,P243))","v":""},""]
[null,null,null,null,null,null,null,"",null,"","","","","","","",{"$f":"IF(P244=\"\",\"\",COUNTIF(P245:$P$2084,P244))","v":""},""]
[null,null,null,null,null,null,null,"",null,"","","","","","","",{"$f":"IF(P245=\"\",\"\",COUNTIF(P246:$P$2084,P245))","v":""},""]
[null,null,null,null,null,null,null,"",null,"","","","","","","",{"$f":"IF(P246=\"\",\"\",COUNTIF(P247:$P$2084,P246))","v":""},""]
[null,null,null,null,null,null,null,"",null,"","","","","","","",{"$f":"IF(P247=\"\",\"\",COUNTIF(P248:$P$2084,P247))","v":""},""]
[null,null,null,null,null,null,null,"",null,"","","","","","","",{"$f":"IF(P248=\"\",\"\",COUNTIF(P249:$P$2084,P248))","v":""},""]
[null,null,null,null,null,null,null,"",null,"","","","","","","",{"$f":"IF(P249=\"\",\"\",COUNTIF(P250:$P$2084,P249))","v":""},""]
[null,null,null,null,null,null,null,"",null,"","","","","","","",{"$f":"IF(P250=\"\",\"\",COUNTIF(P251:$P$2084,P250))","v":""},""]
[null,null,null,null,null,null,null,"",null,"","","","","","","",{"$f":"IF(P251=\"\",\"\",COUNTIF(P252:$P$2084,P251))","v":""},""]
[null,null,null,null,null,null,null,"",null,"","","","","","","",{"$f":"IF(P252=\"\",\"\",COUNTIF(P253:$P$2084,P252))","v":""},""]
[null,null,null,null,null,null,null,"",null,"","","","","","","",{"$f":"IF(P253=\"\",\"\",COUNTIF(P254:$P$2084,P253))","v":""},""]
[null,null,null,null,null,null,null,"",null,"","","","","","","",{"$f":"IF(P254=\"\",\"\",COUNTIF(P255:$P$2084,P254))","v":""},""]
[null,null,null,null,null,null,null,"",null,"","","","","","","",{"$f":"IF(P255=\"\",\"\",COUNTIF(P256:$P$2084,P255))","v":""},""]
[null,null,null,null,null,null,null,"",null,"","","","","","","",{"$f":"IF(P256=\"\",\"\",COUNTIF(P257:$P$2084,P256))","v":""},""]
[null,null,null,null,null,null,null,"",null,"","","","","","","",{"$f":"IF(P257=\"\",\"\",COUNTIF(P258:$P$2084,P257))","v":""},""]
[null,null,null,null,null,null,null,"",null,"","","","","","","",{"$f":"IF(P258=\"\",\"\",COUNTIF(P259:$P$2084,P258))","v":""},""]
[null,null,null,null,null,null,null,"",null,"","","","","","","",{"$f":"IF(P259=\"\",\"\",COUNTIF(P260:$P$2084,P259))","v":""},""]
[null,null,null,null,null,null,null,"",null,"","","","","","","",{"$f":"IF(P260=\"\",\"\",COUNTIF(P261:$P$2084,P260))","v":""},""]
[null,null,null,null,null,null,null,"",null,"","","","","","","",{"$f":"IF(P261=\"\",\"\",COUNTIF(P262:$P$2084,P261))","v":""},""]
[null,null,null,null,null,null,null,"",null,"","","","","","","",{"$f":"IF(P262=\"\",\"\",COUNTIF(P263:$P$2084,P262))","v":""},""]
[null,null,null,null,null,null,null,"",null,"","","","","","","",{"$f":"IF(P263=\"\",\"\",COUNTIF(P264:$P$2084,P263))","v":""},""]
[null,null,null,null,null,null,null,"",null,"","","","","","","",{"$f":"IF(P264=\"\",\"\",COUNTIF(P265:$P$2084,P264))","v":""},""]
[null,null,null,null,null,null,null,"",null,"","","","","","","",{"$f":"IF(P265=\"\",\"\",COUNTIF(P266:$P$2084,P265))","v":""},""]
[null,null,null,null,null,null,null,"",null,"","","","","","","",{"$f":"IF(P266=\"\",\"\",COUNTIF(P267:$P$2084,P266))","v":""},""]
[null,null,null,null,null,null,null,{"$f":"IF(ISBLANK(F267),\"\",SUM(G267*60)/F267)","v":""},null,"",{"$f":"IF(NOT(ISBLANK(G267)),IF(A267>0,10*G267,\"\"),\"\")","v":""},{"$f":"IF(NOT(ISBLANK(G267)),IF(A267> 0,10*SUM(A267*G267),\"\"),\"\")","v":""},{"$f":"IF(NOT(ISBLANK(H267)),IF(A267> 0,G267/2*10,\"\"),\"\")","v":""},"","",{"$f":"A267&D267&E267","v":""},{"$f":"IF(P267=\"\",\"\",COUNTIF(P268:$P$2084,P267))","v":""},""]
[null,null,null,null,null,null,null,"",null,{"$f":"IF(NOT(ISBLANK(G268)),G268*I268,\"\")","v":""},"","","",{"$f":"IF(NOT(ISBLANK(G268)),SUM(K268:M268),\"\")","v":""},{"$f":"IF(NOT(ISBLANK(I268)),I268*N268,\"\")","v":""},"",{"$f":"IF(P268=\"\",\"\",COUNTIF(P269:$P$2084,P268))","v":""},{"$f":"IF(Q268>0,RIGHT(P268,2),\"\")","v":""}]
[null,null,null,null,null,null,null,"",null,"","","","","","","",{"$f":"IF(P269=\"\",\"\",COUNTIF(P270:$P$2084,P269))","v":""},""]
[null,null,null,null,null,null,null,"",null,"","","","","","","",{"$f":"IF(P270=\"\",\"\",COUNTIF(P271:$P$2084,P270))","v":""},""]
[null,null,null,null,null,null,null,"",null,"","","","","","","",{"$f":"IF(P271=\"\",\"\",COUNTIF(P272:$P$2084,P271))","v":""},""]
[null,null,null,null,null,null,null,"",null,"","","","","","","",{"$f":"IF(P272=\"\",\"\",COUNTIF(P273:$P$2084,P272))","v":""},""]
[null,null,null,null,null,null,null,"",null,"","","","","","","",{"$f":"IF(P273=\"\",\"\",COUNTIF(P274:$P$2084,P273))","v":""},""]
[null,null,null,null,null,null,null,"",null,"","","","","","","",{"$f":"IF(P274=\"\",\"\",COUNTIF(P275:$P$2084,P274))","v":""},""]
[null,null,null,null,null,null,null,"",null,"","","","","","","",{"$f":"IF(P275=\"\",\"\",COUNTIF(P276:$P$2084,P275))","v":""},""]
[null,null,null,null,null,null,null,"",null,"","","","","","","",{"$f":"IF(P276=\"\",\"\",COUNTIF(P277:$P$2084,P276))","v":""},""]
[null,null,null,null,null,null,null,"",null,"","","","","","","",{"$f":"IF(P277=\"\",\"\",COUNTIF(P278:$P$2084,P277))","v":""},""]
[null,null,null,null,null,null,null,"",null,"","","","","","","",{"$f":"IF(P278=\"\",\"\",COUNTIF(P279:$P$2084,P278))","v":""},""]
[null,null,null,null,null,null,null,"",null,"","","","","","","",{"$f":"IF(P279=\"\",\"\",COUNTIF(P280:$P$2084,P279))","v":""},""]
[null,null,null,null,null,null,null,"",null,"","","","","","","",{"$f":"IF(P280=\"\",\"\",COUNTIF(P281:$P$2084,P280))","v":""},""]
[null,null,null,null,null,null,null,"",null,"","","","","","","",{"$f":"IF(P281=\"\",\"\",COUNTIF(P282:$P$2084,P281))","v":""},""]
[null,null,null,null,null,null,null,"",null,"","","","","","","",{"$f":"IF(P282=\"\",\"\",COUNTIF(P283:$P$2084,P282))","v":""},""]
[null,null,null,null,null,null,null,"",null,"","","","","","","",{"$f":"IF(P283=\"\",\"\",COUNTIF(P284:$P$2084,P283))","v":""},""]
[null,null,null,null,null,null,null,"",null,"","","","","","","",{"$f":"IF(P284=\"\",\"\",COUNTIF(P285:$P$2084,P284))","v":""},""]
[null,null,null,null,null,null,null,"",null,"","","","","","","",{"$f":"IF(P285=\"\",\"\",COUNTIF(P286:$P$2084,P285))","v":""},""]
[null,null,null,null,null,null,null,"",null,"","","","","","","",{"$f":"IF(P286=\"\",\"\",COUNTIF(P287:$P$2084,P286))","v":""},""]
[null,null,null,null,null,null,null,"",null,"","","","","","","",{"$f":"IF(P287=\"\",\"\",COUNTIF(P288:$P$2084,P287))","v":""},""]
[null,null,null,null,null,null,null,"",null,"","","","","","","",{"$f":"IF(P288=\"\",\"\",COUNTIF(P289:$P$2084,P288))","v":""},""]
[null,null,null,null,null,null,null,"",null,"","","","","","","",{"$f":"IF(P289=\"\",\"\",COUNTIF(P290:$P$2084,P289))","v":""},""]
[null,null,null,null,null,null,null,"",null,"","","","","","","",{"$f":"IF(P290=\"\",\"\",COUNTIF(P291:$P$2084,P290))","v":""},""]
[null,null,null,null,null,null,null,"",null,"","","","","","","",{"$f":"IF(P291=\"\",\"\",COUNTIF(P292:$P$2084,P291))","v":""},""]
[null,null,null,null,null,null,null,"",null,"","","","","","","",{"$f":"IF(P292=\"\",\"\",COUNTIF(P293:$P$2084,P292))","v":""},""]
[null,null,null,null,null,null,null,"",null,"","","","","","","",{"$f":"IF(P293=\"\",\"\",COUNTIF(P294:$P$2084,P293))","v":""},""]
[null,null,null,null,null,null,null,"",null,"","","","","","","",{"$f":"IF(P294=\"\",\"\",COUNTIF(P295:$P$2084,P294))","v":""},""]
[null,null,null,null,null,null,null,"",null,"","","","","","","",{"$f":"IF(P295=\"\",\"\",COUNTIF(P296:$P$2084,P295))","v":""},""]
[null,null,null,null,null,null,null,"",null,"","","","","","","",{"$f":"IF(P296=\"\",\"\",COUNTIF(P297:$P$2084,P296))","v":""},""]
[null,null,null,null,null,null,null,"",null,"","","","","","","",{"$f":"IF(P297=\"\",\"\",COUNTIF(P298:$P$2084,P297))","v":""},""]
[null,null,null,null,null,null,null,"",null,"","","","","","","",{"$f":"IF(P298=\"\",\"\",COUNTIF(P299:$P$2084,P298))","v":""},""]
[null,null,null,null,null,null,null,"",null,"","","","","","","",{"$f":"IF(P299=\"\",\"\",COUNTIF(P300:$P$2084,P299))","v":""},""]
[null,null,null,null,null,null,null,"",null,"","","","","","","",{"$f":"IF(P300=\"\",\"\",COUNTIF(P301:$P$2084,P300))","v":""},""]
[null,null,null,null,null,null,null,"",null,"","","","","","","",{"$f":"IF(P301=\"\",\"\",COUNTIF(P302:$P$2084,P301))","v":""},""]
[null,null,null,null,null,null,null,"",null,"","","","","","","",{"$f":"IF(P302=\"\",\"\",COUNTIF(P303:$P$2084,P302))","v":""},""]
[null,null,null,null,null,null,null,"",null,"","","","","","","",{"$f":"IF(P303=\"\",\"\",COUNTIF(P304:$P$2084,P303))","v":""},""]
[null,null,null,null,null,null,null,"",null,"","","","","","","",{"$f":"IF(P304=\"\",\"\",COUNTIF(P305:$P$2084,P304))","v":""},""]
[null,null,null,null,null,null,null,"",null,"","","","","","","",{"$f":"IF(P305=\"\",\"\",COUNTIF(P306:$P$2084,P305))","v":""},""]
[null,null,null,null,null,null,null,"",null,"","","","","","","",{"$f":"IF(P306=\"\",\"\",COUNTIF(P307:$P$2084,P306))","v":""},""]
[null,null,null,null,null,null,null,"",null,"","","","","","","",{"$f":"IF(P307=\"\",\"\",COUNTIF(P308:$P$2084,P307))","v":""},""]
[null,null,null,null,null,null,null,"",null,"","","","","","","",{"$f":"IF(P308=\"\",\"\",COUNTIF(P309:$P$2084,P308))","v":""},""]
[null,null,null,null,null,null,null,"",null,"","","","","","","",{"$f":"IF(P309=\"\",\"\",COUNTIF(P310:$P$2084,P309))","v":""},""]
[null,null,null,null,null,null,null,"",null,"","","","","","","",{"$f":"IF(P310=\"\",\"\",COUNTIF(P311:$P$2084,P310))","v":""},""]
[null,null,null,null,null,null,null,"",null,"","","","","","","",{"$f":"IF(P311=\"\",\"\",COUNTIF(P312:$P$2084,P311))","v":""},""]
[null,null,null,null,null,null,null,"",null,"","","","","","","",{"$f":"IF(P312=\"\",\"\",COUNTIF(P313:$P$2084,P312))","v":""},""]
[null,null,null,null,null,null,null,"",null,"","","","","","","",{"$f":"IF(P313=\"\",\"\",COUNTIF(P314:$P$2084,P313))","v":""},""]
[null,null,null,null,null,null,null,"",null,"","","","","","","",{"$f":"IF(P314=\"\",\"\",COUNTIF(P315:$P$2084,P314))","v":""},""]
[null,null,null,null,null,null,null,"",null,"","","","","","","",{"$f":"IF(P315=\"\",\"\",COUNTIF(P316:$P$2084,P315))","v":""},""]
[null,null,null,null,null,null,null,"",null,"","","","","","","",{"$f":"IF(P316=\"\",\"\",COUNTIF(P317:$P$2084,P316))","v":""},""]
[null,null,null,null,null,null,null,"",null,"","","","","","","",{"$f":"IF(P317=\"\",\"\",COUNTIF(P318:$P$2084,P317))","v":""},""]
[null,null,null,null,null,null,null,"",null,"","","","","","","",{"$f":"IF(P318=\"\",\"\",COUNTIF(P319:$P$2084,P318))","v":""},""]
[null,null,null,null,null,null,null,"",null,"","","","","","","",{"$f":"IF(P319=\"\",\"\",COUNTIF(P320:$P$2084,P319))","v":""},""]
[null,null,null,null,null,null,null,"",null,"","","","","","","",{"$f":"IF(P320=\"\",\"\",COUNTIF(P321:$P$2084,P320))","v":""},""]
[null,null,null,null,null,null,null,"",null,"","","","","","","",{"$f":"IF(P321=\"\",\"\",COUNTIF(P322:$P$2084,P321))","v":""},""]
[null,null,null,null,null,null,null,"",null,"","","","","","","",{"$f":"IF(P322=\"\",\"\",COUNTIF(P323:$P$2084,P322))","v":""},""]
[null,null,null,null,null,null,null,"",null,"","","","","","","",{"$f":"IF(P323=\"\",\"\",COUNTIF(P324:$P$2084,P323))","v":""},""]
[null,null,null,null,null,null,null,"",null,"","","","","","","",{"$f":"IF(P324=\"\",\"\",COUNTIF(P325:$P$2084,P324))","v":""},""]
[null,null,null,null,null,null,null,"",null,"","","","","","","",{"$f":"IF(P325=\"\",\"\",COUNTIF(P326:$P$2084,P325))","v":""},""]
[null,null,null,null,null,null,null,"",null,"","","","","","","",{"$f":"IF(P326=\"\",\"\",COUNTIF(P327:$P$2084,P326))","v":""},""]
[null,null,null,null,null,null,null,"",null,"","","","","","","",{"$f":"IF(P327=\"\",\"\",COUNTIF(P328:$P$2084,P327))","v":""},""]
[null,null,null,null,null,null,null,"",null,"","","","","","","",{"$f":"IF(P328=\"\",\"\",COUNTIF(P329:$P$2084,P328))","v":""},""]
[null,null,null,null,null,null,null,"",null,"","","","","","","",{"$f":"IF(P329=\"\",\"\",COUNTIF(P330:$P$2084,P329))","v":""},""]
[null,null,null,null,null,null,null,"",null,"","","","","","","",{"$f":"IF(P330=\"\",\"\",COUNTIF(P331:$P$2084,P330))","v":""},""]
[null,null,null,null,null,null,null,{"$f":"IF(ISBLANK(F331),\"\",SUM(G331*60)/F331)","v":""},null,"",{"$f":"IF(NOT(ISBLANK(G331)),IF(A331>0,10*G331,\"\"),\"\")","v":""},{"$f":"IF(NOT(ISBLANK(G331)),IF(A331> 0,10*SUM(A331*G331),\"\"),\"\")","v":""},{"$f":"IF(NOT(ISBLANK(H331)),IF(A331> 0,G331/2*10,\"\"),\"\")","v":""},"","",{"$f":"A331&D331&E331","v":""},{"$f":"IF(P331=\"\",\"\",COUNTIF(P332:$P$2084,P331))","v":""},""]
[null,null,null,null,null,null,null,"",null,{"$f":"IF(NOT(ISBLANK(G332)),G332*I332,\"\")","v":""},"","","",{"$f":"IF(NOT(ISBLANK(G332)),SUM(K332:M332),\"\")","v":""},{"$f":"IF(NOT(ISBLANK(I332)),I332*N332,\"\")","v":""},"",{"$f":"IF(P332=\"\",\"\",COUNTIF(P333:$P$2084,P332))","v":""},{"$f":"IF(Q332>0,RIGHT(P332,2),\"\")","v":""}]
[null,null,null,null,null,null,null,"",null,"","","","","","","",{"$f":"IF(P333=\"\",\"\",COUNTIF(P334:$P$2084,P333))","v":""},""]
[null,null,null,null,null,null,null,"",null,"","","","","","","",{"$f":"IF(P334=\"\",\"\",COUNTIF(P335:$P$2084,P334))","v":""},""]
[null,null,null,null,null,null,null,"",null,"","","","","","","",{"$f":"IF(P335=\"\",\"\",COUNTIF(P336:$P$2084,P335))","v":""},""]
[null,null,null,null,null,null,null,"",null,"","","","","","","",{"$f":"IF(P336=\"\",\"\",COUNTIF(P337:$P$2084,P336))","v":""},""]
[null,null,null,null,null,null,null,"",null,"","","","","","","",{"$f":"IF(P337=\"\",\"\",COUNTIF(P338:$P$2084,P337))","v":""},""]
[null,null,null,null,null,null,null,"",null,"","","","","","","",{"$f":"IF(P338=\"\",\"\",COUNTIF(P339:$P$2084,P338))","v":""},""]
[null,null,null,null,null,null,null,"",null,"","","","","","","",{"$f":"IF(P339=\"\",\"\",COUNTIF(P340:$P$2084,P339))","v":""},""]
[null,null,null,null,null,null,null,"",null,"","","","","","","",{"$f":"IF(P340=\"\",\"\",COUNTIF(P341:$P$2084,P340))","v":""},""]
[null,null,null,null,null,null,null,"",null,"","","","","","","",{"$f":"IF(P341=\"\",\"\",COUNTIF(P342:$P$2084,P341))","v":""},""]
[null,null,null,null,null,null,null,"",null,"","","","","","","",{"$f":"IF(P342=\"\",\"\",COUNTIF(P343:$P$2084,P342))","v":""},""]
[null,null,null,null,null,null,null,"",null,"","","","","","","",{"$f":"IF(P343=\"\",\"\",COUNTIF(P344:$P$2084,P343))","v":""},""]
[null,null,null,null,null,null,null,"",null,"","","","","","","",{"$f":"IF(P344=\"\",\"\",COUNTIF(P345:$P$2084,P344))","v":""},""]
[null,null,null,null,null,null,null,"",null,"","","","","","","",{"$f":"IF(P345=\"\",\"\",COUNTIF(P346:$P$2084,P345))","v":""},""]
[null,null,null,null,null,null,null,"",null,"","","","","","","",{"$f":"IF(P346=\"\",\"\",COUNTIF(P347:$P$2084,P346))","v":""},""]
[null,null,null,null,null,null,null,"",null,"","","","","","","",{"$f":"IF(P347=\"\",\"\",COUNTIF(P348:$P$2084,P347))","v":""},""]
[null,null,null,null,null,null,null,"",null,"","","","","","","",{"$f":"IF(P348=\"\",\"\",COUNTIF(P349:$P$2084,P348))","v":""},""]
[null,null,null,null,null,null,null,"",null,"","","","","","","",{"$f":"IF(P349=\"\",\"\",COUNTIF(P350:$P$2084,P349))","v":""},""]
[null,null,null,null,null,null,null,"",null,"","","","","","","",{"$f":"IF(P350=\"\",\"\",COUNTIF(P351:$P$2084,P350))","v":""},""]
[null,null,null,null,null,null,null,"",null,"","","","","","","",{"$f":"IF(P351=\"\",\"\",COUNTIF(P352:$P$2084,P351))","v":""},""]
[null,null,null,null,null,null,null,"",null,"","","","","","","",{"$f":"IF(P352=\"\",\"\",COUNTIF(P353:$P$2084,P352))","v":""},""]
[null,null,null,null,null,null,null,"",null,"","","","","","","",{"$f":"IF(P353=\"\",\"\",COUNTIF(P354:$P$2084,P353))","v":""},""]
[null,null,null,null,null,null,null,"",null,"","","","","","","",{"$f":"IF(P354=\"\",\"\",COUNTIF(P355:$P$2084,P354))","v":""},""]
[null,null,null,null,null,null,null,"",null,"","","","","","","",{"$f":"IF(P355=\"\",\"\",COUNTIF(P356:$P$2084,P355))","v":""},""]
[null,null,null,null,null,null,null,"",null,"","","","","","","",{"$f":"IF(P356=\"\",\"\",COUNTIF(P357:$P$2084,P356))","v":""},""]
[null,null,null,null,null,null,null,"",null,"","","","","","","",{"$f":"IF(P357=\"\",\"\",COUNTIF(P358:$P$2084,P357))","v":""},""]
[null,null,null,null,null,null,null,"",null,"","","","","","","",{"$f":"IF(P358=\"\",\"\",COUNTIF(P359:$P$2084,P358))","v":""},""]
[null,null,null,null,null,null,null,"",null,"","","","","","","",{"$f":"IF(P359=\"\",\"\",COUNTIF(P360:$P$2084,P359))","v":""},""]
[null,null,null,null,null,null,null,"",null,"","","","","","","",{"$f":"IF(P360=\"\",\"\",COUNTIF(P361:$P$2084,P360))","v":""},""]
[null,null,null,null,null,null,null,"",null,"","","","","","","",{"$f":"IF(P361=\"\",\"\",COUNTIF(P362:$P$2084,P361))","v":""},""]
[null,null,null,null,null,null,null,"",null,"","","","","","","",{"$f":"IF(P362=\"\",\"\",COUNTIF(P363:$P$2084,P362))","v":""},""]
[null,null,null,null,null,null,null,"",null,"","","","","","","",{"$f":"IF(P363=\"\",\"\",COUNTIF(P364:$P$2084,P363))","v":""},""]
[null,null,null,null,null,null,null,"",null,"","","","","","","",{"$f":"IF(P364=\"\",\"\",COUNTIF(P365:$P$2084,P364))","v":""},""]
[null,null,null,null,null,null,null,"",null,"","","","","","","",{"$f":"IF(P365=\"\",\"\",COUNTIF(P366:$P$2084,P365))","v":""},""]
[null,null,null,null,null,null,null,"",null,"","","","","","","",{"$f":"IF(P366=\"\",\"\",COUNTIF(P367:$P$2084,P366))","v":""},""]
[null,null,null,null,null,null,null,"",null,"","","","","","","",{"$f":"IF(P367=\"\",\"\",COUNTIF(P368:$P$2084,P367))","v":""},""]
[null,null,null,null,null,null,null,"",null,"","","","","","","",{"$f":"IF(P368=\"\",\"\",COUNTIF(P369:$P$2084,P368))","v":""},""]
[null,null,null,null,null,null,null,"",null,"","","","","","","",{"$f":"IF(P369=\"\",\"\",COUNTIF(P370:$P$2084,P369))","v":""},""]
[null,null,null,null,null,null,null,"",null,"","","","","","","",{"$f":"IF(P370=\"\",\"\",COUNTIF(P371:$P$2084,P370))","v":""},""]
[null,null,null,null,null,null,null,"",null,"","","","","","","",{"$f":"IF(P371=\"\",\"\",COUNTIF(P372:$P$2084,P371))","v":""},""]
[null,null,null,null,null,null,null,"",null,"","","","","","","",{"$f":"IF(P372=\"\",\"\",COUNTIF(P373:$P$2084,P372))","v":""},""]
[null,null,null,null,null,null,null,"",null,"","","","","","","",{"$f":"IF(P373=\"\",\"\",COUNTIF(P374:$P$2084,P373))","v":""},""]
[null,null,null,null,null,null,null,"",null,"","","","","","","",{"$f":"IF(P374=\"\",\"\",COUNTIF(P375:$P$2084,P374))","v":""},""]
[null,null,null,null,null,null,null,"",null,"","","","","","","",{"$f":"IF(P375=\"\",\"\",COUNTIF(P376:$P$2084,P375))","v":""},""]
[null,null,null,null,null,null,null,"",null,"","","","","","","",{"$f":"IF(P376=\"\",\"\",COUNTIF(P377:$P$2084,P376))","v":""},""]
[null,null,null,null,null,null,null,"",null,"","","","","","","",{"$f":"IF(P377=\"\",\"\",COUNTIF(P378:$P$2084,P377))","v":""},""]
[null,null,null,null,null,null,null,"",null,"","","","","","","",{"$f":"IF(P378=\"\",\"\",COUNTIF(P379:$P$2084,P378))","v":""},""]
[null,null,null,null,null,null,null,"",null,"","","","","","","",{"$f":"IF(P379=\"\",\"\",COUNTIF(P380:$P$2084,P379))","v":""},""]
[null,null,null,null,null,null,null,"",null,"","","","","","","",{"$f":"IF(P380=\"\",\"\",COUNTIF(P381:$P$2084,P380))","v":""},""]
[null,null,null,null,null,null,null,"",null,"","","","","","","",{"$f":"IF(P381=\"\",\"\",COUNTIF(P382:$P$2084,P381))","v":""},""]
[null,null,null,null,null,null,null,"",null,"","","","","","","",{"$f":"IF(P382=\"\",\"\",COUNTIF(P383:$P$2084,P382))","v":""},""]
[null,null,null,null,null,null,null,"",null,"","","","","","","",{"$f":"IF(P383=\"\",\"\",COUNTIF(P384:$P$2084,P383))","v":""},""]
[null,null,null,null,null,null,null,"",null,"","","","","","","",{"$f":"IF(P384=\"\",\"\",COUNTIF(P385:$P$2084,P384))","v":""},""]
[null,null,null,null,null,null,null,"",null,"","","","","","","",{"$f":"IF(P385=\"\",\"\",COUNTIF(P386:$P$2084,P385))","v":""},""]
[null,null,null,null,null,null,null,"",null,"","","","","","","",{"$f":"IF(P386=\"\",\"\",COUNTIF(P387:$P$2084,P386))","v":""},""]
[null,null,null,null,null,null,null,"",null,"","","","","","","",{"$f":"IF(P387=\"\",\"\",COUNTIF(P388:$P$2084,P387))","v":""},""]
[null,null,null,null,null,null,null,"",null,"","","","","","","",{"$f":"IF(P388=\"\",\"\",COUNTIF(P389:$P$2084,P388))","v":""},""]
[null,null,null,null,null,null,null,"",null,"","","","","","","",{"$f":"IF(P389=\"\",\"\",COUNTIF(P390:$P$2084,P389))","v":""},""]
[null,null,null,null,null,null,null,"",null,"","","","","","","",{"$f":"IF(P390=\"\",\"\",COUNTIF(P391:$P$2084,P390))","v":""},""]
[null,null,null,null,null,null,null,"",null,"","","","","","","",{"$f":"IF(P391=\"\",\"\",COUNTIF(P392:$P$2084,P391))","v":""},""]
[null,null,null,null,null,null,null,"",null,"","","","","","","",{"$f":"IF(P392=\"\",\"\",COUNTIF(P393:$P$2084,P392))","v":""},""]
[null,null,null,null,null,null,null,"",null,"","","","","","","",{"$f":"IF(P393=\"\",\"\",COUNTIF(P394:$P$2084,P393))","v":""},""]
[null,null,null,null,null,null,null,"",null,"","","","","","","",{"$f":"IF(P394=\"\",\"\",COUNTIF(P395:$P$2084,P394))","v":""},""]
[null,null,null,null,null,null,null,{"$f":"IF(ISBLANK(F395),\"\",SUM(G395*60)/F395)","v":""},null,"",{"$f":"IF(NOT(ISBLANK(G395)),IF(A395>0,10*G395,\"\"),\"\")","v":""},{"$f":"IF(NOT(ISBLANK(G395)),IF(A395> 0,10*SUM(A395*G395),\"\"),\"\")","v":""},{"$f":"IF(NOT(ISBLANK(H395)),IF(A395> 0,G395/2*10,\"\"),\"\")","v":""},"","",{"$f":"A395&D395&E395","v":""},{"$f":"IF(P395=\"\",\"\",COUNTIF(P396:$P$2084,P395))","v":""},""]
[null,null,null,null,null,null,null,"",null,{"$f":"IF(NOT(ISBLANK(G396)),G396*I396,\"\")","v":""},"","","",{"$f":"IF(NOT(ISBLANK(G396)),SUM(K396:M396),\"\")","v":""},{"$f":"IF(NOT(ISBLANK(I396)),I396*N396,\"\")","v":""},"",{"$f":"IF(P396=\"\",\"\",COUNTIF(P397:$P$2084,P396))","v":""},{"$f":"IF(Q396>0,RIGHT(P396,2),\"\")","v":""}]
[null,null,null,null,null,null,null,"",null,"","","","","","","",{"$f":"IF(P397=\"\",\"\",COUNTIF(P398:$P$2084,P397))","v":""},""]
[null,null,null,null,null,null,null,"",null,"","","","","","","",{"$f":"IF(P398=\"\",\"\",COUNTIF(P399:$P$2084,P398))","v":""},""]
[null,null,null,null,null,null,null,"",null,"","","","","","","",{"$f":"IF(P399=\"\",\"\",COUNTIF(P400:$P$2084,P399))","v":""},""]
[null,null,null,null,null,null,null,"",null,"","","","","","","",{"$f":"IF(P400=\"\",\"\",COUNTIF(P401:$P$2084,P400))","v":""},""]
[null,null,null,null,null,null,null,"",null,"","","","","","","",{"$f":"IF(P401=\"\",\"\",COUNTIF(P402:$P$2084,P401))","v":""},""]
[null,null,null,null,null,null,null,"",null,"","","","","","","",{"$f":"IF(P402=\"\",\"\",COUNTIF(P403:$P$2084,P402))","v":""},""]
[null,null,null,null,null,null,null,"",null,"","","","","","","",{"$f":"IF(P403=\"\",\"\",COUNTIF(P404:$P$2084,P403))","v":""},""]
[null,null,null,null,null,null,null,"",null,"","","","","","","",{"$f":"IF(P404=\"\",\"\",COUNTIF(P405:$P$2084,P404))","v":""},""]
[null,null,null,null,null,null,null,"",null,"","","","","","","",{"$f":"IF(P405=\"\",\"\",COUNTIF(P406:$P$2084,P405))","v":""},""]
[null,null,null,null,null,null,null,"",null,"","","","","","","",{"$f":"IF(P406=\"\",\"\",COUNTIF(P407:$P$2084,P406))","v":""},""]
[null,null,null,null,null,null,null,"",null,"","","","","","","",{"$f":"IF(P407=\"\",\"\",COUNTIF(P408:$P$2084,P407))","v":""},""]
[null,null,null,null,null,null,null,"",null,"","","","","","","",{"$f":"IF(P408=\"\",\"\",COUNTIF(P409:$P$2084,P408))","v":""},""]
[null,null,null,null,null,null,null,"",null,"","","","","","","",{"$f":"IF(P409=\"\",\"\",COUNTIF(P410:$P$2084,P409))","v":""},""]
[null,null,null,null,null,null,null,"",null,"","","","","","","",{"$f":"IF(P410=\"\",\"\",COUNTIF(P411:$P$2084,P410))","v":""},""]
[null,null,null,null,null,null,null,"",null,"","","","","","","",{"$f":"IF(P411=\"\",\"\",COUNTIF(P412:$P$2084,P411))","v":""},""]
[null,null,null,null,null,null,null,"",null,"","","","","","","",{"$f":"IF(P412=\"\",\"\",COUNTIF(P413:$P$2084,P412))","v":""},""]
[null,null,null,null,null,null,null,"",null,"","","","","","","",{"$f":"IF(P413=\"\",\"\",COUNTIF(P414:$P$2084,P413))","v":""},""]
[null,null,null,null,null,null,null,"",null,"","","","","","","",{"$f":"IF(P414=\"\",\"\",COUNTIF(P415:$P$2084,P414))","v":""},""]
[null,null,null,null,null,null,null,"",null,"","","","","","","",{"$f":"IF(P415=\"\",\"\",COUNTIF(P416:$P$2084,P415))","v":""},""]
[null,null,null,null,null,null,null,"",null,"","","","","","","",{"$f":"IF(P416=\"\",\"\",COUNTIF(P417:$P$2084,P416))","v":""},""]
[null,null,null,null,null,null,null,"",null,"","","","","","","",{"$f":"IF(P417=\"\",\"\",COUNTIF(P418:$P$2084,P417))","v":""},""]
[null,null,null,null,null,null,null,"",null,"","","","","","","",{"$f":"IF(P418=\"\",\"\",COUNTIF(P419:$P$2084,P418))","v":""},""]
[null,null,null,null,null,null,null,"",null,"","","","","","","",{"$f":"IF(P419=\"\",\"\",COUNTIF(P420:$P$2084,P419))","v":""},""]
[null,null,null,null,null,null,null,"",null,"","","","","","","",{"$f":"IF(P420=\"\",\"\",COUNTIF(P421:$P$2084,P420))","v":""},""]
[null,null,null,null,null,null,null,"",null,"","","","","","","",{"$f":"IF(P421=\"\",\"\",COUNTIF(P422:$P$2084,P421))","v":""},""]
[null,null,null,null,null,null,null,"",null,"","","","","","","",{"$f":"IF(P422=\"\",\"\",COUNTIF(P423:$P$2084,P422))","v":""},""]
[null,null,null,null,null,null,null,"",null,"","","","","","","",{"$f":"IF(P423=\"\",\"\",COUNTIF(P424:$P$2084,P423))","v":""},""]
[null,null,null,null,null,null,null,"",null,"","","","","","","",{"$f":"IF(P424=\"\",\"\",COUNTIF(P425:$P$2084,P424))","v":""},""]
[null,null,null,null,null,null,null,"",null,"","","","","","","",{"$f":"IF(P425=\"\",\"\",COUNTIF(P426:$P$2084,P425))","v":""},""]
[null,null,null,null,null,null,null,"",null,"","","","","","","",{"$f":"IF(P426=\"\",\"\",COUNTIF(P427:$P$2084,P426))","v":""},""]
[null,null,null,null,null,null,null,"",null,"","","","","","","",{"$f":"IF(P427=\"\",\"\",COUNTIF(P428:$P$2084,P427))","v":""},""]
[null,null,null,null,null,null,null,"",null,"","","","","","","",{"$f":"IF(P428=\"\",\"\",COUNTIF(P429:$P$2084,P428))","v":""},""]
[null,null,null,null,null,null,null,"",null,"","","","","","","",{"$f":"IF(P429=\"\",\"\",COUNTIF(P430:$P$2084,P429))","v":""},""]
[null,null,null,null,null,null,null,"",null,"","","","","","","",{"$f":"IF(P430=\"\",\"\",COUNTIF(P431:$P$2084,P430))","v":""},""]
[null,null,null,null,null,null,null,"",null,"","","","","","","",{"$f":"IF(P431=\"\",\"\",COUNTIF(P432:$P$2084,P431))","v":""},""]
[null,null,null,null,null,null,null,"",null,"","","","","","","",{"$f":"IF(P432=\"\",\"\",COUNTIF(P433:$P$2084,P432))","v":""},""]
[null,null,null,null,null,null,null,"",null,"","","","","","","",{"$f":"IF(P433=\"\",\"\",COUNTIF(P434:$P$2084,P433))","v":""},""]
[null,null,null,null,null,null,null,"",null,"","","","","","","",{"$f":"IF(P434=\"\",\"\",COUNTIF(P435:$P$2084,P434))","v":""},""]
[null,null,null,null,null,null,null,"",null,"","","","","","","",{"$f":"IF(P435=\"\",\"\",COUNTIF(P436:$P$2084,P435))","v":""},""]
[null,null,null,null,null,null,null,"",null,"","","","","","","",{"$f":"IF(P436=\"\",\"\",COUNTIF(P437:$P$2084,P436))","v":""},""]
[null,null,null,null,null,null,null,"",null,"","","","","","","",{"$f":"IF(P437=\"\",\"\",COUNTIF(P438:$P$2084,P437))","v":""},""]
[null,null,null,null,null,null,null,"",null,"","","","","","","",{"$f":"IF(P438=\"\",\"\",COUNTIF(P439:$P$2084,P438))","v":""},""]
[null,null,null,null,null,null,null,"",null,"","","","","","","",{"$f":"IF(P439=\"\",\"\",COUNTIF(P440:$P$2084,P439))","v":""},""]
[null,null,null,null,null,null,null,"",null,"","","","","","","",{"$f":"IF(P440=\"\",\"\",COUNTIF(P441:$P$2084,P440))","v":""},""]
[null,null,null,null,null,null,null,"",null,"","","","","","","",{"$f":"IF(P441=\"\",\"\",COUNTIF(P442:$P$2084,P441))","v":""},""]
[null,null,null,null,null,null,null,"",null,"","","","","","","",{"$f":"IF(P442=\"\",\"\",COUNTIF(P443:$P$2084,P442))","v":""},""]
[null,null,null,null,null,null,null,"",null,"","","","","","","",{"$f":"IF(P443=\"\",\"\",COUNTIF(P444:$P$2084,P443))","v":""},""]
[null,null,null,null,null,null,null,"",null,"","","","","","","",{"$f":"IF(P444=\"\",\"\",COUNTIF(P445:$P$2084,P444))","v":""},""]
[null,null,null,null,null,null,null,"",null,"","","","","","","",{"$f":"IF(P445=\"\",\"\",COUNTIF(P446:$P$2084,P445))","v":""},""]
[null,null,null,null,null,null,null,"",null,"","","","","","","",{"$f":"IF(P446=\"\",\"\",COUNTIF(P447:$P$2084,P446))","v":""},""]
[null,null,null,null,null,null,null,"",null,"","","","","","","",{"$f":"IF(P447=\"\",\"\",COUNTIF(P448:$P$2084,P447))","v":""},""]
[null,null,null,null,null,null,null,"",null,"","","","","","","",{"$f":"IF(P448=\"\",\"\",COUNTIF(P449:$P$2084,P448))","v":""},""]
[null,null,null,null,null,null,null,"",null,"","","","","","","",{"$f":"IF(P449=\"\",\"\",COUNTIF(P450:$P$2084,P449))","v":""},""]
[null,null,null,null,null,null,null,"",null,"","","","","","","",{"$f":"IF(P450=\"\",\"\",COUNTIF(P451:$P$2084,P450))","v":""},""]
[null,null,null,null,null,null,null,"",null,"","","","","","","",{"$f":"IF(P451=\"\",\"\",COUNTIF(P452:$P$2084,P451))","v":""},""]
[null,null,null,null,null,null,null,"",null,"","","","","","","",{"$f":"IF(P452=\"\",\"\",COUNTIF(P453:$P$2084,P452))","v":""},""]
[null,null,null,null,null,null,null,"",null,"","","","","","","",{"$f":"IF(P453=\"\",\"\",COUNTIF(P454:$P$2084,P453))","v":""},""]
[null,null,null,null,null,null,null,"",null,"","","","","","","",{"$f":"IF(P454=\"\",\"\",COUNTIF(P455:$P$2084,P454))","v":""},""]
[null,null,null,null,null,null,null,"",null,"","","","","","","",{"$f":"IF(P455=\"\",\"\",COUNTIF(P456:$P$2084,P455))","v":""},""]
[null,null,null,null,null,null,null,"",null,"","","","","","","",{"$f":"IF(P456=\"\",\"\",COUNTIF(P457:$P$2084,P456))","v":""},""]
[null,null,null,null,null,null,null,"",null,"","","","","","","",{"$f":"IF(P457=\"\",\"\",COUNTIF(P458:$P$2084,P457))","v":""},""]
[null,null,null,null,null,null,null,"",null,"","","","","","","",{"$f":"IF(P458=\"\",\"\",COUNTIF(P459:$P$2084,P458))","v":""},""]
[null,null,null,null,null,null,null,{"$f":"IF(ISBLANK(F459),\"\",SUM(G459*60)/F459)","v":""},null,"",{"$f":"IF(NOT(ISBLANK(G459)),IF(A459>0,10*G459,\"\"),\"\")","v":""},{"$f":"IF(NOT(ISBLANK(G459)),IF(A459> 0,10*SUM(A459*G459),\"\"),\"\")","v":""},{"$f":"IF(NOT(ISBLANK(H459)),IF(A459> 0,G459/2*10,\"\"),\"\")","v":""},"","",{"$f":"A459&D459&E459","v":""},{"$f":"IF(P459=\"\",\"\",COUNTIF(P460:$P$2084,P459))","v":""},""]
[null,null,null,null,null,null,null,"",null,{"$f":"IF(NOT(ISBLANK(G460)),G460*I460,\"\")","v":""},"","","",{"$f":"IF(NOT(ISBLANK(G460)),SUM(K460:M460),\"\")","v":""},{"$f":"IF(NOT(ISBLANK(I460)),I460*N460,\"\")","v":""},"",{"$f":"IF(P460=\"\",\"\",COUNTIF(P461:$P$2084,P460))","v":""},{"$f":"IF(Q460>0,RIGHT(P460,2),\"\")","v":""}]
[null,null,null,null,null,null,null,"",null,"","","","","","","",{"$f":"IF(P461=\"\",\"\",COUNTIF(P462:$P$2084,P461))","v":""},""]
[null,null,null,null,null,null,null,"",null,"","","","","","","",{"$f":"IF(P462=\"\",\"\",COUNTIF(P463:$P$2084,P462))","v":""},""]
[null,null,null,null,null,null,null,"",null,"","","","","","","",{"$f":"IF(P463=\"\",\"\",COUNTIF(P464:$P$2084,P463))","v":""},""]
[null,null,null,null,null,null,null,"",null,"","","","","","","",{"$f":"IF(P464=\"\",\"\",COUNTIF(P465:$P$2084,P464))","v":""},""]
[null,null,null,null,null,null,null,"",null,"","","","","","","",{"$f":"IF(P465=\"\",\"\",COUNTIF(P466:$P$2084,P465))","v":""},""]
[null,null,null,null,null,null,null,"",null,"","","","","","","",{"$f":"IF(P466=\"\",\"\",COUNTIF(P467:$P$2084,P466))","v":""},""]
[null,null,null,null,null,null,null,"",null,"","","","","","","",{"$f":"IF(P467=\"\",\"\",COUNTIF(P468:$P$2084,P467))","v":""},""]
[null,null,null,null,null,null,null,"",null,"","","","","","","",{"$f":"IF(P468=\"\",\"\",COUNTIF(P469:$P$2084,P468))","v":""},""]
[null,null,null,null,null,null,null,"",null,"","","","","","","",{"$f":"IF(P469=\"\",\"\",COUNTIF(P470:$P$2084,P469))","v":""},""]
[null,null,null,null,null,null,null,"",null,"","","","","","","",{"$f":"IF(P470=\"\",\"\",COUNTIF(P471:$P$2084,P470))","v":""},""]
[null,null,null,null,null,null,null,"",null,"","","","","","","",{"$f":"IF(P471=\"\",\"\",COUNTIF(P472:$P$2084,P471))","v":""},""]
[null,null,null,null,null,null,null,"",null,"","","","","","","",{"$f":"IF(P472=\"\",\"\",COUNTIF(P473:$P$2084,P472))","v":""},""]
[null,null,null,null,null,null,null,"",null,"","","","","","","",{"$f":"IF(P473=\"\",\"\",COUNTIF(P474:$P$2084,P473))","v":""},""]
[null,null,null,null,null,null,null,"",null,"","","","","","","",{"$f":"IF(P474=\"\",\"\",COUNTIF(P475:$P$2084,P474))","v":""},""]
[null,null,null,null,null,null,null,"",null,"","","","","","","",{"$f":"IF(P475=\"\",\"\",COUNTIF(P476:$P$2084,P475))","v":""},""]
[null,null,null,null,null,null,null,"",null,"","","","","","","",{"$f":"IF(P476=\"\",\"\",COUNTIF(P477:$P$2084,P476))","v":""},""]
[null,null,null,null,null,null,null,"",null,"","","","","","","",{"$f":"IF(P477=\"\",\"\",COUNTIF(P478:$P$2084,P477))","v":""},""]
[null,null,null,null,null,null,null,"",null,"","","","","","","",{"$f":"IF(P478=\"\",\"\",COUNTIF(P479:$P$2084,P478))","v":""},""]
[null,null,null,null,null,null,null,"",null,"","","","","","","",{"$f":"IF(P479=\"\",\"\",COUNTIF(P480:$P$2084,P479))","v":""},""]
[null,null,null,null,null,null,null,"",null,"","","","","","","",{"$f":"IF(P480=\"\",\"\",COUNTIF(P481:$P$2084,P480))","v":""},""]
[null,null,null,null,null,null,null,"",null,"","","","","","","",{"$f":"IF(P481=\"\",\"\",COUNTIF(P482:$P$2084,P481))","v":""},""]
[null,null,null,null,null,null,null,"",null,"","","","","","","",{"$f":"IF(P482=\"\",\"\",COUNTIF(P483:$P$2084,P482))","v":""},""]
[null,null,null,null,null,null,null,"",null,"","","","","","","",{"$f":"IF(P483=\"\",\"\",COUNTIF(P484:$P$2084,P483))","v":""},""]
[null,null,null,null,null,null,null,"",null,"","","","","","","",{"$f":"IF(P484=\"\",\"\",COUNTIF(P485:$P$2084,P484))","v":""},""]
[null,null,null,null,null,null,null,"",null,"","","","","","","",{"$f":"IF(P485=\"\",\"\",COUNTIF(P486:$P$2084,P485))","v":""},""]
[null,null,null,null,null,null,null,"",null,"","","","","","","",{"$f":"IF(P486=\"\",\"\",COUNTIF(P487:$P$2084,P486))","v":""},""]
[null,null,null,null,null,null,null,"",null,"","","","","","","",{"$f":"IF(P487=\"\",\"\",COUNTIF(P488:$P$2084,P487))","v":""},""]
[null,null,null,null,null,null,null,"",null,"","","","","","","",{"$f":"IF(P488=\"\",\"\",COUNTIF(P489:$P$2084,P488))","v":""},""]
[null,null,null,null,null,null,null,"",null,"","","","","","","",{"$f":"IF(P489=\"\",\"\",COUNTIF(P490:$P$2084,P489))","v":""},""]
[null,null,null,null,null,null,null,"",null,"","","","","","","",{"$f":"IF(P490=\"\",\"\",COUNTIF(P491:$P$2084,P490))","v":""},""]
[null,null,null,null,null,null,null,"",null,"","","","","","","",{"$f":"IF(P491=\"\",\"\",COUNTIF(P492:$P$2084,P491))","v":""},""]
[null,null,null,null,null,null,null,"",null,"","","","","","","",{"$f":"IF(P492=\"\",\"\",COUNTIF(P493:$P$2084,P492))","v":""},""]
[null,null,null,null,null,null,null,"",null,"","","","","","","",{"$f":"IF(P493=\"\",\"\",COUNTIF(P494:$P$2084,P493))","v":""},""]
[null,null,null,null,null,null,null,"",null,"","","","","","","",{"$f":"IF(P494=\"\",\"\",COUNTIF(P495:$P$2084,P494))","v":""},""]
[null,null,null,null,null,null,null,"",null,"","","","","","","",{"$f":"IF(P495=\"\",\"\",COUNTIF(P496:$P$2084,P495))","v":""},""]
[null,null,null,null,null,null,null,"",null,"","","","","","","",{"$f":"IF(P496=\"\",\"\",COUNTIF(P497:$P$2084,P496))","v":""},""]
[null,null,null,null,null,null,null,"",null,"","","","","","","",{"$f":"IF(P497=\"\",\"\",COUNTIF(P498:$P$2084,P497))","v":""},""]
[null,null,null,null,null,null,null,"",null,"","","","","","","",{"$f":"IF(P498=\"\",\"\",COUNTIF(P499:$P$2084,P498))","v":""},""]
[null,null,null,null,null,null,null,"",null,"","","","","","","",{"$f":"IF(P499=\"\",\"\",COUNTIF(P500:$P$2084,P499))","v":""},""]
[null,null,null,null,null,null,null,"",null,"","","","","","","",{"$f":"IF(P500=\"\",\"\",COUNTIF(P501:$P$2084,P500))","v":""},""]
[null,null,null,null,null,null,null,"",null,"","","","","","","",{"$f":"IF(P501=\"\",\"\",COUNTIF(P502:$P$2084,P501))","v":""},""]
[null,null,null,null,null,null,null,"",null,"","","","","","","",{"$f":"IF(P502=\"\",\"\",COUNTIF(P503:$P$2084,P502))","v":""},""]
[null,null,null,null,null,null,null,"",null,"","","","","","","",{"$f":"IF(P503=\"\",\"\",COUNTIF(P504:$P$2084,P503))","v":""},""]
[null,null,null,null,null,null,null,"",null,"","","","","","","",{"$f":"IF(P504=\"\",\"\",COUNTIF(P505:$P$2084,P504))","v":""},""]
[null,null,null,null,null,null,null,"",null,"","","","","","","",{"$f":"IF(P505=\"\",\"\",COUNTIF(P506:$P$2084,P505))","v":""},""]
[null,null,null,null,null,null,null,"",null,"","","","","","","",{"$f":"IF(P506=\"\",\"\",COUNTIF(P507:$P$2084,P506))","v":""},""]
[null,null,null,null,null,null,null,"",null,"","","","","","","",{"$f":"IF(P507=\"\",\"\",COUNTIF(P508:$P$2084,P507))","v":""},""]
[null,null,null,null,null,null,null,"",null,"","","","","","","",{"$f":"IF(P508=\"\",\"\",COUNTIF(P509:$P$2084,P508))","v":""},""]
[null,null,null,null,null,null,null,"",null,"","","","","","","",{"$f":"IF(P509=\"\",\"\",COUNTIF(P510:$P$2084,P509))","v":""},""]
[null,null,null,null,null,null,null,"",null,"","","","","","","",{"$f":"IF(P510=\"\",\"\",COUNTIF(P511:$P$2084,P510))","v":""},""]
[null,null,null,null,null,null,null,"",null,"","","","","","","",{"$f":"IF(P511=\"\",\"\",COUNTIF(P512:$P$2084,P511))","v":""},""]
[null,null,null,null,null,null,null,"",null,"","","","","","","",{"$f":"IF(P512=\"\",\"\",COUNTIF(P513:$P$2084,P512))","v":""},""]
[null,null,null,null,null,null,null,"",null,"","","","","","","",{"$f":"IF(P513=\"\",\"\",COUNTIF(P514:$P$2084,P513))","v":""},""]
[null,null,null,null,null,null,null,"",null,"","","","","","","",{"$f":"IF(P514=\"\",\"\",COUNTIF(P515:$P$2084,P514))","v":""},""]
[null,null,null,null,null,null,null,"",null,"","","","","","","",{"$f":"IF(P515=\"\",\"\",COUNTIF(P516:$P$2084,P515))","v":""},""]
[null,null,null,null,null,null,null,"",null,"","","","","","","",{"$f":"IF(P516=\"\",\"\",COUNTIF(P517:$P$2084,P516))","v":""},""]
[null,null,null,null,null,null,null,"",null,"","","","","","","",{"$f":"IF(P517=\"\",\"\",COUNTIF(P518:$P$2084,P517))","v":""},""]
[null,null,null,null,null,null,null,"",null,"","","","","","","",{"$f":"IF(P518=\"\",\"\",COUNTIF(P519:$P$2084,P518))","v":""},""]
[null,null,null,null,null,null,null,"",null,"","","","","","","",{"$f":"IF(P519=\"\",\"\",COUNTIF(P520:$P$2084,P519))","v":""},""]
[null,null,null,null,null,null,null,"",null,"","","","","","","",{"$f":"IF(P520=\"\",\"\",COUNTIF(P521:$P$2084,P520))","v":""},""]
[null,null,null,null,null,null,null,"",null,"","","","","","","",{"$f":"IF(P521=\"\",\"\",COUNTIF(P522:$P$2084,P521))","v":""},""]
[null,null,null,null,null,null,null,"",null,"","","","","","","",{"$f":"IF(P522=\"\",\"\",COUNTIF(P523:$P$2084,P522))","v":""},""]
[null,null,null,null,null,null,null,{"$f":"IF(ISBLANK(F523),\"\",SUM(G523*60)/F523)","v":""},null,"",{"$f":"IF(NOT(ISBLANK(G523)),IF(A523>0,10*G523,\"\"),\"\")","v":""},{"$f":"IF(NOT(ISBLANK(G523)),IF(A523> 0,10*SUM(A523*G523),\"\"),\"\")","v":""},{"$f":"IF(NOT(ISBLANK(H523)),IF(A523> 0,G523/2*10,\"\"),\"\")","v":""},"","",{"$f":"A523&D523&E523","v":""},{"$f":"IF(P523=\"\",\"\",COUNTIF(P524:$P$2084,P523))","v":""},""]
[null,null,null,null,null,null,null,"",null,{"$f":"IF(NOT(ISBLANK(G524)),G524*I524,\"\")","v":""},"","","",{"$f":"IF(NOT(ISBLANK(G524)),SUM(K524:M524),\"\")","v":""},{"$f":"IF(NOT(ISBLANK(I524)),I524*N524,\"\")","v":""},"",{"$f":"IF(P524=\"\",\"\",COUNTIF(P525:$P$2084,P524))","v":""},{"$f":"IF(Q524>0,RIGHT(P524,2),\"\")","v":""}]
[null,null,null,null,null,null,null,"",null,"","","","","","","",{"$f":"IF(P525=\"\",\"\",COUNTIF(P526:$P$2084,P525))","v":""},""]
[null,null,null,null,null,null,null,"",null,"","","","","","","",{"$f":"IF(P526=\"\",\"\",COUNTIF(P527:$P$2084,P526))","v":""},""]
[null,null,null,null,null,null,null,"",null,"","","","","","","",{"$f":"IF(P527=\"\",\"\",COUNTIF(P528:$P$2084,P527))","v":""},""]
[null,null,null,null,null,null,null,"",null,"","","","","","","",{"$f":"IF(P528=\"\",\"\",COUNTIF(P529:$P$2084,P528))","v":""},""]
[null,null,null,null,null,null,null,"",null,"","","","","","","",{"$f":"IF(P529=\"\",\"\",COUNTIF(P530:$P$2084,P529))","v":""},""]
[null,null,null,null,null,null,null,"",null,"","","","","","","",{"$f":"IF(P530=\"\",\"\",COUNTIF(P531:$P$2084,P530))","v":""},""]
[null,null,null,null,null,null,null,"",null,"","","","","","","",{"$f":"IF(P531=\"\",\"\",COUNTIF(P532:$P$2084,P531))","v":""},""]
[null,null,null,null,null,null,null,"",null,"","","","","","","",{"$f":"IF(P532=\"\",\"\",COUNTIF(P533:$P$2084,P532))","v":""},""]
[null,null,null,null,null,null,null,"",null,"","","","","","","",{"$f":"IF(P533=\"\",\"\",COUNTIF(P534:$P$2084,P533))","v":""},""]
[null,null,null,null,null,null,null,"",null,"","","","","","","",{"$f":"IF(P534=\"\",\"\",COUNTIF(P535:$P$2084,P534))","v":""},""]
[null,null,null,null,null,null,null,"",null,"","","","","","","",{"$f":"IF(P535=\"\",\"\",COUNTIF(P536:$P$2084,P535))","v":""},""]
[null,null,null,null,null,null,null,"",null,"","","","","","","",{"$f":"IF(P536=\"\",\"\",COUNTIF(P537:$P$2084,P536))","v":""},""]
[null,null,null,null,null,null,null,"",null,"","","","","","","",{"$f":"IF(P537=\"\",\"\",COUNTIF(P538:$P$2084,P537))","v":""},""]
[null,null,null,null,null,null,null,"",null,"","","","","","","",{"$f":"IF(P538=\"\",\"\",COUNTIF(P539:$P$2084,P538))","v":""},""]
[null,null,null,null,null,null,null,"",null,"","","","","","","",{"$f":"IF(P539=\"\",\"\",COUNTIF(P540:$P$2084,P539))","v":""},""]
[null,null,null,null,null,null,null,"",null,"","","","","","","",{"$f":"IF(P540=\"\",\"\",COUNTIF(P541:$P$2084,P540))","v":""},""]
[null,null,null,null,null,null,null,"",null,"","","","","","","",{"$f":"IF(P541=\"\",\"\",COUNTIF(P542:$P$2084,P541))","v":""},""]
[null,null,null,null,null,null,null,"",null,"","","","","","","",{"$f":"IF(P542=\"\",\"\",COUNTIF(P543:$P$2084,P542))","v":""},""]
[null,null,null,null,null,null,null,"",null,"","","","","","","",{"$f":"IF(P543=\"\",\"\",COUNTIF(P544:$P$2084,P543))","v":""},""]
[null,null,null,null,null,null,null,"",null,"","","","","","","",{"$f":"IF(P544=\"\",\"\",COUNTIF(P545:$P$2084,P544))","v":""},""]
[null,null,null,null,null,null,null,"",null,"","","","","","","",{"$f":"IF(P545=\"\",\"\",COUNTIF(P546:$P$2084,P545))","v":""},""]
[null,null,null,null,null,null,null,"",null,"","","","","","","",{"$f":"IF(P546=\"\",\"\",COUNTIF(P547:$P$2084,P546))","v":""},""]
[null,null,null,null,null,null,null,"",null,"","","","","","","",{"$f":"IF(P547=\"\",\"\",COUNTIF(P548:$P$2084,P547))","v":""},""]
[null,null,null,null,null,null,null,"",null,"","","","","","","",{"$f":"IF(P548=\"\",\"\",COUNTIF(P549:$P$2084,P548))","v":""},""]
[null,null,null,null,null,null,null,"",null,"","","","","","","",{"$f":"IF(P549=\"\",\"\",COUNTIF(P550:$P$2084,P549))","v":""},""]
[null,null,null,null,null,null,null,"",null,"","","","","","","",{"$f":"IF(P550=\"\",\"\",COUNTIF(P551:$P$2084,P550))","v":""},""]
[null,null,null,null,null,null,null,"",null,"","","","","","","",{"$f":"IF(P551=\"\",\"\",COUNTIF(P552:$P$2084,P551))","v":""},""]
[null,null,null,null,null,null,null,"",null,"","","","","","","",{"$f":"IF(P552=\"\",\"\",COUNTIF(P553:$P$2084,P552))","v":""},""]
[null,null,null,null,null,null,null,"",null,"","","","","","","",{"$f":"IF(P553=\"\",\"\",COUNTIF(P554:$P$2084,P553))","v":""},""]
[null,null,null,null,null,null,null,"",null,"","","","","","","",{"$f":"IF(P554=\"\",\"\",COUNTIF(P555:$P$2084,P554))","v":""},""]
[null,null,null,null,null,null,null,"",null,"","","","","","","",{"$f":"IF(P555=\"\",\"\",COUNTIF(P556:$P$2084,P555))","v":""},""]
[null,null,null,null,null,null,null,"",null,"","","","","","","",{"$f":"IF(P556=\"\",\"\",COUNTIF(P557:$P$2084,P556))","v":""},""]
[null,null,null,null,null,null,null,"",null,"","","","","","","",{"$f":"IF(P557=\"\",\"\",COUNTIF(P558:$P$2084,P557))","v":""},""]
[null,null,null,null,null,null,null,"",null,"","","","","","","",{"$f":"IF(P558=\"\",\"\",COUNTIF(P559:$P$2084,P558))","v":""},""]
[null,null,null,null,null,null,null,"",null,"","","","","","","",{"$f":"IF(P559=\"\",\"\",COUNTIF(P560:$P$2084,P559))","v":""},""]
[null,null,null,null,null,null,null,"",null,"","","","","","","",{"$f":"IF(P560=\"\",\"\",COUNTIF(P561:$P$2084,P560))","v":""},""]
[null,null,null,null,null,null,null,"",null,"","","","","","","",{"$f":"IF(P561=\"\",\"\",COUNTIF(P562:$P$2084,P561))","v":""},""]
[null,null,null,null,null,null,null,"",null,"","","","","","","",{"$f":"IF(P562=\"\",\"\",COUNTIF(P563:$P$2084,P562))","v":""},""]
[null,null,null,null,null,null,null,"",null,"","","","","","","",{"$f":"IF(P563=\"\",\"\",COUNTIF(P564:$P$2084,P563))","v":""},""]
[null,null,null,null,null,null,null,"",null,"","","","","","","",{"$f":"IF(P564=\"\",\"\",COUNTIF(P565:$P$2084,P564))","v":""},""]
[null,null,null,null,null,null,null,"",null,"","","","","","","",{"$f":"IF(P565=\"\",\"\",COUNTIF(P566:$P$2084,P565))","v":""},""]
[null,null,null,null,null,null,null,"",null,"","","","","","","",{"$f":"IF(P566=\"\",\"\",COUNTIF(P567:$P$2084,P566))","v":""},""]
[null,null,null,null,null,null,null,"",null,"","","","","","","",{"$f":"IF(P567=\"\",\"\",COUNTIF(P568:$P$2084,P567))","v":""},""]
[null,null,null,null,null,null,null,"",null,"","","","","","","",{"$f":"IF(P568=\"\",\"\",COUNTIF(P569:$P$2084,P568))","v":""},""]
[null,null,null,null,null,null,null,"",null,"","","","","","","",{"$f":"IF(P569=\"\",\"\",COUNTIF(P570:$P$2084,P569))","v":""},""]
[null,null,null,null,null,null,null,"",null,"","","","","","","",{"$f":"IF(P570=\"\",\"\",COUNTIF(P571:$P$2084,P570))","v":""},""]
[null,null,null,null,null,null,null,"",null,"","","","","","","",{"$f":"IF(P571=\"\",\"\",COUNTIF(P572:$P$2084,P571))","v":""},""]
[null,null,null,null,null,null,null,"",null,"","","","","","","",{"$f":"IF(P572=\"\",\"\",COUNTIF(P573:$P$2084,P572))","v":""},""]
[null,null,null,null,null,null,null,"",null,"","","","","","","",{"$f":"IF(P573=\"\",\"\",COUNTIF(P574:$P$2084,P573))","v":""},""]
[null,null,null,null,null,null,null,"",null,"","","","","","","",{"$f":"IF(P574=\"\",\"\",COUNTIF(P575:$P$2084,P574))","v":""},""]
[null,null,null,null,null,null,null,"",null,"","","","","","","",{"$f":"IF(P575=\"\",\"\",COUNTIF(P576:$P$2084,P575))","v":""},""]
[null,null,null,null,null,null,null,"",null,"","","","","","","",{"$f":"IF(P576=\"\",\"\",COUNTIF(P577:$P$2084,P576))","v":""},""]
[null,null,null,null,null,null,null,"",null,"","","","","","","",{"$f":"IF(P577=\"\",\"\",COUNTIF(P578:$P$2084,P577))","v":""},""]
[null,null,null,null,null,null,null,"",null,"","","","","","","",{"$f":"IF(P578=\"\",\"\",COUNTIF(P579:$P$2084,P578))","v":""},""]
[null,null,null,null,null,null,null,"",null,"","","","","","","",{"$f":"IF(P579=\"\",\"\",COUNTIF(P580:$P$2084,P579))","v":""},""]
[null,null,null,null,null,null,null,"",null,"","","","","","","",{"$f":"IF(P580=\"\",\"\",COUNTIF(P581:$P$2084,P580))","v":""},""]
[null,null,null,null,null,null,null,"",null,"","","","","","","",{"$f":"IF(P581=\"\",\"\",COUNTIF(P582:$P$2084,P581))","v":""},""]
[null,null,null,null,null,null,null,"",null,"","","","","","","",{"$f":"IF(P582=\"\",\"\",COUNTIF(P583:$P$2084,P582))","v":""},""]
[null,null,null,null,null,null,null,"",null,"","","","","","","",{"$f":"IF(P583=\"\",\"\",COUNTIF(P584:$P$2084,P583))","v":""},""]
[null,null,null,null,null,null,null,"",null,"","","","","","","",{"$f":"IF(P584=\"\",\"\",COUNTIF(P585:$P$2084,P584))","v":""},""]
[null,null,null,null,null,null,null,"",null,"","","","","","","",{"$f":"IF(P585=\"\",\"\",COUNTIF(P586:$P$2084,P585))","v":""},""]
[null,null,null,null,null,null,null,"",null,"","","","","","","",{"$f":"IF(P586=\"\",\"\",COUNTIF(P587:$P$2084,P586))","v":""},""]
[null,null,null,null,null,null,null,{"$f":"IF(ISBLANK(F587),\"\",SUM(G587*60)/F587)","v":""},null,"",{"$f":"IF(NOT(ISBLANK(G587)),IF(A587>0,10*G587,\"\"),\"\")","v":""},{"$f":"IF(NOT(ISBLANK(G587)),IF(A587> 0,10*SUM(A587*G587),\"\"),\"\")","v":""},{"$f":"IF(NOT(ISBLANK(H587)),IF(A587> 0,G587/2*10,\"\"),\"\")","v":""},"","",{"$f":"A587&D587&E587","v":""},{"$f":"IF(P587=\"\",\"\",COUNTIF(P588:$P$2084,P587))","v":""},""]
[null,null,null,null,null,null,null,"",null,{"$f":"IF(NOT(ISBLANK(G588)),G588*I588,\"\")","v":""},"","","",{"$f":"IF(NOT(ISBLANK(G588)),SUM(K588:M588),\"\")","v":""},{"$f":"IF(NOT(ISBLANK(I588)),I588*N588,\"\")","v":""},"",{"$f":"IF(P588=\"\",\"\",COUNTIF(P589:$P$2084,P588))","v":""},{"$f":"IF(Q588>0,RIGHT(P588,2),\"\")","v":""}]
[null,null,null,null,null,null,null,"",null,"","","","","","","",{"$f":"IF(P589=\"\",\"\",COUNTIF(P590:$P$2084,P589))","v":""},""]
[null,null,null,null,null,null,null,"",null,"","","","","","","",{"$f":"IF(P590=\"\",\"\",COUNTIF(P591:$P$2084,P590))","v":""},""]
[null,null,null,null,null,null,null,"",null,"","","","","","","",{"$f":"IF(P591=\"\",\"\",COUNTIF(P592:$P$2084,P591))","v":""},""]
[null,null,null,null,null,null,null,"",null,"","","","","","","",{"$f":"IF(P592=\"\",\"\",COUNTIF(P593:$P$2084,P592))","v":""},""]
[null,null,null,null,null,null,null,"",null,"","","","","","","",{"$f":"IF(P593=\"\",\"\",COUNTIF(P594:$P$2084,P593))","v":""},""]
[null,null,null,null,null,null,null,"",null,"","","","","","","",{"$f":"IF(P594=\"\",\"\",COUNTIF(P595:$P$2084,P594))","v":""},""]
[null,null,null,null,null,null,null,"",null,"","","","","","","",{"$f":"IF(P595=\"\",\"\",COUNTIF(P596:$P$2084,P595))","v":""},""]
[null,null,null,null,null,null,null,"",null,"","","","","","","",{"$f":"IF(P596=\"\",\"\",COUNTIF(P597:$P$2084,P596))","v":""},""]
[null,null,null,null,null,null,null,"",null,"","","","","","","",{"$f":"IF(P597=\"\",\"\",COUNTIF(P598:$P$2084,P597))","v":""},""]
[null,null,null,null,null,null,null,"",null,"","","","","","","",{"$f":"IF(P598=\"\",\"\",COUNTIF(P599:$P$2084,P598))","v":""},""]
[null,null,null,null,null,null,null,"",null,"","","","","","","",{"$f":"IF(P599=\"\",\"\",COUNTIF(P600:$P$2084,P599))","v":""},""]
[null,null,null,null,null,null,null,"",null,"","","","","","","",{"$f":"IF(P600=\"\",\"\",COUNTIF(P601:$P$2084,P600))","v":""},""]
[null,null,null,null,null,null,null,"",null,"","","","","","","",{"$f":"IF(P601=\"\",\"\",COUNTIF(P602:$P$2084,P601))","v":""},""]
[null,null,null,null,null,null,null,"",null,"","","","","","","",{"$f":"IF(P602=\"\",\"\",COUNTIF(P603:$P$2084,P602))","v":""},""]
[null,null,null,null,null,null,null,"",null,"","","","","","","",{"$f":"IF(P603=\"\",\"\",COUNTIF(P604:$P$2084,P603))","v":""},""]
[null,null,null,null,null,null,null,"",null,"","","","","","","",{"$f":"IF(P604=\"\",\"\",COUNTIF(P605:$P$2084,P604))","v":""},""]
[null,null,null,null,null,null,null,"",null,"","","","","","","",{"$f":"IF(P605=\"\",\"\",COUNTIF(P606:$P$2084,P605))","v":""},""]
[null,null,null,null,null,null,null,"",null,"","","","","","","",{"$f":"IF(P606=\"\",\"\",COUNTIF(P607:$P$2084,P606))","v":""},""]
[null,null,null,null,null,null,null,"",null,"","","","","","","",{"$f":"IF(P607=\"\",\"\",COUNTIF(P608:$P$2084,P607))","v":""},""]
[null,null,null,null,null,null,null,"",null,"","","","","","","",{"$f":"IF(P608=\"\",\"\",COUNTIF(P609:$P$2084,P608))","v":""},""]
[null,null,null,null,null,null,null,"",null,"","","","","","","",{"$f":"IF(P609=\"\",\"\",COUNTIF(P610:$P$2084,P609))","v":""},""]
[null,null,null,null,null,null,null,"",null,"","","","","","","",{"$f":"IF(P610=\"\",\"\",COUNTIF(P611:$P$2084,P610))","v":""},""]
[null,null,null,null,null,null,null,"",null,"","","","","","","",{"$f":"IF(P611=\"\",\"\",COUNTIF(P612:$P$2084,P611))","v":""},""]
[null,null,null,null,null,null,null,{"$f":"IF(ISBLANK(F612),\"\",SUM(G612*60)/F612)","v":""},null,"","","","","","","",{"$f":"IF(P612=\"\",\"\",COUNTIF(P613:$P$2084,P612))","v":""},""]
[]
[]
[]
[{"$f":"COUNTIF($E$11:$E$612,A618)","v":0},0,0,0,0,0,0,0,"Normal"]
[{"$f":"COUNTIF($R$11:$R$612,A618)","v":0},0,0,0,0,0,0,0,"Duplicates"]
["FP","FS","FO","PP","PS","PO","PT","ST"]
[{"$f":"A616-A617","v":0},{"$f":"B616-B617","v":0},0,0,0,0,0,0,"Totals"]
[]
[]
[]
[]
[]
[]
[]
[]
[]
[]
[]
[]
[]
[null,null,null," "]

{"sheet":"LEAVE RATES","index":3,"n_rows":16,"n_cols":3,"rows_kept":16,"cut":false,"hidden":false,"merged":[]}
[]
[]
["                           VACATION DAYS EARNED EACH YEAR"]
[]
[]
[null,"DAYS PER","12-MONTH"]
["YEARS OF STATE SERVICE","MONTH EARNED","EMPLOYEES"]
["Less than 5 years",1.17,14]
[]
["5 but less than 10 years",1.42,17]
[]
["10 but less than 15 years",1.67,20]
[]
["15 but less than 20 years",1.92,23]
[]
["20 years or more",2.17,26]

{"sheet":"SUMMARY","index":4,"n_rows":57,"n_cols":21,"rows_kept":57,"cut":false,"hidden":false,"merged":[[54,13,54,20],[54,1,54,6],[54,7,54,12],[9,0,9,1],[26,0,26,1],[24,0,24,1],[25,0,25,1],[0,0,0,7],[1,0,1,7],[2,0,2,7],[3,0,3,7],[4,0,4,7]]}
["PUBLIC SCHOOLS OF NORTH CAROLINA"]
["STATE BOARD OF EDUCATION - DEPARTMENT OF PUBLIC INSTRUCTION"]
["OFFICE OF DISTRICT OPERATIONS/TRANSPORTATION SERVICES"]
[" DRIVER SALARY AND ROUTE TIMES REPORT"]
["2023-2024 - SUMMARY AND SIGNATURE PAGE"]
[]
["LEA NAME","(SELECT)"]
["LEA NUMBER",{"$f":"IFERROR(INDEX('DPI Use - LEA Info '!B2:B117,MATCH(B7,'DPI Use - LEA Info '!A2:A117,0),1),\"\")","v":" "}]
[]
["Driver Classification",null,null,"Preparer  Signature:______________________________________________________"]
["Full-time (permanent ) - \"FP\"",{"$f":"SUM('TD-2R-DETAIL'!A2092+'TD-2R-EC'!A619)","v":0},null,"Printed Name:___________________________________________________________"]
["Full-time perm. (split fund) - \"FS\"",{"$f":"SUM('TD-2R-DETAIL'!B2092+'TD-2R-EC'!B619)","v":0},null,"Date:______________________"]
["Full-time (other) - \"FO\"",{"$f":"SUM('TD-2R-DETAIL'!C2092+'TD-2R-EC'!C619)","v":0}]
["Part-time (permanent) - \"PP\"",{"$f":"SUM('TD-2R-DETAIL'!D2092+'TD-2R-EC'!D619)","v":0},null,"Transportation Director Signature:___________________________________________"]
["Part-time perm. (split fund) - \"PS\"",{"$f":"SUM('TD-2R-DETAIL'!E2092+'TD-2R-EC'!E619)","v":0},null,"Printed Name:___________________________________________________________"]
["Part-time (other) - \"PO\"",{"$f":"SUM('TD-2R-DETAIL'!F2092+'TD-2R-EC'!F619)","v":0},null,"Date:______________________"]
["Part-time (temporary) - \"PT",{"$f":"SUM('TD-2R-DETAIL'!G2092+'TD-2R-EC'!G619)","v":0}]
["Student - \"ST\"",{"$f":"SUM('TD-2R-DETAIL'!H2092+'TD-2R-EC'!H619)","v":0},null,"Superintendent Signature:_________________________________________________"]
["Total Drivers (Calculated)",{"$f":"SUM(B11+B12+B13+B14+B15+B16+B17+B18)","v":0},null,"Printed Name:___________________________________________________________"]
[null,null,null,"Date:______________________"]
[]
[]
["CALCULATED FIELDS",null,"NUMBER","ROUTE","DAILY","LEAVE","LEAVE","ROUTE"]
[null,null,"BUSES","HOURS","RATE","HOURS","COMP.","MILEAGE"]
["REGULAR ROUTE BUS TOTALS",null,{"$f":"'TD-2R-DETAIL'!B10","v":0},{"$f":"'TD-2R-DETAIL'!G10","v":0},{"$f":"'TD-2R-DETAIL'!J10","v":0},{"$f":"'TD-2R-DETAIL'!N10","v":0},{"$f":"'TD-2R-DETAIL'!O10","v":0},{"$f":"'TD-2R-DETAIL'!F10","v":0}]
["EC ROUTE BUS TOTALS",null,{"$f":"'TD-2R-EC'!B10","v":0},{"$f":"'TD-2R-EC'!G10","v":0},{"$f":"'TD-2R-EC'!J10","v":0},{"$f":"'TD-2R-EC'!N10","v":0},{"$f":"'TD-2R-EC'!O10","v":0},{"$f":"'TD-2R-EC'!F10","v":0}]
["GRAND TOTALS",null,{"$f":"SUM(C25+C26)","v":0},0,0,0,0,0]
[]
[]
[]
[]
[]
[]
[]
[]
[]
[]
[]
[]
[]
[]
[]
[]
[]
[]
[]
[]
[]
[]
[]
[]
[]
[]
[]
[null,"Route",null,null,null,null,null,"EC",null,null,null,null,null,"Drivers"]
["LEA","Buses","Route Hours","Daily Rate","Leave Hours","Leave Comp","Mileage","Buses","Route Hours","Daily Rate","Leave Hours","Leave Comp","Mileage","FP","FS","FO","PP","PS","PO","PT","ST"]
[{"$f":"INT(B8)","v":{"$error":"#VALUE!"}},{"$f":"C25","v":0},0,0,0,0,0,{"$f":"C26","v":0},0,0,0,0,0,{"$f":"B11","v":0},{"$f":"B12","v":0},{"$f":"B13","v":0},{"$f":"B14","v":0},{"$f":"B15","v":0},{"$f":"B16","v":0},{"$f":"B17","v":0},{"$f":"B18","v":0}]

{"sheet":"DPI Use - LEA Info ","index":5,"n_rows":117,"n_cols":2,"rows_kept":117,"cut":false,"hidden":true,"merged":[]}
["LEA Name","LEA #"]
["(SELECT)"," "]
["ALAMANCE","  010"]
["ALEXANDER","  020"]
["ALLEGHANY","  030"]
["ANSON","  040"]
["ASHE","  050"]
["AVERY","  060"]
["BEAUFORT","  070"]
["BERTIE","  080"]
["BLADEN","  090"]
["BRUNSWICK","  100"]
["BUNCOMBE","  110"]
["ASHEVILLE CITY","  111"]
["BURKE","  120"]
["CABARRUS","  130"]
["KANNAPOLIS CITY","  132"]
["CALDWELL","  140"]
["CAMDEN","  150"]
["CARTERET","  160"]
["CASWELL","  170"]
["CATAWBA","  180"]
["HICKORY CITY","  181"]
["NEWTON-CONOVER CITY","  182"]
["CHATHAM","  190"]
["CHEROKEE","  200"]
["CHOWAN","  210"]
["CLAY","  220"]
["CLEVELAND","  230"]
["COLUMBUS","  240"]
["WHITEVILLE CITY","  241"]
["CRAVEN","  250"]
["CUMBERLAND","  260"]
["CURRITUCK","  270"]
["DARE","  280"]
["DAVIDSON","  290"]
["LEXINGTON CITY","  291"]
["THOMASVILLE CITY","  292"]
["DAVIE","  300"]
["DUPLIN","  310"]
["DURHAM","  320"]
["EDGECOMBE","  330"]
["FORSYTH","  340"]
["FRANKLIN","  350"]
["GASTON","  360"]
["GATES","  370"]
["GRAHAM","  380"]
["GRANVILLE","  390"]
["GREENE","  400"]
["GUILFORD","  410"]
["HALIFAX","  420"]
["ROANOKE RAPIDS CITY","  421"]
["WELDON CITY","  422"]
["HARNETT","  430"]
["HAYWOOD","  440"]
["HENDERSON","  450"]
["HERTFORD","  460"]
["HOKE","  470"]
["HYDE","  480"]
["IREDELL","  490"]
["MOORESVILLE CITY","  491"]
["JACKSON","  500"]
["JOHNSTON","  510"]
["JONES","  520"]
["LEE","  530"]
["LENOIR","  540"]
["LINCOLN","  550"]
["MACON","  560"]
["MADISON","  570"]
["MARTIN","  580"]
["McDOWELL","  590"]
["MECKLENBURG","  600"]
["MITCHELL","  610"]
["MONTGOMERY","  620"]
["MOORE","  630"]
["NASH","  640"]
["NEW HANOVER","  650"]
["NORTHAMPTON","  660"]
["ONSLOW","  670"]
["ORANGE","  680"]
["CHAPEL HILL CITY","  681"]
["PAMLICO","  690"]
["PASQUOTANK","  700"]
["PENDER","  710"]
["PERQUIMANS","  720"]
["PERSON","  730"]
["PITT","  740"]
["POLK","  750"]
["RANDOLPH","  760"]
["ASHEBORO CITY","  761"]
["RICHMOND","  770"]
["ROBESON","  780"]
["ROCKINGHAM","  790"]
["ROWAN","  800"]
["RUTHERFORD","  810"]
["SAMPSON","  820"]
["CLINTON CITY","  821"]
["SCOTLAND","  830"]
["STANLY","  840"]
["STOKES","  850"]
["SURRY","  860"]
["ELKIN CITY","  861"]
["MT AIRY CITY","  862"]
["SWAIN","  870"]
["TRANSYLVANIA","  880"]
["TYRRELL","  890"]
["UNION","  900"]
["VANCE","  910"]
["WAKE","  920"]
["WARREN","  930"]
["WASHINGTON","  940"]
["WATAUGA","  950"]
["WAYNE","  960"]
["WILKES","  970"]
["WILSON","  980"]
["YADKIN","  990"]
["YANCEY","  995"]